BEGIN:VCALENDAR
VERSION:2.0
PRODID:-//Discover Wisconsin - ECPv6.15.17.1//NONSGML v1.0//EN
CALSCALE:GREGORIAN
METHOD:PUBLISH
X-WR-CALNAME:Discover Wisconsin
X-ORIGINAL-URL:https://discoverwisconsin.com
X-WR-CALDESC:Events for Discover Wisconsin
REFRESH-INTERVAL;VALUE=DURATION:PT1H
X-Robots-Tag:noindex
X-PUBLISHED-TTL:PT1H
BEGIN:VTIMEZONE
TZID:America/Chicago
BEGIN:DAYLIGHT
TZOFFSETFROM:-0600
TZOFFSETTO:-0500
TZNAME:CDT
DTSTART:20230312T080000
END:DAYLIGHT
BEGIN:STANDARD
TZOFFSETFROM:-0500
TZOFFSETTO:-0600
TZNAME:CST
DTSTART:20231105T070000
END:STANDARD
BEGIN:DAYLIGHT
TZOFFSETFROM:-0600
TZOFFSETTO:-0500
TZNAME:CDT
DTSTART:20240310T080000
END:DAYLIGHT
BEGIN:STANDARD
TZOFFSETFROM:-0500
TZOFFSETTO:-0600
TZNAME:CST
DTSTART:20241103T070000
END:STANDARD
BEGIN:DAYLIGHT
TZOFFSETFROM:-0600
TZOFFSETTO:-0500
TZNAME:CDT
DTSTART:20250309T080000
END:DAYLIGHT
BEGIN:STANDARD
TZOFFSETFROM:-0500
TZOFFSETTO:-0600
TZNAME:CST
DTSTART:20251102T070000
END:STANDARD
END:VTIMEZONE
BEGIN:VEVENT
DTSTART;TZID=America/Chicago:20240517T080000
DTEND;TZID=America/Chicago:20240517T160000
DTSTAMP:20260425T081154
CREATED:20240301T165535Z
LAST-MODIFIED:20240301T165624Z
UID:10000009-1715932800-1715961600@discoverwisconsin.com
SUMMARY:Fishing Has No Boundaries
DESCRIPTION:Originated in 1988 and held annually on lake Chippewa Flowage\, this “Granddaddy” of FHNB events brings anglers with disabilities and volunteers together for a unique fishing experience. Join more than 100 participants and dozens of volunteers at the Lake Chippewa Campground for this uplifting event.
URL:https://discoverwisconsin.com/event/fishing-has-no-boundaries/2024-05-17/
LOCATION:Lake Chippewa Campground\, 8380 N County Road CC\, Hayward\, WI\, 54843\, United States
ATTACH;FMTTYPE=image/webp:https://discoverwisconsin.com/wp-content/uploads/2024/03/28c5c152-5945-4634-aa5d-2c9d42036134-add_your_photo_here-FHNB-Event-Featured.webp
END:VEVENT
END:VCALENDAR