BEGIN:VCALENDAR
VERSION:2.0
PRODID:-//Discover Wisconsin - ECPv6.15.17.1//NONSGML v1.0//EN
CALSCALE:GREGORIAN
METHOD:PUBLISH
X-WR-CALNAME:Discover Wisconsin
X-ORIGINAL-URL:https://discoverwisconsin.com
X-WR-CALDESC:Events for Discover Wisconsin
REFRESH-INTERVAL;VALUE=DURATION:PT1H
X-Robots-Tag:noindex
X-PUBLISHED-TTL:PT1H
BEGIN:VTIMEZONE
TZID:America/Chicago
BEGIN:DAYLIGHT
TZOFFSETFROM:-0600
TZOFFSETTO:-0500
TZNAME:CDT
DTSTART:20230312T080000
END:DAYLIGHT
BEGIN:STANDARD
TZOFFSETFROM:-0500
TZOFFSETTO:-0600
TZNAME:CST
DTSTART:20231105T070000
END:STANDARD
BEGIN:DAYLIGHT
TZOFFSETFROM:-0600
TZOFFSETTO:-0500
TZNAME:CDT
DTSTART:20240310T080000
END:DAYLIGHT
BEGIN:STANDARD
TZOFFSETFROM:-0500
TZOFFSETTO:-0600
TZNAME:CST
DTSTART:20241103T070000
END:STANDARD
BEGIN:DAYLIGHT
TZOFFSETFROM:-0600
TZOFFSETTO:-0500
TZNAME:CDT
DTSTART:20250309T080000
END:DAYLIGHT
BEGIN:STANDARD
TZOFFSETFROM:-0500
TZOFFSETTO:-0600
TZNAME:CST
DTSTART:20251102T070000
END:STANDARD
END:VTIMEZONE
BEGIN:VEVENT
DTSTART;TZID=America/Chicago:20240608T080000
DTEND;TZID=America/Chicago:20240608T130000
DTSTAMP:20260425T081154
CREATED:20240308T153413Z
LAST-MODIFIED:20240308T153413Z
UID:10000415-1717833600-1717851600@discoverwisconsin.com
SUMMARY:Beloit Farmers' Market
DESCRIPTION:Beloit Farmers’ Market has been drawing thousands of locals and visitors to the heart of Downtown Beloit since 1975! There will be more than 130 vendors this summer continuing to be the second largest farmers’ market in Wisconsin\, second to Dane County. Shop the wonderful open-air market in the heart of historic Downtown Beloit. The Market is an award-winning community tradition\, with vendors selling local produce\, organics\, baked goods\, honey\, jams & jellies\, bedding plants\, fish\, meat\, eggs & cheese\, fresh flowers\, and more. The market is open rain or shine\, and pets are not permitted.
URL:https://discoverwisconsin.com/event/beloit-farmers-market/2024-06-08/
LOCATION:Downtown Beloit\, 300 Block of State Street\, Beloit\, WI\, 53511\, United States
ATTACH;FMTTYPE=image/jpeg:https://discoverwisconsin.com/wp-content/uploads/2024/03/94943918-27e5-42a9-8c8f-e511a20d5dda-add_your_photo_here-VB-Farmers-Market-2023-0073-scaled.jpeg
END:VEVENT
BEGIN:VEVENT
DTSTART;TZID=America/Chicago:20240608T130000
DTEND;TZID=America/Chicago:20240608T160000
DTSTAMP:20260425T081154
CREATED:20240308T153844Z
LAST-MODIFIED:20240308T153844Z
UID:10000446-1717851600-1717862400@discoverwisconsin.com
SUMMARY:Beckman Mill Guided Tours
DESCRIPTION:The Beckman Mill is open for public tours on Saturdays and Sundays\, 1-4 pm\, May-October. Corn Grinding and Blacksmithing Demonstrations take place on the first Saturday of each month. Beckman Mill is located at Beckman Mill County Park\, 6 miles west of Beloit\, Wisconsin. On the grounds of the 50-acre county park\, you will see an authentically restored 1868 grist mill\, a new dam\, mill pond\, fish ladder\, footbridge\, sawmill display\, 1840s cooperage\, visitor center\, gift shop\, creamery\, blacksmith shop\, picnic shelter\, vintage garden\, nature trail and more.
URL:https://discoverwisconsin.com/event/beckman-mill-guided-tours/2024-06-08/
LOCATION:Beckman Hill\, 11600 S. County Road H\, Beloit\, WI\, 53511\, United States
ATTACH;FMTTYPE=image/jpeg:https://discoverwisconsin.com/wp-content/uploads/2024/03/155819a7-31c5-4d74-ab53-692fd282923a-add_your_photo_here-beckman_mill_2019_0077-scaled.jpeg
END:VEVENT
END:VCALENDAR