BEGIN:VCALENDAR
VERSION:2.0
PRODID:-//Discover Wisconsin - ECPv6.15.17.1//NONSGML v1.0//EN
CALSCALE:GREGORIAN
METHOD:PUBLISH
X-WR-CALNAME:Discover Wisconsin
X-ORIGINAL-URL:https://discoverwisconsin.com
X-WR-CALDESC:Events for Discover Wisconsin
REFRESH-INTERVAL;VALUE=DURATION:PT1H
X-Robots-Tag:noindex
X-PUBLISHED-TTL:PT1H
BEGIN:VTIMEZONE
TZID:America/Chicago
BEGIN:DAYLIGHT
TZOFFSETFROM:-0600
TZOFFSETTO:-0500
TZNAME:CDT
DTSTART:20230312T080000
END:DAYLIGHT
BEGIN:STANDARD
TZOFFSETFROM:-0500
TZOFFSETTO:-0600
TZNAME:CST
DTSTART:20231105T070000
END:STANDARD
BEGIN:DAYLIGHT
TZOFFSETFROM:-0600
TZOFFSETTO:-0500
TZNAME:CDT
DTSTART:20240310T080000
END:DAYLIGHT
BEGIN:STANDARD
TZOFFSETFROM:-0500
TZOFFSETTO:-0600
TZNAME:CST
DTSTART:20241103T070000
END:STANDARD
BEGIN:DAYLIGHT
TZOFFSETFROM:-0600
TZOFFSETTO:-0500
TZNAME:CDT
DTSTART:20250309T080000
END:DAYLIGHT
BEGIN:STANDARD
TZOFFSETFROM:-0500
TZOFFSETTO:-0600
TZNAME:CST
DTSTART:20251102T070000
END:STANDARD
END:VTIMEZONE
BEGIN:VEVENT
DTSTART;TZID=America/Chicago:20240623T090000
DTEND;TZID=America/Chicago:20240623T220000
DTSTAMP:20260425T081153
CREATED:20240301T165001Z
LAST-MODIFIED:20240301T165734Z
UID:10000377-1719133200-1719180000@discoverwisconsin.com
SUMMARY:Musky Festival
DESCRIPTION:Hayward’s largest summer celebration of the great fishing history of Wisconsin’s Northwoods. Held annually the weekend following Father’s Day in downtown Hayward. The weekend includes the crowning of our Musky Festival Queen\, sidewalk sales\, large handmade arts & crafts show\, live music\, children’s games\, great food booths\, Musky Run\, fishing contest and a carnival. Everyone will enjoy regional musicians during Friday and Saturday night street dances. The weekend concludes with a large parade on Sunday.
URL:https://discoverwisconsin.com/event/musky-festival/2024-06-23/
LOCATION:Main Street\, Hayward\, WI54843\, Main Street\, Hayward\, WI\, 54843\, United States
ATTACH;FMTTYPE=image/jpeg:https://discoverwisconsin.com/wp-content/uploads/2024/03/10e15425-dec5-4468-a068-1222f4dc53ec-add_your_photo_here-Queens.jpeg
END:VEVENT
BEGIN:VEVENT
DTSTART;TZID=America/Chicago:20240623T130000
DTEND;TZID=America/Chicago:20240623T160000
DTSTAMP:20260425T081153
CREATED:20240308T153844Z
LAST-MODIFIED:20240308T153844Z
UID:10000451-1719147600-1719158400@discoverwisconsin.com
SUMMARY:Beckman Mill Guided Tours
DESCRIPTION:The Beckman Mill is open for public tours on Saturdays and Sundays\, 1-4 pm\, May-October. Corn Grinding and Blacksmithing Demonstrations take place on the first Saturday of each month. Beckman Mill is located at Beckman Mill County Park\, 6 miles west of Beloit\, Wisconsin. On the grounds of the 50-acre county park\, you will see an authentically restored 1868 grist mill\, a new dam\, mill pond\, fish ladder\, footbridge\, sawmill display\, 1840s cooperage\, visitor center\, gift shop\, creamery\, blacksmith shop\, picnic shelter\, vintage garden\, nature trail and more.
URL:https://discoverwisconsin.com/event/beckman-mill-guided-tours/2024-06-23/
LOCATION:Beckman Hill\, 11600 S. County Road H\, Beloit\, WI\, 53511\, United States
ATTACH;FMTTYPE=image/jpeg:https://discoverwisconsin.com/wp-content/uploads/2024/03/155819a7-31c5-4d74-ab53-692fd282923a-add_your_photo_here-beckman_mill_2019_0077-scaled.jpeg
END:VEVENT
BEGIN:VEVENT
DTSTART;TZID=America/Chicago:20240623T130500
DTEND;TZID=America/Chicago:20240623T150500
DTSTAMP:20260425T081153
CREATED:20240617T202821Z
LAST-MODIFIED:20240617T210929Z
UID:10002066-1719147900-1719155100@discoverwisconsin.com
SUMMARY:Beloit Sky Carp Baseball
DESCRIPTION:Visit a Beloit Sky Carp baseball game during their season\, April through September. The Sky Carp are a high-A affiliate of the Miami Marlins\, offering major-league fun at minor-league prices. Purchase tickets and find info about theme nights and promotions on their website.
URL:https://discoverwisconsin.com/event/beloit-sky-carp-baseball-2/2024-06-23/
LOCATION:ABC Supply Stadium\, 217 Shirland Ave\, Beloit\, 53511\, United States
ATTACH;FMTTYPE=image/jpeg:https://discoverwisconsin.com/wp-content/uploads/2024/06/Beloit-Sky-Carp-Baseball-scaled.jpeg
END:VEVENT
BEGIN:VEVENT
DTSTART;TZID=America/Chicago:20240623T183500
DTEND;TZID=America/Chicago:20240623T203500
DTSTAMP:20260425T081153
CREATED:20240617T204317Z
LAST-MODIFIED:20240617T211043Z
UID:10002076-1719167700-1719174900@discoverwisconsin.com
SUMMARY:Beloit Sky Carp Baseball
DESCRIPTION:Visit a Beloit Sky Carp baseball game during their season\, April through September. The Sky Carp are a high-A affiliate of the Miami Marlins\, offering major-league fun at minor-league prices. Purchase tickets and find info about theme nights and promotions on their website.
URL:https://discoverwisconsin.com/event/beloit-sky-carp-baseball-5/2024-06-23/
LOCATION:ABC Supply Stadium\, 217 Shirland Ave\, Beloit\, 53511\, United States
ATTACH;FMTTYPE=image/jpeg:https://discoverwisconsin.com/wp-content/uploads/2024/06/Beloit-Sky-Carp-Baseball-scaled.jpeg
END:VEVENT
END:VCALENDAR