BEGIN:VCALENDAR
VERSION:2.0
PRODID:-//Discover Wisconsin - ECPv6.15.17.1//NONSGML v1.0//EN
CALSCALE:GREGORIAN
METHOD:PUBLISH
X-ORIGINAL-URL:https://discoverwisconsin.com
X-WR-CALDESC:Events for Discover Wisconsin
REFRESH-INTERVAL;VALUE=DURATION:PT1H
X-Robots-Tag:noindex
X-PUBLISHED-TTL:PT1H
BEGIN:VTIMEZONE
TZID:America/Chicago
BEGIN:DAYLIGHT
TZOFFSETFROM:-0600
TZOFFSETTO:-0500
TZNAME:CDT
DTSTART:20230312T080000
END:DAYLIGHT
BEGIN:STANDARD
TZOFFSETFROM:-0500
TZOFFSETTO:-0600
TZNAME:CST
DTSTART:20231105T070000
END:STANDARD
BEGIN:DAYLIGHT
TZOFFSETFROM:-0600
TZOFFSETTO:-0500
TZNAME:CDT
DTSTART:20240310T080000
END:DAYLIGHT
BEGIN:STANDARD
TZOFFSETFROM:-0500
TZOFFSETTO:-0600
TZNAME:CST
DTSTART:20241103T070000
END:STANDARD
BEGIN:DAYLIGHT
TZOFFSETFROM:-0600
TZOFFSETTO:-0500
TZNAME:CDT
DTSTART:20250309T080000
END:DAYLIGHT
BEGIN:STANDARD
TZOFFSETFROM:-0500
TZOFFSETTO:-0600
TZNAME:CST
DTSTART:20251102T070000
END:STANDARD
END:VTIMEZONE
BEGIN:VEVENT
DTSTART;TZID=America/Chicago:20240624T183500
DTEND;TZID=America/Chicago:20240624T203500
DTSTAMP:20260425T063804
CREATED:20240617T204317Z
LAST-MODIFIED:20240617T211043Z
UID:10002077-1719254100-1719261300@discoverwisconsin.com
SUMMARY:Beloit Sky Carp Baseball
DESCRIPTION:Visit a Beloit Sky Carp baseball game during their season\, April through September. The Sky Carp are a high-A affiliate of the Miami Marlins\, offering major-league fun at minor-league prices. Purchase tickets and find info about theme nights and promotions on their website.
URL:https://discoverwisconsin.com/event/beloit-sky-carp-baseball-5/2024-06-24/
LOCATION:ABC Supply Stadium\, 217 Shirland Ave\, Beloit\, 53511\, United States
ATTACH;FMTTYPE=image/jpeg:https://discoverwisconsin.com/wp-content/uploads/2024/06/Beloit-Sky-Carp-Baseball-scaled.jpeg
END:VEVENT
BEGIN:VEVENT
DTSTART;TZID=America/Chicago:20240624T190000
DTEND;TZID=America/Chicago:20240624T210000
DTSTAMP:20260425T063804
CREATED:20240617T205721Z
LAST-MODIFIED:20240617T211730Z
UID:10002124-1719255600-1719262800@discoverwisconsin.com
SUMMARY:Dancing at Harry's Place
DESCRIPTION:Love to dance\, or just wish you could? Dancing at Harry’s Place is the spot to learn to Cha Cha\, Waltz. Polka and more with free lessons. When you’ve figured out the footwork\, try out your new talent during open dance time. Come with or without a partner.
URL:https://discoverwisconsin.com/event/dancing-at-harrys-place/2024-06-24/
LOCATION:Harry C. Moore Pavilion\, 1160 Riverside Drive\, Beloit\, WI\, 53511\, United States
ATTACH;FMTTYPE=image/jpeg:https://discoverwisconsin.com/wp-content/uploads/2024/06/Dancing-at-Harrys-Place-scaled.jpeg
END:VEVENT
END:VCALENDAR