BEGIN:VCALENDAR
VERSION:2.0
PRODID:-//Discover Wisconsin - ECPv6.15.17.1//NONSGML v1.0//EN
CALSCALE:GREGORIAN
METHOD:PUBLISH
X-ORIGINAL-URL:https://discoverwisconsin.com
X-WR-CALDESC:Events for Discover Wisconsin
REFRESH-INTERVAL;VALUE=DURATION:PT1H
X-Robots-Tag:noindex
X-PUBLISHED-TTL:PT1H
BEGIN:VTIMEZONE
TZID:America/Chicago
BEGIN:DAYLIGHT
TZOFFSETFROM:-0600
TZOFFSETTO:-0500
TZNAME:CDT
DTSTART:20230312T080000
END:DAYLIGHT
BEGIN:STANDARD
TZOFFSETFROM:-0500
TZOFFSETTO:-0600
TZNAME:CST
DTSTART:20231105T070000
END:STANDARD
BEGIN:DAYLIGHT
TZOFFSETFROM:-0600
TZOFFSETTO:-0500
TZNAME:CDT
DTSTART:20240310T080000
END:DAYLIGHT
BEGIN:STANDARD
TZOFFSETFROM:-0500
TZOFFSETTO:-0600
TZNAME:CST
DTSTART:20241103T070000
END:STANDARD
BEGIN:DAYLIGHT
TZOFFSETFROM:-0600
TZOFFSETTO:-0500
TZNAME:CDT
DTSTART:20250309T080000
END:DAYLIGHT
BEGIN:STANDARD
TZOFFSETFROM:-0500
TZOFFSETTO:-0600
TZNAME:CST
DTSTART:20251102T070000
END:STANDARD
END:VTIMEZONE
BEGIN:VEVENT
DTSTART;TZID=America/Chicago:20240629T080000
DTEND;TZID=America/Chicago:20240629T130000
DTSTAMP:20260425T075438
CREATED:20240308T153413Z
LAST-MODIFIED:20240308T153413Z
UID:10000418-1719648000-1719666000@discoverwisconsin.com
SUMMARY:Beloit Farmers' Market
DESCRIPTION:Beloit Farmers’ Market has been drawing thousands of locals and visitors to the heart of Downtown Beloit since 1975! There will be more than 130 vendors this summer continuing to be the second largest farmers’ market in Wisconsin\, second to Dane County. Shop the wonderful open-air market in the heart of historic Downtown Beloit. The Market is an award-winning community tradition\, with vendors selling local produce\, organics\, baked goods\, honey\, jams & jellies\, bedding plants\, fish\, meat\, eggs & cheese\, fresh flowers\, and more. The market is open rain or shine\, and pets are not permitted.
URL:https://discoverwisconsin.com/event/beloit-farmers-market/2024-06-29/
LOCATION:Downtown Beloit\, 300 Block of State Street\, Beloit\, WI\, 53511\, United States
ATTACH;FMTTYPE=image/jpeg:https://discoverwisconsin.com/wp-content/uploads/2024/03/94943918-27e5-42a9-8c8f-e511a20d5dda-add_your_photo_here-VB-Farmers-Market-2023-0073-scaled.jpeg
END:VEVENT
BEGIN:VEVENT
DTSTART;TZID=America/Chicago:20240629T080000
DTEND;TZID=America/Chicago:20240629T170000
DTSTAMP:20260425T075438
CREATED:20240502T142623Z
LAST-MODIFIED:20240502T142705Z
UID:10001685-1719648000-1719680400@discoverwisconsin.com
SUMMARY:Perfect Game Wisconsin Tournaments
DESCRIPTION:Perfect Game\, a renowned baseball and softball organization\, is set to bring exciting tournament events to Beloit\, Wisconsin this summer. The Beloit events\, specifically tailored for youth participants\, provide a one-of-a-kind opportunity for young baseball athletes to showcase their skills and passion for the game. Perfect Game’s reputation for organizing top-tier events and attracting talented athletes ensures that the Beloit tournaments will be a must-attend for players\, coaches\, and fans.
URL:https://discoverwisconsin.com/event/perfect-game-wisconsin-tournaments-2/2024-06-29/
LOCATION:YMCA Youth Sports Complex\, 3301 Prairie Ave\, Beloit\, WI\, 53511\, United States
ATTACH;FMTTYPE=image/jpeg:https://discoverwisconsin.com/wp-content/uploads/2024/05/Visit-Beloit-Perfect-Game.jpeg
END:VEVENT
BEGIN:VEVENT
DTSTART;TZID=America/Chicago:20240629T130000
DTEND;TZID=America/Chicago:20240629T160000
DTSTAMP:20260425T075438
CREATED:20240308T153844Z
LAST-MODIFIED:20240308T153844Z
UID:10000452-1719666000-1719676800@discoverwisconsin.com
SUMMARY:Beckman Mill Guided Tours
DESCRIPTION:The Beckman Mill is open for public tours on Saturdays and Sundays\, 1-4 pm\, May-October. Corn Grinding and Blacksmithing Demonstrations take place on the first Saturday of each month. Beckman Mill is located at Beckman Mill County Park\, 6 miles west of Beloit\, Wisconsin. On the grounds of the 50-acre county park\, you will see an authentically restored 1868 grist mill\, a new dam\, mill pond\, fish ladder\, footbridge\, sawmill display\, 1840s cooperage\, visitor center\, gift shop\, creamery\, blacksmith shop\, picnic shelter\, vintage garden\, nature trail and more.
URL:https://discoverwisconsin.com/event/beckman-mill-guided-tours/2024-06-29/
LOCATION:Beckman Hill\, 11600 S. County Road H\, Beloit\, WI\, 53511\, United States
ATTACH;FMTTYPE=image/jpeg:https://discoverwisconsin.com/wp-content/uploads/2024/03/155819a7-31c5-4d74-ab53-692fd282923a-add_your_photo_here-beckman_mill_2019_0077-scaled.jpeg
END:VEVENT
BEGIN:VEVENT
DTSTART;TZID=America/Chicago:20240629T183500
DTEND;TZID=America/Chicago:20240629T203500
DTSTAMP:20260425T075438
CREATED:20240617T204317Z
LAST-MODIFIED:20240617T211043Z
UID:10002082-1719686100-1719693300@discoverwisconsin.com
SUMMARY:Beloit Sky Carp Baseball
DESCRIPTION:Visit a Beloit Sky Carp baseball game during their season\, April through September. The Sky Carp are a high-A affiliate of the Miami Marlins\, offering major-league fun at minor-league prices. Purchase tickets and find info about theme nights and promotions on their website.
URL:https://discoverwisconsin.com/event/beloit-sky-carp-baseball-5/2024-06-29/
LOCATION:ABC Supply Stadium\, 217 Shirland Ave\, Beloit\, 53511\, United States
ATTACH;FMTTYPE=image/jpeg:https://discoverwisconsin.com/wp-content/uploads/2024/06/Beloit-Sky-Carp-Baseball-scaled.jpeg
END:VEVENT
END:VCALENDAR