BEGIN:VCALENDAR
VERSION:2.0
PRODID:-//Discover Wisconsin - ECPv6.15.17.1//NONSGML v1.0//EN
CALSCALE:GREGORIAN
METHOD:PUBLISH
X-ORIGINAL-URL:https://discoverwisconsin.com
X-WR-CALDESC:Events for Discover Wisconsin
REFRESH-INTERVAL;VALUE=DURATION:PT1H
X-Robots-Tag:noindex
X-PUBLISHED-TTL:PT1H
BEGIN:VTIMEZONE
TZID:America/Chicago
BEGIN:DAYLIGHT
TZOFFSETFROM:-0600
TZOFFSETTO:-0500
TZNAME:CDT
DTSTART:20230312T080000
END:DAYLIGHT
BEGIN:STANDARD
TZOFFSETFROM:-0500
TZOFFSETTO:-0600
TZNAME:CST
DTSTART:20231105T070000
END:STANDARD
BEGIN:DAYLIGHT
TZOFFSETFROM:-0600
TZOFFSETTO:-0500
TZNAME:CDT
DTSTART:20240310T080000
END:DAYLIGHT
BEGIN:STANDARD
TZOFFSETFROM:-0500
TZOFFSETTO:-0600
TZNAME:CST
DTSTART:20241103T070000
END:STANDARD
BEGIN:DAYLIGHT
TZOFFSETFROM:-0600
TZOFFSETTO:-0500
TZNAME:CDT
DTSTART:20250309T080000
END:DAYLIGHT
BEGIN:STANDARD
TZOFFSETFROM:-0500
TZOFFSETTO:-0600
TZNAME:CST
DTSTART:20251102T070000
END:STANDARD
END:VTIMEZONE
BEGIN:VEVENT
DTSTART;TZID=America/Chicago:20240721T063000
DTEND;TZID=America/Chicago:20240721T143000
DTSTAMP:20260425T062704
CREATED:20240502T140235Z
LAST-MODIFIED:20240502T140235Z
UID:10001294-1721543400-1721572200@discoverwisconsin.com
SUMMARY:WISCO BASS Team Open
DESCRIPTION:Pools 7\, 8 and 9 near La Crosse on the mighty Mississippi River
URL:https://discoverwisconsin.com/event/wisco-bass-team-open/2024-07-21/
LOCATION:Mississippi River Pools 7\, 8 and 9
ATTACH;FMTTYPE=image/jpeg:https://discoverwisconsin.com/wp-content/uploads/2024/05/MLF.jpeg
END:VEVENT
BEGIN:VEVENT
DTSTART;TZID=America/Chicago:20240721T070000
DTEND;TZID=America/Chicago:20240721T190000
DTSTAMP:20260425T062704
CREATED:20240712T143319Z
LAST-MODIFIED:20240712T143319Z
UID:10002534-1721545200-1721588400@discoverwisconsin.com
SUMMARY:Wisconsin State Water Ski Show Championships
DESCRIPTION:The largest and longest running Water Ski Show Tournament in the world\, 2024 marks the 58th year. Enjoy spectacular outdoor fun\, food\, vendors\, and a musical on the water!
URL:https://discoverwisconsin.com/event/wisconsin-state-water-ski-show-championships/2024-07-21/
LOCATION:Red Sands Beach – Lake Wazeecha\, 6411 South Park Road\, Wisconsin Rapids\, WI\, 54494\, United States
ATTACH;FMTTYPE=image/png:https://discoverwisconsin.com/wp-content/uploads/2024/07/Screenshot-2024-07-12-at-9.32.35 AM.png
END:VEVENT
BEGIN:VEVENT
DTSTART;TZID=America/Chicago:20240721T080000
DTEND;TZID=America/Chicago:20240721T170000
DTSTAMP:20260425T062704
CREATED:20240502T142839Z
LAST-MODIFIED:20240502T142922Z
UID:10001690-1721548800-1721581200@discoverwisconsin.com
SUMMARY:Perfect Game Wisconsin Tournaments
DESCRIPTION:Perfect Game\, a renowned baseball and softball organization\, is set to bring exciting tournament events to Beloit\, Wisconsin this summer. The Beloit events\, specifically tailored for youth participants\, provide a one-of-a-kind opportunity for young baseball athletes to showcase their skills and passion for the game. Perfect Game’s reputation for organizing top-tier events and attracting talented athletes ensures that the Beloit tournaments will be a must-attend for players\, coaches\, and fans.
URL:https://discoverwisconsin.com/event/perfect-game-wisconsin-tournaments-3/2024-07-21/
LOCATION:YMCA Youth Sports Complex\, 3301 Prairie Ave\, Beloit\, WI\, 53511\, United States
ATTACH;FMTTYPE=image/jpeg:https://discoverwisconsin.com/wp-content/uploads/2024/05/Visit-Beloit-Perfect-Game.jpeg
END:VEVENT
BEGIN:VEVENT
DTSTART;TZID=America/Chicago:20240721T100000
DTEND;TZID=America/Chicago:20240721T210000
DTSTAMP:20260425T062704
CREATED:20240301T170521Z
LAST-MODIFIED:20240301T170521Z
UID:10000381-1721556000-1721595600@discoverwisconsin.com
SUMMARY:LCO Honor the Earth Pow Wow
DESCRIPTION:Celebrate Native American culture and tradition through music\, dance\, crafts\, food\, and tribal celebrations.
URL:https://discoverwisconsin.com/event/lco-honor-the-earth-pow-wow/2024-07-21/
LOCATION:Honor The Earth Powwow Grounds\, 8575 N Round Lake School Road\, Hayward\, WI\, 54843\, United States
ATTACH;FMTTYPE=image/png:https://discoverwisconsin.com/wp-content/uploads/2024/03/Untitled-design.png
END:VEVENT
BEGIN:VEVENT
DTSTART;TZID=America/Chicago:20240721T120000
DTEND;TZID=America/Chicago:20240721T160000
DTSTAMP:20260425T062704
CREATED:20240308T163808Z
LAST-MODIFIED:20240308T163808Z
UID:10000535-1721563200-1721577600@discoverwisconsin.com
SUMMARY:Ice Cream Social & Artists in the Park
DESCRIPTION:Ice cream\, and root beer floats will be served. The historic 1858 Beckman Mill grist mill will be in operation\, the cooperage/museum and gift shop will also be open. Artists will be stationed throughout the park painting and interacting with guests. Some will have art for sale. Special painting kids’ activities will be held. There is no admission fee or charge for the treats\, but donations are greatly appreciated.
URL:https://discoverwisconsin.com/event/ice-cream-social-artists-in-the-park/
LOCATION:Beckman Mill\, 11600 S County Road H\, Beloit\, WI\, 53511\, United States
ATTACH;FMTTYPE=image/jpeg:https://discoverwisconsin.com/wp-content/uploads/2024/03/b60126a1-23c2-4411-ad4d-27334393d746-add_your_photo_here-2019-Beckman-Mill-IceCreamSocial-0111-scaled.jpeg
END:VEVENT
BEGIN:VEVENT
DTSTART;TZID=America/Chicago:20240721T130000
DTEND;TZID=America/Chicago:20240721T160000
DTSTAMP:20260425T062704
CREATED:20240308T153844Z
LAST-MODIFIED:20240308T153844Z
UID:10000459-1721566800-1721577600@discoverwisconsin.com
SUMMARY:Beckman Mill Guided Tours
DESCRIPTION:The Beckman Mill is open for public tours on Saturdays and Sundays\, 1-4 pm\, May-October. Corn Grinding and Blacksmithing Demonstrations take place on the first Saturday of each month. Beckman Mill is located at Beckman Mill County Park\, 6 miles west of Beloit\, Wisconsin. On the grounds of the 50-acre county park\, you will see an authentically restored 1868 grist mill\, a new dam\, mill pond\, fish ladder\, footbridge\, sawmill display\, 1840s cooperage\, visitor center\, gift shop\, creamery\, blacksmith shop\, picnic shelter\, vintage garden\, nature trail and more.
URL:https://discoverwisconsin.com/event/beckman-mill-guided-tours/2024-07-21/
LOCATION:Beckman Hill\, 11600 S. County Road H\, Beloit\, WI\, 53511\, United States
ATTACH;FMTTYPE=image/jpeg:https://discoverwisconsin.com/wp-content/uploads/2024/03/155819a7-31c5-4d74-ab53-692fd282923a-add_your_photo_here-beckman_mill_2019_0077-scaled.jpeg
END:VEVENT
BEGIN:VEVENT
DTSTART;TZID=America/Chicago:20240721T143000
DTEND;TZID=America/Chicago:20240721T220000
DTSTAMP:20260425T062704
CREATED:20240402T142854Z
LAST-MODIFIED:20240403T192538Z
UID:10000537-1721572200-1721599200@discoverwisconsin.com
SUMMARY:Praise In The Pines Music Festival
DESCRIPTION:Join us for a day of fun\, spiritual renewal\, inspiration\, and transformation. Praise in the Pines is a dynamic\, celebration of faith where Christians of all denominations come together to celebrate faith through music and inspirational speakers. This family-friendly event promises to unite believers\, promote a sense of community\, and launch a spirit of revival.  \nBig Daddy Weave is the headliner band. This renowned Christian band is celebrated for its authentic and heartfelt music.  With over 1 million followers on social media and a current number one hit\, “Heaven Changes Everything\,” Big Daddy Weave is on a national tour\, bringing their powerful message of faith and freedom in Christ to audiences across the country. The band’s presence at Praise in the Pines marks a significant highlight in their summer tour schedule\, offering fans a unique opportunity to experience their inspiring music live here in the Northwoods of Wisconsin. \nJoining Big Daddy Weave\, the festival will feature performances by opening acts Hannah Kerr and Austin French\, promising a day filled with uplifting music.  \nThe event will also welcome keynote speaker Bob Lenz\, a respected figure in Christian communication.  His rare combination of passion\, delivery and substance\, both on and off stage\, has resulted in Bob Lenz being regarded as one of the nation’s top Christian communicators. He shares his message with half a million people each year through community outreaches\, festivals\, school assemblies\, church events\, tours and conferences. \nThe Worship Experience\, a pre-concert event\, begins at 3PM. The Abundant Life Church Worship Team will lead this afternoon of worship. A blend of contemporary tunes\, meaningful messages\, and testimonies will set the stage for an unforgettable evening.  This event is free. \nFestival-goers can also look forward to a variety of food options\, with food trucks such as Dublin’s Paddy Wagon\, Jessica’s Cucina\, Taco Dan\, and Sloppy D’s offering delicious options throughout the day. \nTickets on sale now!
URL:https://discoverwisconsin.com/event/praise-in-the-pines/
LOCATION:Northland Pines High School Field House\, 1800 Pleasure Island Road\, Eagle River\, WI\, 54521\, United States
ATTACH;FMTTYPE=image/png:https://discoverwisconsin.com/wp-content/uploads/2024/04/2024-04-02_09-13-39.png
ORGANIZER;CN="Praise In The Pines":MAILTO:rejoice@praiseinthepines.org
END:VEVENT
BEGIN:VEVENT
DTSTART;TZID=America/Chicago:20240721T183500
DTEND;TZID=America/Chicago:20240721T203500
DTSTAMP:20260425T062704
CREATED:20240617T204317Z
LAST-MODIFIED:20240617T211043Z
UID:10002104-1721586900-1721594100@discoverwisconsin.com
SUMMARY:Beloit Sky Carp Baseball
DESCRIPTION:Visit a Beloit Sky Carp baseball game during their season\, April through September. The Sky Carp are a high-A affiliate of the Miami Marlins\, offering major-league fun at minor-league prices. Purchase tickets and find info about theme nights and promotions on their website.
URL:https://discoverwisconsin.com/event/beloit-sky-carp-baseball-5/2024-07-21/
LOCATION:ABC Supply Stadium\, 217 Shirland Ave\, Beloit\, 53511\, United States
ATTACH;FMTTYPE=image/jpeg:https://discoverwisconsin.com/wp-content/uploads/2024/06/Beloit-Sky-Carp-Baseball-scaled.jpeg
END:VEVENT
END:VCALENDAR