BEGIN:VCALENDAR
VERSION:2.0
PRODID:-//Discover Wisconsin - ECPv6.15.17.1//NONSGML v1.0//EN
CALSCALE:GREGORIAN
METHOD:PUBLISH
X-WR-CALNAME:Discover Wisconsin
X-ORIGINAL-URL:https://discoverwisconsin.com
X-WR-CALDESC:Events for Discover Wisconsin
REFRESH-INTERVAL;VALUE=DURATION:PT1H
X-Robots-Tag:noindex
X-PUBLISHED-TTL:PT1H
BEGIN:VTIMEZONE
TZID:America/Chicago
BEGIN:DAYLIGHT
TZOFFSETFROM:-0600
TZOFFSETTO:-0500
TZNAME:CDT
DTSTART:20230312T080000
END:DAYLIGHT
BEGIN:STANDARD
TZOFFSETFROM:-0500
TZOFFSETTO:-0600
TZNAME:CST
DTSTART:20231105T070000
END:STANDARD
BEGIN:DAYLIGHT
TZOFFSETFROM:-0600
TZOFFSETTO:-0500
TZNAME:CDT
DTSTART:20240310T080000
END:DAYLIGHT
BEGIN:STANDARD
TZOFFSETFROM:-0500
TZOFFSETTO:-0600
TZNAME:CST
DTSTART:20241103T070000
END:STANDARD
BEGIN:DAYLIGHT
TZOFFSETFROM:-0600
TZOFFSETTO:-0500
TZNAME:CDT
DTSTART:20250309T080000
END:DAYLIGHT
BEGIN:STANDARD
TZOFFSETFROM:-0500
TZOFFSETTO:-0600
TZNAME:CST
DTSTART:20251102T070000
END:STANDARD
END:VTIMEZONE
BEGIN:VEVENT
DTSTART;VALUE=DATE:20240816
DTEND;VALUE=DATE:20240817
DTSTAMP:20260425T062748
CREATED:20240806T201121Z
LAST-MODIFIED:20240806T201121Z
UID:10002565-1723766400-1723852799@discoverwisconsin.com
SUMMARY:Paddles & Premiers\, La Crosse Region
DESCRIPTION:Explore La Crosse is excited to announce that August 15 – 18\, 2024 is the La Crosse Region’s First Ever Paddle Weekend. Join us for a weekend of kayaking\, fishing\, film festivals and water activities all themed around paddling in our region. \nAs a premier-paddling destination of the Midwest\, the La Crosse Region is excited to host a premier showing of the “Mississippi Speed Record” and the “Paddling Film Festival” as part of the World Paddle Tour. Attendees will enjoy an exciting glimpse into the world of paddling through the Paddling Film Premier along with “do-it-yourself” local excursions\, paddle trails\, and various other event features. Mark your calendar and get ready to experience a weekend at the premier paddle destination of the Midwest! \nThursday\, August 15\, 2024 \nMississippi Speed Record Film and Q&A Panel at the Rivoli Theatre in La Crosse\, WI from 6:00pm-8:00pm. \nFriday\, August 16\, 2024 \nEnjoy free “Do-It-Yourself” (DIY) Paddle Excursions at Black River Bottoms on French Island\, Pettibone Lagoon at Pettibone Park\, and Great River Landing in Onalaska. Please make reservations with the participating businesses as free\, donated equipment is first come\, first serve. \nA free Paddling Film Festival will be at 7:00pm\, this is the 19th annual Paddling Film Festival hosted at the Rivoli Theater in La Crosse\, WI. Tickets are free\, but they request you reserve your ticket ahead of time here. \nSaturday\, August 17\, 2024 \nEnjoy free “Do-It-Yourself” (DIY) Paddle Excursions at Black River Bottoms on French Island\, and Great River Landing in Onalaska. Please make reservations with the participating businesses as free\, donated equipment is first come\, first serve. \nThe Great Lakes Kayak Fishing Series (GLFKS) will be at Pools 7\, 8\, and 9 in La Crosse\, WI\, August 17-18th. This is a concurrent event as the All American Kayak Series (AAKS). \nThe All American Kayak Series (AAKS) will be in La Crosse on August 17-18.The All American Kayak Series is the premier kayak bass tournament trail in the Midwest. \nSunday\, August 18\, 2024 \nEnjoy free “Do-It-Yourself” (DIY) Paddle Excursions at Black River Bottoms on French Island\, and Great River Landing in Onalaska. We suggest making reservations with the participating businesses as free\, donated equipment is first come\, first serve. \nThe Great Lakes Kayak Fishing Series (GLFKS) will be at Pools 7\, 8\, and 9 in La Crosse\, WI\, August 17-18th. This is a concurrent event as the All American Kayak Series (AAKS). \nThe All American Kayak Series (AAKS) will be in La Crosse on August 17-18.The All American Kayak Series is the premier kayak bass tournament trail in the Midwest. \nThank you to the sponsors that are helping make this happen\, Schafer’s River Rentals\, Island Outdoors\, The City of La Crosse Parks\, Recreation & Forestry Department\, and the OPR Onalaska Parks & Recreation Department\, and Rivoli Theatre for hosting the Mississippi Speed Record Film\, and the World Paddling Tour Film Festival. \n*For a full detailed explanation and list of events\, please visit our website\, explorelacrosse.com \n*Please note that times\, information\, and events may be subject to change.
URL:https://discoverwisconsin.com/event/paddles-premiers-la-crosse-region/2024-08-16/
LOCATION:Great River Landing\, 101 Irvin St\, Onalaska\, WI\, 54650\, United States
ATTACH;FMTTYPE=image/jpeg:https://discoverwisconsin.com/wp-content/uploads/2024/08/Paddles-Premiers-La-Crosse-Region.jpg
END:VEVENT
BEGIN:VEVENT
DTSTART;TZID=America/Chicago:20240816T100000
DTEND;TZID=America/Chicago:20240816T210000
DTSTAMP:20260425T062748
CREATED:20240301T174121Z
LAST-MODIFIED:20240301T174121Z
UID:10000386-1723802400-1723842000@discoverwisconsin.com
SUMMARY:Sawyer County Fair
DESCRIPTION:The Annual Sawyer County Fair promotes and encourages education\, agriculture\, the arts\, and entertainment through an annual fair and associated event. It has been in existence for over one hundred years. The fair hosts a carnival\, demo derby\, live music\, food\, agricultural exhibits\, animals\, tractor pull\, veggie races\, and more!
URL:https://discoverwisconsin.com/event/sawyer-county-fair/2024-08-16/
LOCATION:Sawyer County Fairgrounds\, 10172 Bender Road\, Hayward\, WI\, 54843\, United States
ATTACH;FMTTYPE=image/jpeg:https://discoverwisconsin.com/wp-content/uploads/2024/03/7ed40601-b605-4d5f-80c6-51add516c57e-add_your_photo_here-events_hayward_sawyercountyfair.jpeg
END:VEVENT
BEGIN:VEVENT
DTSTART;TZID=America/Chicago:20240816T113000
DTEND;TZID=America/Chicago:20240816T133000
DTSTAMP:20260425T062748
CREATED:20240308T161230Z
LAST-MODIFIED:20240308T161230Z
UID:10000500-1723807800-1723815000@discoverwisconsin.com
SUMMARY:Fridays In The Park
DESCRIPTION:Fridays in the Park is an annual summer lunchtime concert series that has been held in the heart of downtown for three decades. From 11:30 a.m. to 1:30 p.m.\, enjoy lunch from a local eatery while listening to live music brought to you by the Downtown Beloit Association.
URL:https://discoverwisconsin.com/event/fridays-in-the-park/2024-08-16/
LOCATION:First National Bank Plaza\, Corner of E Grand Avenue & State Street\, Beloit\, WI\, United States
ATTACH;FMTTYPE=image/jpeg:https://discoverwisconsin.com/wp-content/uploads/2024/03/8c9f56c5-edfb-42b3-bd40-4b46531eda2a-add_your_photo_here-fridays_park_2019-0621-0032-scaled.jpeg
END:VEVENT
BEGIN:VEVENT
DTSTART;TZID=America/Chicago:20240816T170000
DTEND;TZID=America/Chicago:20240816T220000
DTSTAMP:20260425T062748
CREATED:20240712T150901Z
LAST-MODIFIED:20240712T150901Z
UID:10002550-1723827600-1723845600@discoverwisconsin.com
SUMMARY:River Roast 2024
DESCRIPTION:Mark your calendars! Our annual outdoor concert\, River Roast\, is coming to you live on August 16th\, 2024. Join us outside The Charmant for a day of unforgettable music\, delicious food & drinks\, and an atmosphere that will have you dancing and singing your heart out on State Street in downtown La Crosse\, Wisconsin. \nTickets are FREE and can be claimed at the link below for entry into the concert. River Roast is open to all ages\, so grab your friends\, family\, date\, or head over solo and get ready to have a good-hearted night of jams alongside the Mississippi. \n2024 Line-Up \n– Sam Ness 5:15 PM – 6:15 PM \n– Gregg Hall and the Wrecking Ball 6:30 PM – 7:30 PM \n– Happy Landing 8 PM – 10 PM
URL:https://discoverwisconsin.com/event/river-roast-2024/
LOCATION:The Charmant Hotel\, 101 State Street\, La Crosse\, WI\, 54601\, United States
ATTACH;FMTTYPE=image/png:https://discoverwisconsin.com/wp-content/uploads/2024/07/Screenshot-2024-07-12-at-10.08.20 AM.png
END:VEVENT
BEGIN:VEVENT
DTSTART;TZID=America/Chicago:20240816T180000
DTEND;TZID=America/Chicago:20240816T230000
DTSTAMP:20260425T062748
CREATED:20240618T115527Z
LAST-MODIFIED:20240618T115527Z
UID:10002141-1723831200-1723849200@discoverwisconsin.com
SUMMARY:Movie on the Big Lawn
DESCRIPTION:Sit under the stars at Beloit’s favorite outdoor gathering place and enjoy a family movie shown on a 50 foot inflatable screen. Happy Feet is an animated family favorite\, fun for all ages! Bring your own chair and blanket. Food vendors will be on-site. Rain date is scheduled for Sunday\, August 18.
URL:https://discoverwisconsin.com/event/movie-on-the-big-lawn/
LOCATION:Riverside Park\, 100 State Street\, La Crosse\, 54601\, United States
ATTACH;FMTTYPE=image/jpeg:https://discoverwisconsin.com/wp-content/uploads/2024/06/Movie-on-the-Big-Lawn-scaled.jpeg
END:VEVENT
BEGIN:VEVENT
DTSTART;TZID=America/Chicago:20240816T183500
DTEND;TZID=America/Chicago:20240816T203500
DTSTAMP:20260425T062748
CREATED:20240617T204621Z
LAST-MODIFIED:20240617T211400Z
UID:10002115-1723833300-1723840500@discoverwisconsin.com
SUMMARY:Beloit Sky Carp Baseball
DESCRIPTION:Visit a Beloit Sky Carp baseball game during their season\, April through September. The Sky Carp are a high-A affiliate of the Miami Marlins\, offering major-league fun at minor-league prices. Purchase tickets and find info about theme nights and promotions on their website.
URL:https://discoverwisconsin.com/event/beloit-sky-carp-baseball-6/2024-08-16/
LOCATION:ABC Supply Stadium\, 217 Shirland Ave\, Beloit\, 53511\, United States
ATTACH;FMTTYPE=image/jpeg:https://discoverwisconsin.com/wp-content/uploads/2024/06/Beloit-Sky-Carp-Baseball-scaled.jpeg
END:VEVENT
END:VCALENDAR