BEGIN:VCALENDAR
VERSION:2.0
PRODID:-//Discover Wisconsin - ECPv6.15.17.1//NONSGML v1.0//EN
CALSCALE:GREGORIAN
METHOD:PUBLISH
X-ORIGINAL-URL:https://discoverwisconsin.com
X-WR-CALDESC:Events for Discover Wisconsin
REFRESH-INTERVAL;VALUE=DURATION:PT1H
X-Robots-Tag:noindex
X-PUBLISHED-TTL:PT1H
BEGIN:VTIMEZONE
TZID:America/Chicago
BEGIN:DAYLIGHT
TZOFFSETFROM:-0600
TZOFFSETTO:-0500
TZNAME:CDT
DTSTART:20230312T080000
END:DAYLIGHT
BEGIN:STANDARD
TZOFFSETFROM:-0500
TZOFFSETTO:-0600
TZNAME:CST
DTSTART:20231105T070000
END:STANDARD
BEGIN:DAYLIGHT
TZOFFSETFROM:-0600
TZOFFSETTO:-0500
TZNAME:CDT
DTSTART:20240310T080000
END:DAYLIGHT
BEGIN:STANDARD
TZOFFSETFROM:-0500
TZOFFSETTO:-0600
TZNAME:CST
DTSTART:20241103T070000
END:STANDARD
BEGIN:DAYLIGHT
TZOFFSETFROM:-0600
TZOFFSETTO:-0500
TZNAME:CDT
DTSTART:20250309T080000
END:DAYLIGHT
BEGIN:STANDARD
TZOFFSETFROM:-0500
TZOFFSETTO:-0600
TZNAME:CST
DTSTART:20251102T070000
END:STANDARD
END:VTIMEZONE
BEGIN:VEVENT
DTSTART;TZID=America/Chicago:20241102T090000
DTEND;TZID=America/Chicago:20241102T120000
DTSTAMP:20260424T225918
CREATED:20240308T162241Z
LAST-MODIFIED:20240308T162241Z
UID:10000506-1730538000-1730548800@discoverwisconsin.com
SUMMARY:Winter Crafter and Farmers' Market
DESCRIPTION:The Beloit Farmers’ Market is year-round! Downtown Beloit Association is hosting the Beloit Winter Crafter & Farmers’ Market in their office/event space in Downtown Beloit. There will be local vendors selling their wares every Saturday\, November through April. Look for produce\, eggs\, cheese\, honey\, baked goods\, seafood\, meat\, poultry\, soaps\, and crafts.\n\nNew this year! Look for food trucks and free family-friendly activities each week.
URL:https://discoverwisconsin.com/event/winter-crafter-and-farmers-market/2024-11-02/
LOCATION:Winter Crafter & Farmers’ Market\, 557 E. Grand Avenue\, Beloit\, WI\, 53511\, United States
ATTACH;FMTTYPE=image/jpeg:https://discoverwisconsin.com/wp-content/uploads/2024/03/43c73beb-b084-4ef4-8440-11a70964c940-add_your_photo_here-Winter-Market.jpeg
END:VEVENT
BEGIN:VEVENT
DTSTART;TZID=America/Chicago:20241102T103000
DTEND;TZID=America/Chicago:20241102T170000
DTSTAMP:20260424T225918
CREATED:20240712T150550Z
LAST-MODIFIED:20240712T150550Z
UID:10002549-1730543400-1730566800@discoverwisconsin.com
SUMMARY:WIAA State Cross Country Meet
DESCRIPTION:Annual Wisconsin State High School Boys & Girls Cross Country Tournament.
URL:https://discoverwisconsin.com/event/wiaa-state-cross-country-meet/
LOCATION:The Ridges Golf Course\, 2311 Griffith Avenue\, Wisconsin Rapids\, WI\, 54494\, United States
ATTACH;FMTTYPE=image/png:https://discoverwisconsin.com/wp-content/uploads/2024/07/Screenshot-2024-07-12-at-10.04.54 AM.png
END:VEVENT
BEGIN:VEVENT
DTSTART;TZID=America/Chicago:20241102T183000
DTEND;TZID=America/Chicago:20241102T220000
DTSTAMP:20260424T225918
CREATED:20240911T175845Z
LAST-MODIFIED:20240911T190113Z
UID:10002581-1730572200-1730584800@discoverwisconsin.com
SUMMARY:Bob Seger & John Mellencamp Tribute Shows
DESCRIPTION:TWO HIGH-DEMAND TRIBUTE ACTS TOGETHER FOR ONE SPECIAL NIGHT! \n6:30 p.m.: Against The Wind- The Bob Seger Experience\, draw from Bob Seger‘s vast catalogue of a decades-long career spanning from the late 60s into the 2000s they have crafted a handpicked show of hits such as “Old Time Rock & Roll”\, “Night Moves”\, Against The Wind”\, “Turn The Page”\, and many more iconic\, chart hitting songs! The energy and emotion this music stirs among the group and audience as they perform each show has been quite inspiring. \n8:15 p.m.: Ain’t That America is an explosive experience that leads fans into the musical world of John Mellencamp. Audiences have been singing and dancing to the hits they recognize like “Hurts So Good”\, “Jack & Diane”\, “Small Town”\, and so many more! Composed of a seven-piece band\, complete with a fiddle\, Ain’t That America produces a full\, all-encompassing sound that has to be seen live to be fully appreciated. The band is tight\, powerful\, and fun to watch! A show not to be missed.
URL:https://discoverwisconsin.com/event/bob-seger-john-mellencamp-tribute-shows/
LOCATION:The Grand Oshkosh\, 100 High Ave\, Oshkosh\, WI\, 54901\, United States
ATTACH;FMTTYPE=image/jpeg:https://discoverwisconsin.com/wp-content/uploads/2024/09/Bob-Seger-John-Mellencamp-Tribute-Shows.jpg
END:VEVENT
END:VCALENDAR