BEGIN:VCALENDAR
VERSION:2.0
PRODID:-//Discover Wisconsin - ECPv6.15.17.1//NONSGML v1.0//EN
CALSCALE:GREGORIAN
METHOD:PUBLISH
X-ORIGINAL-URL:https://discoverwisconsin.com
X-WR-CALDESC:Events for Discover Wisconsin
REFRESH-INTERVAL;VALUE=DURATION:PT1H
X-Robots-Tag:noindex
X-PUBLISHED-TTL:PT1H
BEGIN:VTIMEZONE
TZID:America/Chicago
BEGIN:DAYLIGHT
TZOFFSETFROM:-0600
TZOFFSETTO:-0500
TZNAME:CDT
DTSTART:20230312T080000
END:DAYLIGHT
BEGIN:STANDARD
TZOFFSETFROM:-0500
TZOFFSETTO:-0600
TZNAME:CST
DTSTART:20231105T070000
END:STANDARD
BEGIN:DAYLIGHT
TZOFFSETFROM:-0600
TZOFFSETTO:-0500
TZNAME:CDT
DTSTART:20240310T080000
END:DAYLIGHT
BEGIN:STANDARD
TZOFFSETFROM:-0500
TZOFFSETTO:-0600
TZNAME:CST
DTSTART:20241103T070000
END:STANDARD
BEGIN:DAYLIGHT
TZOFFSETFROM:-0600
TZOFFSETTO:-0500
TZNAME:CDT
DTSTART:20250309T080000
END:DAYLIGHT
BEGIN:STANDARD
TZOFFSETFROM:-0500
TZOFFSETTO:-0600
TZNAME:CST
DTSTART:20251102T070000
END:STANDARD
END:VTIMEZONE
BEGIN:VEVENT
DTSTART;TZID=America/Chicago:20241105T093000
DTEND;TZID=America/Chicago:20241105T222000
DTSTAMP:20260424T225917
CREATED:20240911T180331Z
LAST-MODIFIED:20240911T180417Z
UID:10002582-1730799000-1730845200@discoverwisconsin.com
SUMMARY:Kuniko Yamamoto: Japanese Storytelling with Magical Mask\, Mime and Music
DESCRIPTION:Siegel Artist Management \nPart of the 2024-2025 Amcor Student Discovery Series \nNovember 5\, 2024 | 9:30 a.m. & 12:30 p.m. \nRecommended Grade Levels: K-6 \nNEW this year! The Amcor Student Discovery Series is open to the general public. \nCharming Japanese folktales are combined with traditional musical instruments\, magical masks\, origami and mime to create a spellbinding story. Kuniko’s marvelous performance promotes cross-cultural communication and understanding in an entertaining way.
URL:https://discoverwisconsin.com/event/kuniko-yamamoto-japanese-storytelling-with-magical-mask-mime-and-music/2024-11-05/1/
LOCATION:The Grand Oshkosh\, 100 High Ave\, Oshkosh\, WI\, 54901\, United States
ATTACH;FMTTYPE=image/jpeg:https://discoverwisconsin.com/wp-content/uploads/2024/09/Kuniko-Yamamoto-Japanese-Storytelling-with-Magical-Mask-Mime-and-Music.jpg
END:VEVENT
BEGIN:VEVENT
DTSTART;TZID=America/Chicago:20241105T123000
DTEND;TZID=America/Chicago:20241105T132000
DTSTAMP:20260424T225917
CREATED:20240911T180331Z
LAST-MODIFIED:20240911T180417Z
UID:10002583-1730809800-1730812800@discoverwisconsin.com
SUMMARY:Kuniko Yamamoto: Japanese Storytelling with Magical Mask\, Mime and Music
DESCRIPTION:Siegel Artist Management \nPart of the 2024-2025 Amcor Student Discovery Series \nNovember 5\, 2024 | 9:30 a.m. & 12:30 p.m. \nRecommended Grade Levels: K-6 \nNEW this year! The Amcor Student Discovery Series is open to the general public. \nCharming Japanese folktales are combined with traditional musical instruments\, magical masks\, origami and mime to create a spellbinding story. Kuniko’s marvelous performance promotes cross-cultural communication and understanding in an entertaining way.
URL:https://discoverwisconsin.com/event/kuniko-yamamoto-japanese-storytelling-with-magical-mask-mime-and-music/2024-11-05/2/
LOCATION:The Grand Oshkosh\, 100 High Ave\, Oshkosh\, WI\, 54901\, United States
ATTACH;FMTTYPE=image/jpeg:https://discoverwisconsin.com/wp-content/uploads/2024/09/Kuniko-Yamamoto-Japanese-Storytelling-with-Magical-Mask-Mime-and-Music.jpg
END:VEVENT
END:VCALENDAR