BEGIN:VCALENDAR
VERSION:2.0
PRODID:-//Discover Wisconsin - ECPv6.15.17.1//NONSGML v1.0//EN
CALSCALE:GREGORIAN
METHOD:PUBLISH
X-ORIGINAL-URL:https://discoverwisconsin.com
X-WR-CALDESC:Events for Discover Wisconsin
REFRESH-INTERVAL;VALUE=DURATION:PT1H
X-Robots-Tag:noindex
X-PUBLISHED-TTL:PT1H
BEGIN:VTIMEZONE
TZID:America/Chicago
BEGIN:DAYLIGHT
TZOFFSETFROM:-0600
TZOFFSETTO:-0500
TZNAME:CDT
DTSTART:20230312T080000
END:DAYLIGHT
BEGIN:STANDARD
TZOFFSETFROM:-0500
TZOFFSETTO:-0600
TZNAME:CST
DTSTART:20231105T070000
END:STANDARD
BEGIN:DAYLIGHT
TZOFFSETFROM:-0600
TZOFFSETTO:-0500
TZNAME:CDT
DTSTART:20240310T080000
END:DAYLIGHT
BEGIN:STANDARD
TZOFFSETFROM:-0500
TZOFFSETTO:-0600
TZNAME:CST
DTSTART:20241103T070000
END:STANDARD
BEGIN:DAYLIGHT
TZOFFSETFROM:-0600
TZOFFSETTO:-0500
TZNAME:CDT
DTSTART:20250309T080000
END:DAYLIGHT
BEGIN:STANDARD
TZOFFSETFROM:-0500
TZOFFSETTO:-0600
TZNAME:CST
DTSTART:20251102T070000
END:STANDARD
END:VTIMEZONE
BEGIN:VEVENT
DTSTART;TZID=America/Chicago:20241129T170000
DTEND;TZID=America/Chicago:20241129T200000
DTSTAMP:20260424T210702
CREATED:20241126T003522Z
LAST-MODIFIED:20241126T003522Z
UID:10002658-1732899600-1732910400@discoverwisconsin.com
SUMMARY:32nd Annual Downtown Beloit Grand Lighted Holiday Parade
DESCRIPTION:For over 30 years\, the Downtown Beloit Association has hosted the popular Grand Lighted Holiday Parade. The festivities begin on Friday\, November 29th at 5pm with live music at the First National Bank Plaza\, followed by Santa’s arrival at 6pm to kick off the tree lighting. The parade starts at 6:15pm\, featuring beautifully decorated floats. Attendees can enjoy free hot chocolate\, photos with Santa\, and a fireworks display\, with the event ending at 8pm.
URL:https://discoverwisconsin.com/event/32nd-annual-downtown-beloit-grand-lighted-holiday-parade/
LOCATION:First National Bank Plaza\, Corner of E Grand Avenue & State Street\, Beloit\, WI\, United States
ATTACH;FMTTYPE=image/jpeg:https://discoverwisconsin.com/wp-content/uploads/2024/11/32nd-Annual-Downtown-Beloit-Grand-Lighted-Holiday-Parade-scaled.jpg
END:VEVENT
END:VCALENDAR