BEGIN:VCALENDAR
VERSION:2.0
PRODID:-//Discover Wisconsin - ECPv6.15.17.1//NONSGML v1.0//EN
CALSCALE:GREGORIAN
METHOD:PUBLISH
X-ORIGINAL-URL:https://discoverwisconsin.com
X-WR-CALDESC:Events for Discover Wisconsin
REFRESH-INTERVAL;VALUE=DURATION:PT1H
X-Robots-Tag:noindex
X-PUBLISHED-TTL:PT1H
BEGIN:VTIMEZONE
TZID:America/Chicago
BEGIN:DAYLIGHT
TZOFFSETFROM:-0600
TZOFFSETTO:-0500
TZNAME:CDT
DTSTART:20230312T080000
END:DAYLIGHT
BEGIN:STANDARD
TZOFFSETFROM:-0500
TZOFFSETTO:-0600
TZNAME:CST
DTSTART:20231105T070000
END:STANDARD
BEGIN:DAYLIGHT
TZOFFSETFROM:-0600
TZOFFSETTO:-0500
TZNAME:CDT
DTSTART:20240310T080000
END:DAYLIGHT
BEGIN:STANDARD
TZOFFSETFROM:-0500
TZOFFSETTO:-0600
TZNAME:CST
DTSTART:20241103T070000
END:STANDARD
BEGIN:DAYLIGHT
TZOFFSETFROM:-0600
TZOFFSETTO:-0500
TZNAME:CDT
DTSTART:20250309T080000
END:DAYLIGHT
BEGIN:STANDARD
TZOFFSETFROM:-0500
TZOFFSETTO:-0600
TZNAME:CST
DTSTART:20251102T070000
END:STANDARD
END:VTIMEZONE
BEGIN:VEVENT
DTSTART;TZID=America/Chicago:20241130T080000
DTEND;TZID=America/Chicago:20241130T200000
DTSTAMP:20260424T210711
CREATED:20241126T004450Z
LAST-MODIFIED:20241126T004450Z
UID:10002662-1732953600-1732996800@discoverwisconsin.com
SUMMARY:Small Business Saturday
DESCRIPTION:From handmade to homemade to locally sourced and more\, visit Beloit’s local shopping and restaurant scene in support of Small Business Saturday on Saturday\, November 30th. Shop for all of those on your holiday list this season in celebration of businesses that represent the foundation of our community. Shop small not only on Small Business Saturday but throughout the holiday season and all year long.
URL:https://discoverwisconsin.com/event/small-business-saturday/
LOCATION:Downtown Beloit\, 300 Block of State Street\, Beloit\, WI\, 53511\, United States
ATTACH;FMTTYPE=image/jpeg:https://discoverwisconsin.com/wp-content/uploads/2024/11/Small-Business-Saturday-scaled.jpg
END:VEVENT
BEGIN:VEVENT
DTSTART;TZID=America/Chicago:20241130T090000
DTEND;TZID=America/Chicago:20241130T120000
DTSTAMP:20260424T210711
CREATED:20240308T162241Z
LAST-MODIFIED:20240308T162241Z
UID:10000510-1732957200-1732968000@discoverwisconsin.com
SUMMARY:Winter Crafter and Farmers' Market
DESCRIPTION:The Beloit Farmers’ Market is year-round! Downtown Beloit Association is hosting the Beloit Winter Crafter & Farmers’ Market in their office/event space in Downtown Beloit. There will be local vendors selling their wares every Saturday\, November through April. Look for produce\, eggs\, cheese\, honey\, baked goods\, seafood\, meat\, poultry\, soaps\, and crafts.\n\nNew this year! Look for food trucks and free family-friendly activities each week.
URL:https://discoverwisconsin.com/event/winter-crafter-and-farmers-market/2024-11-30/
LOCATION:Winter Crafter & Farmers’ Market\, 557 E. Grand Avenue\, Beloit\, WI\, 53511\, United States
ATTACH;FMTTYPE=image/jpeg:https://discoverwisconsin.com/wp-content/uploads/2024/03/43c73beb-b084-4ef4-8440-11a70964c940-add_your_photo_here-Winter-Market.jpeg
END:VEVENT
BEGIN:VEVENT
DTSTART;TZID=America/Chicago:20241130T100000
DTEND;TZID=America/Chicago:20241130T150000
DTSTAMP:20260424T210711
CREATED:20240301T175616Z
LAST-MODIFIED:20240301T175616Z
UID:10000392-1732960800-1732978800@discoverwisconsin.com
SUMMARY:Christmas in Hayward
DESCRIPTION:Christmas in Hayward is an annual holiday season celebration put on by participating merchants and community members of Hayward\, Wisconsin. Come and enjoy family-centered events that draw visitors to the area to experience the beauty of Hayward during the holiday season.
URL:https://discoverwisconsin.com/event/christmas-in-hayward/2024-11-30/
LOCATION:Downtown Hayward\, Downtown Hayward\, WI\, 54843\, United States
ATTACH;FMTTYPE=image/jpeg:https://discoverwisconsin.com/wp-content/uploads/2024/03/fde58f10-c17c-4dda-a181-e8e8d3c5b225-add_your_photo_here-events_hayward_christmasinhayward.jpeg
END:VEVENT
END:VCALENDAR