BEGIN:VCALENDAR
VERSION:2.0
PRODID:-//Discover Wisconsin - ECPv6.15.17.1//NONSGML v1.0//EN
CALSCALE:GREGORIAN
METHOD:PUBLISH
X-WR-CALNAME:Discover Wisconsin
X-ORIGINAL-URL:https://discoverwisconsin.com
X-WR-CALDESC:Events for Discover Wisconsin
REFRESH-INTERVAL;VALUE=DURATION:PT1H
X-Robots-Tag:noindex
X-PUBLISHED-TTL:PT1H
BEGIN:VTIMEZONE
TZID:America/Chicago
BEGIN:DAYLIGHT
TZOFFSETFROM:-0600
TZOFFSETTO:-0500
TZNAME:CDT
DTSTART:20230312T080000
END:DAYLIGHT
BEGIN:STANDARD
TZOFFSETFROM:-0500
TZOFFSETTO:-0600
TZNAME:CST
DTSTART:20231105T070000
END:STANDARD
BEGIN:DAYLIGHT
TZOFFSETFROM:-0600
TZOFFSETTO:-0500
TZNAME:CDT
DTSTART:20240310T080000
END:DAYLIGHT
BEGIN:STANDARD
TZOFFSETFROM:-0500
TZOFFSETTO:-0600
TZNAME:CST
DTSTART:20241103T070000
END:STANDARD
BEGIN:DAYLIGHT
TZOFFSETFROM:-0600
TZOFFSETTO:-0500
TZNAME:CDT
DTSTART:20250309T080000
END:DAYLIGHT
BEGIN:STANDARD
TZOFFSETFROM:-0500
TZOFFSETTO:-0600
TZNAME:CST
DTSTART:20251102T070000
END:STANDARD
END:VTIMEZONE
BEGIN:VEVENT
DTSTART;TZID=America/Chicago:20241206T160000
DTEND;TZID=America/Chicago:20241206T210000
DTSTAMP:20260424T192705
CREATED:20241126T004234Z
LAST-MODIFIED:20241126T004234Z
UID:10002660-1733500800-1733518800@discoverwisconsin.com
SUMMARY:Christkindlmarkt
DESCRIPTION:Stop by the 7th annual Christkindlmarkt\, a traditional European-style Christmas market featuring over 50 vendors on Friday\, December 6 from 4-9 p.m. and Saturday\, December 7 from 12-4 p.m. Shop Wisconsin Specialty food retailers and artisan craft vendors\, enjoy live music\, food trucks and craft beer from local breweries.
URL:https://discoverwisconsin.com/event/christkindlmarkt/2024-12-06/
LOCATION:West Allis Farmers Market\, 6501 W. National Avenue\, West Allis\, WI\, United States
ATTACH;FMTTYPE=image/jpeg:https://discoverwisconsin.com/wp-content/uploads/2024/11/Christkindlmarkt.jpg
END:VEVENT
BEGIN:VEVENT
DTSTART;TZID=America/Chicago:20241206T170000
DTEND;TZID=America/Chicago:20241206T210000
DTSTAMP:20260424T192705
CREATED:20241126T003759Z
LAST-MODIFIED:20241126T003759Z
UID:10002659-1733504400-1733518800@discoverwisconsin.com
SUMMARY:Downtown Beloit Holidazzle
DESCRIPTION:A dazzling evening of celebration featuring artists\, and specialty craftspeople in twenty-five-plus locations as they display one-of-a-kind gifts and unique pieces of art. Live music\, Santa visits\, children’s events and holiday treats make this a truly special evening for the entire family. Featuring FREE Trolley rides.
URL:https://discoverwisconsin.com/event/downtown-beloit-holidazzle/
LOCATION:Downtown Beloit\, 300 Block of State Street\, Beloit\, WI\, 53511\, United States
ATTACH;FMTTYPE=image/jpeg:https://discoverwisconsin.com/wp-content/uploads/2024/11/Downtown-Beloit-Holidazzle-scaled.jpg
END:VEVENT
BEGIN:VEVENT
DTSTART;TZID=America/Chicago:20241206T190000
DTEND;TZID=America/Chicago:20241206T203000
DTSTAMP:20260424T192705
CREATED:20240927T121606Z
LAST-MODIFIED:20240927T121606Z
UID:10002618-1733511600-1733517000@discoverwisconsin.com
SUMMARY:Twas a Girls Night Before Christmas
DESCRIPTION:From the producers of the box office smash Girls Night: The Musical comes the new must-see holiday show! TWAS A GIRLS NIGHT BEFORE CHRISTMAS: THE MUSICAL. \nThe new Christmas sequel will feature the 5 ladies we have all come to know and love gathering for a night on the town to laugh\, cry\, gossip\, and just let their hair down during the craziest of times: THE HOLIDAYS! This musical is guaranteed to resonate with anyone who has survived the holiday season\, from the LONG visits with in-laws to the overcrowded malls. TWAS GIRLS NIGHT BEFORE CHRISTMAS: THE MUSICAL will feature the touching and hilarious writing by Roche that has entertained audiences worldwide\, with classic Christmas songs and contemporary hits that will have everyone singing and dancing along.
URL:https://discoverwisconsin.com/event/twas-a-girls-night-before-christmas/
LOCATION:The Grand Oshkosh\, 100 High Ave\, Oshkosh\, WI\, 54901\, United States
ATTACH;FMTTYPE=image/jpeg:https://discoverwisconsin.com/wp-content/uploads/2024/09/Twas-a-Girls-Night-Before-Christmas.jpg
END:VEVENT
END:VCALENDAR