BEGIN:VCALENDAR
VERSION:2.0
PRODID:-//Discover Wisconsin - ECPv6.15.17.1//NONSGML v1.0//EN
CALSCALE:GREGORIAN
METHOD:PUBLISH
X-ORIGINAL-URL:https://discoverwisconsin.com
X-WR-CALDESC:Events for Discover Wisconsin
REFRESH-INTERVAL;VALUE=DURATION:PT1H
X-Robots-Tag:noindex
X-PUBLISHED-TTL:PT1H
BEGIN:VTIMEZONE
TZID:America/Chicago
BEGIN:DAYLIGHT
TZOFFSETFROM:-0600
TZOFFSETTO:-0500
TZNAME:CDT
DTSTART:20230312T080000
END:DAYLIGHT
BEGIN:STANDARD
TZOFFSETFROM:-0500
TZOFFSETTO:-0600
TZNAME:CST
DTSTART:20231105T070000
END:STANDARD
BEGIN:DAYLIGHT
TZOFFSETFROM:-0600
TZOFFSETTO:-0500
TZNAME:CDT
DTSTART:20240310T080000
END:DAYLIGHT
BEGIN:STANDARD
TZOFFSETFROM:-0500
TZOFFSETTO:-0600
TZNAME:CST
DTSTART:20241103T070000
END:STANDARD
BEGIN:DAYLIGHT
TZOFFSETFROM:-0600
TZOFFSETTO:-0500
TZNAME:CDT
DTSTART:20250309T080000
END:DAYLIGHT
BEGIN:STANDARD
TZOFFSETFROM:-0500
TZOFFSETTO:-0600
TZNAME:CST
DTSTART:20251102T070000
END:STANDARD
END:VTIMEZONE
BEGIN:VEVENT
DTSTART;TZID=America/Chicago:20241207T090000
DTEND;TZID=America/Chicago:20241207T120000
DTSTAMP:20260424T210755
CREATED:20240308T162241Z
LAST-MODIFIED:20240308T162241Z
UID:10000511-1733562000-1733572800@discoverwisconsin.com
SUMMARY:Winter Crafter and Farmers' Market
DESCRIPTION:The Beloit Farmers’ Market is year-round! Downtown Beloit Association is hosting the Beloit Winter Crafter & Farmers’ Market in their office/event space in Downtown Beloit. There will be local vendors selling their wares every Saturday\, November through April. Look for produce\, eggs\, cheese\, honey\, baked goods\, seafood\, meat\, poultry\, soaps\, and crafts.\n\nNew this year! Look for food trucks and free family-friendly activities each week.
URL:https://discoverwisconsin.com/event/winter-crafter-and-farmers-market/2024-12-07/
LOCATION:Winter Crafter & Farmers’ Market\, 557 E. Grand Avenue\, Beloit\, WI\, 53511\, United States
ATTACH;FMTTYPE=image/jpeg:https://discoverwisconsin.com/wp-content/uploads/2024/03/43c73beb-b084-4ef4-8440-11a70964c940-add_your_photo_here-Winter-Market.jpeg
END:VEVENT
BEGIN:VEVENT
DTSTART;TZID=America/Chicago:20241207T100000
DTEND;TZID=America/Chicago:20241207T150000
DTSTAMP:20260424T210755
CREATED:20240301T175616Z
LAST-MODIFIED:20240301T175616Z
UID:10000393-1733565600-1733583600@discoverwisconsin.com
SUMMARY:Christmas in Hayward
DESCRIPTION:Christmas in Hayward is an annual holiday season celebration put on by participating merchants and community members of Hayward\, Wisconsin. Come and enjoy family-centered events that draw visitors to the area to experience the beauty of Hayward during the holiday season.
URL:https://discoverwisconsin.com/event/christmas-in-hayward/2024-12-07/
LOCATION:Downtown Hayward\, Downtown Hayward\, WI\, 54843\, United States
ATTACH;FMTTYPE=image/jpeg:https://discoverwisconsin.com/wp-content/uploads/2024/03/fde58f10-c17c-4dda-a181-e8e8d3c5b225-add_your_photo_here-events_hayward_christmasinhayward.jpeg
END:VEVENT
BEGIN:VEVENT
DTSTART;TZID=America/Chicago:20241207T120000
DTEND;TZID=America/Chicago:20241207T160000
DTSTAMP:20260424T210755
CREATED:20241126T004234Z
LAST-MODIFIED:20241126T004234Z
UID:10002661-1733572800-1733587200@discoverwisconsin.com
SUMMARY:Christkindlmarkt
DESCRIPTION:Stop by the 7th annual Christkindlmarkt\, a traditional European-style Christmas market featuring over 50 vendors on Friday\, December 6 from 4-9 p.m. and Saturday\, December 7 from 12-4 p.m. Shop Wisconsin Specialty food retailers and artisan craft vendors\, enjoy live music\, food trucks and craft beer from local breweries.
URL:https://discoverwisconsin.com/event/christkindlmarkt/2024-12-07/
LOCATION:West Allis Farmers Market\, 6501 W. National Avenue\, West Allis\, WI\, United States
ATTACH;FMTTYPE=image/jpeg:https://discoverwisconsin.com/wp-content/uploads/2024/11/Christkindlmarkt.jpg
END:VEVENT
BEGIN:VEVENT
DTSTART;TZID=America/Chicago:20241207T190000
DTEND;TZID=America/Chicago:20241207T203000
DTSTAMP:20260424T210755
CREATED:20240911T185724Z
LAST-MODIFIED:20240911T185724Z
UID:10002585-1733598000-1733603400@discoverwisconsin.com
SUMMARY:B2wins Present: "Sounds of the Season"
DESCRIPTION:Celebrating 20 years of the Alberta S. Kimball Foundation Series \nJoin us for an AfterGlow in The Grand Lounge! \nBack by popular demand\, your favorite Twins return to The Grand Oshkosh for an unforgettable holiday concert experience that’s non-stop fun for the whole family! \nNow in its seventh year of touring\, B2wins offer a refreshing twist on the holiday season’s most timeless classics. “Sounds of the Season” is an engaging\, uplifting\, holiday celebration featuring unique musical renditions and surprises throughout the night that are guaranteed to put a smile on your face and fill you with holiday joy. Get ready to sing\, dance\, laugh and take your soul on a feel-good vacation with the show fans across the country are calling “THE must see show of the season.”
URL:https://discoverwisconsin.com/event/b2wins-present-sounds-of-the-season/
LOCATION:The Grand Oshkosh\, 100 High Ave\, Oshkosh\, WI\, 54901\, United States
ATTACH;FMTTYPE=image/jpeg:https://discoverwisconsin.com/wp-content/uploads/2024/09/B2wins-Present-22Sounds-of-the-Season22.jpg
END:VEVENT
END:VCALENDAR