BEGIN:VCALENDAR
VERSION:2.0
PRODID:-//Discover Wisconsin - ECPv6.15.17.1//NONSGML v1.0//EN
CALSCALE:GREGORIAN
METHOD:PUBLISH
X-ORIGINAL-URL:https://discoverwisconsin.com
X-WR-CALDESC:Events for Discover Wisconsin
REFRESH-INTERVAL;VALUE=DURATION:PT1H
X-Robots-Tag:noindex
X-PUBLISHED-TTL:PT1H
BEGIN:VTIMEZONE
TZID:America/Chicago
BEGIN:DAYLIGHT
TZOFFSETFROM:-0600
TZOFFSETTO:-0500
TZNAME:CDT
DTSTART:20230312T080000
END:DAYLIGHT
BEGIN:STANDARD
TZOFFSETFROM:-0500
TZOFFSETTO:-0600
TZNAME:CST
DTSTART:20231105T070000
END:STANDARD
BEGIN:DAYLIGHT
TZOFFSETFROM:-0600
TZOFFSETTO:-0500
TZNAME:CDT
DTSTART:20240310T080000
END:DAYLIGHT
BEGIN:STANDARD
TZOFFSETFROM:-0500
TZOFFSETTO:-0600
TZNAME:CST
DTSTART:20241103T070000
END:STANDARD
BEGIN:DAYLIGHT
TZOFFSETFROM:-0600
TZOFFSETTO:-0500
TZNAME:CDT
DTSTART:20250309T080000
END:DAYLIGHT
BEGIN:STANDARD
TZOFFSETFROM:-0500
TZOFFSETTO:-0600
TZNAME:CST
DTSTART:20251102T070000
END:STANDARD
END:VTIMEZONE
BEGIN:VEVENT
DTSTART;TZID=America/Chicago:20241210T193000
DTEND;TZID=America/Chicago:20241210T210000
DTSTAMP:20260424T211433
CREATED:20240927T120320Z
LAST-MODIFIED:20240927T120320Z
UID:10002614-1733859000-1733864400@discoverwisconsin.com
SUMMARY:Christmas with John Berry - The 28th Annual Tour
DESCRIPTION:Join Grammy winner John Berry as he returns to the beautiful Grand Oshkosh with his celebrated “Christmas with John Berry – The 28th Annual Tour”. John’s annual Christmas tour has become a family tradition for many\, and this year will bring some wonderful surprises. There is also the opportunity to spend quality time with John before the show as part of his “VIP Experience” package. \nThere is a reason John’s Christmas Tour has lasted 28 consecutive years. If you haven’t experienced it live\, this is the year! If you have\, prepare to enjoy this year’s enhanced experience!
URL:https://discoverwisconsin.com/event/christmas-with-john-berry-the-28th-annual-tour/
LOCATION:The Grand Oshkosh\, 100 High Ave\, Oshkosh\, WI\, 54901\, United States
ATTACH;FMTTYPE=image/jpeg:https://discoverwisconsin.com/wp-content/uploads/2024/09/Christmas-with-John-Berry-The-28th-Annual-Tour.jpg
END:VEVENT
END:VCALENDAR