BEGIN:VCALENDAR
VERSION:2.0
PRODID:-//Discover Wisconsin - ECPv6.15.17.1//NONSGML v1.0//EN
CALSCALE:GREGORIAN
METHOD:PUBLISH
X-WR-CALNAME:Discover Wisconsin
X-ORIGINAL-URL:https://discoverwisconsin.com
X-WR-CALDESC:Events for Discover Wisconsin
REFRESH-INTERVAL;VALUE=DURATION:PT1H
X-Robots-Tag:noindex
X-PUBLISHED-TTL:PT1H
BEGIN:VTIMEZONE
TZID:America/Chicago
BEGIN:DAYLIGHT
TZOFFSETFROM:-0600
TZOFFSETTO:-0500
TZNAME:CDT
DTSTART:20230312T080000
END:DAYLIGHT
BEGIN:STANDARD
TZOFFSETFROM:-0500
TZOFFSETTO:-0600
TZNAME:CST
DTSTART:20231105T070000
END:STANDARD
BEGIN:DAYLIGHT
TZOFFSETFROM:-0600
TZOFFSETTO:-0500
TZNAME:CDT
DTSTART:20240310T080000
END:DAYLIGHT
BEGIN:STANDARD
TZOFFSETFROM:-0500
TZOFFSETTO:-0600
TZNAME:CST
DTSTART:20241103T070000
END:STANDARD
BEGIN:DAYLIGHT
TZOFFSETFROM:-0600
TZOFFSETTO:-0500
TZNAME:CDT
DTSTART:20250309T080000
END:DAYLIGHT
BEGIN:STANDARD
TZOFFSETFROM:-0500
TZOFFSETTO:-0600
TZNAME:CST
DTSTART:20251102T070000
END:STANDARD
END:VTIMEZONE
BEGIN:VEVENT
DTSTART;TZID=America/Chicago:20241214T090000
DTEND;TZID=America/Chicago:20241214T120000
DTSTAMP:20260424T210612
CREATED:20240308T162241Z
LAST-MODIFIED:20240308T162241Z
UID:10000512-1734166800-1734177600@discoverwisconsin.com
SUMMARY:Winter Crafter and Farmers' Market
DESCRIPTION:The Beloit Farmers’ Market is year-round! Downtown Beloit Association is hosting the Beloit Winter Crafter & Farmers’ Market in their office/event space in Downtown Beloit. There will be local vendors selling their wares every Saturday\, November through April. Look for produce\, eggs\, cheese\, honey\, baked goods\, seafood\, meat\, poultry\, soaps\, and crafts.\n\nNew this year! Look for food trucks and free family-friendly activities each week.
URL:https://discoverwisconsin.com/event/winter-crafter-and-farmers-market/2024-12-14/
LOCATION:Winter Crafter & Farmers’ Market\, 557 E. Grand Avenue\, Beloit\, WI\, 53511\, United States
ATTACH;FMTTYPE=image/jpeg:https://discoverwisconsin.com/wp-content/uploads/2024/03/43c73beb-b084-4ef4-8440-11a70964c940-add_your_photo_here-Winter-Market.jpeg
END:VEVENT
BEGIN:VEVENT
DTSTART;TZID=America/Chicago:20241214T100000
DTEND;TZID=America/Chicago:20241214T150000
DTSTAMP:20260424T210612
CREATED:20240301T175616Z
LAST-MODIFIED:20240301T175616Z
UID:10000394-1734170400-1734188400@discoverwisconsin.com
SUMMARY:Christmas in Hayward
DESCRIPTION:Christmas in Hayward is an annual holiday season celebration put on by participating merchants and community members of Hayward\, Wisconsin. Come and enjoy family-centered events that draw visitors to the area to experience the beauty of Hayward during the holiday season.
URL:https://discoverwisconsin.com/event/christmas-in-hayward/2024-12-14/
LOCATION:Downtown Hayward\, Downtown Hayward\, WI\, 54843\, United States
ATTACH;FMTTYPE=image/jpeg:https://discoverwisconsin.com/wp-content/uploads/2024/03/fde58f10-c17c-4dda-a181-e8e8d3c5b225-add_your_photo_here-events_hayward_christmasinhayward.jpeg
END:VEVENT
BEGIN:VEVENT
DTSTART;TZID=America/Chicago:20241214T193000
DTEND;TZID=America/Chicago:20241214T210000
DTSTAMP:20260424T210612
CREATED:20240927T120659Z
LAST-MODIFIED:20240927T120659Z
UID:10002616-1734204600-1734210000@discoverwisconsin.com
SUMMARY:For Kids from 1-92!
DESCRIPTION:“For Kids from One to Ninety Two” is truly a holiday extravaganza\, with everything from beautifully lush\, traditional fare to great pop rock songs and joyful family favorites. The show features Steve March Torme\, Michael Bailey from Vic Ferrari & the amazing band STEEM. This concert is a feast of musical styles\, all woven together by the spirit of the season. You will hear “The Christmas Song” aka ‘Chestnuts Roasting’ written by Mel Torme on a hot July day in Los Angeles\, the best modern pop hits & our new holiday classic\, “I Remember Christmastime.” \nThis show will warm your heart but it’s also plenty exciting enough to make it beat a little faster\, just the sort of feeling that this time of year is all about… Don’t miss\, “For Kids from 1 to 92!” Celebrating our 5th consecutive year at The Grand Oshkosh!
URL:https://discoverwisconsin.com/event/for-kids-from-1-92/2024-12-14/
LOCATION:The Grand Oshkosh\, 100 High Ave\, Oshkosh\, WI\, 54901\, United States
ATTACH;FMTTYPE=image/jpeg:https://discoverwisconsin.com/wp-content/uploads/2024/09/For-Kids-from-1-92.jpg
END:VEVENT
END:VCALENDAR