BEGIN:VCALENDAR
VERSION:2.0
PRODID:-//Discover Wisconsin - ECPv6.15.17.1//NONSGML v1.0//EN
CALSCALE:GREGORIAN
METHOD:PUBLISH
X-WR-CALNAME:Discover Wisconsin
X-ORIGINAL-URL:https://discoverwisconsin.com
X-WR-CALDESC:Events for Discover Wisconsin
REFRESH-INTERVAL;VALUE=DURATION:PT1H
X-Robots-Tag:noindex
X-PUBLISHED-TTL:PT1H
BEGIN:VTIMEZONE
TZID:America/Chicago
BEGIN:DAYLIGHT
TZOFFSETFROM:-0600
TZOFFSETTO:-0500
TZNAME:CDT
DTSTART:20240310T080000
END:DAYLIGHT
BEGIN:STANDARD
TZOFFSETFROM:-0500
TZOFFSETTO:-0600
TZNAME:CST
DTSTART:20241103T070000
END:STANDARD
BEGIN:DAYLIGHT
TZOFFSETFROM:-0600
TZOFFSETTO:-0500
TZNAME:CDT
DTSTART:20250309T080000
END:DAYLIGHT
BEGIN:STANDARD
TZOFFSETFROM:-0500
TZOFFSETTO:-0600
TZNAME:CST
DTSTART:20251102T070000
END:STANDARD
BEGIN:DAYLIGHT
TZOFFSETFROM:-0600
TZOFFSETTO:-0500
TZNAME:CDT
DTSTART:20260308T080000
END:DAYLIGHT
BEGIN:STANDARD
TZOFFSETFROM:-0500
TZOFFSETTO:-0600
TZNAME:CST
DTSTART:20261101T070000
END:STANDARD
END:VTIMEZONE
BEGIN:VEVENT
DTSTART;VALUE=DATE:20250101
DTEND;VALUE=DATE:20250321
DTSTAMP:20260424T192707
CREATED:20250110T185250Z
LAST-MODIFIED:20250110T185250Z
UID:10002671-1735689600-1742515199@discoverwisconsin.com
SUMMARY:Whitetail Ridge Ski Area
DESCRIPTION:Whitetail Ridge Ski Area \nWhitetail Ridge is located near scenic Fort McCoy and is open to the public. \nCome enjoy fantastic winter fun with us! \nSki Hill – Downhill Skiing & Snowboarding – Whitetail Ridge challenges skiers of all ages\, from the novice to the experienced on the slopes supported by the National Ski Patrol. Enjoy downhill slopes with a vertical drop of over 185 feet. A self-loading T-bar serves the slopes where the longest run is 1\,300 feet. \nSnowboarding your thing? Come check out the terrain park! \nSnow Tubing – Grab a tube and head down one of the 5 runs! The 800′ long slope\, it’s sure to be a thrill! The tubing area has a Magic Carpet lift\, so the ride up is just as fun! \nCross Country Skiing – Ski over 5 miles of scenic country on our groomed trails. The abundant wildlife often make appearances on the beautiful trails! Trail use is free;equipment rental available. \nChalet & Ten Point Pub – Need a break from skiing or tubing? Come inside the Chalet to warm-up\, relax and enjoy some food and drinks. \nCheck days and times\, mccoy.armymwr.com or 1-502-898-4498;group pricing available\, call 1-608-388-3517 for details
URL:https://discoverwisconsin.com/event/whitetail-ridge-ski-area/
LOCATION:Whitetail Ridge Ski Area\, 8061 South F Street\, Fort McCoy\, WI\, 54656\, United States
ATTACH;FMTTYPE=image/jpeg:https://discoverwisconsin.com/wp-content/uploads/2025/01/Whitetail-Ridge-Ski-Area.jpg
END:VEVENT
BEGIN:VEVENT
DTSTART;TZID=America/Chicago:20250110T080000
DTEND;TZID=America/Chicago:20250110T230000
DTSTAMP:20260424T192707
CREATED:20241223T135718Z
LAST-MODIFIED:20241223T135718Z
UID:10002663-1736496000-1736550000@discoverwisconsin.com
SUMMARY:American Cornhole Organization - Beloit Major
DESCRIPTION:The upcoming tournament will take place at the Eclipse Event Center in Beloit and marks the 20th season of the ACO. The tournament has been held in Beloit each of the past four years and has sold out each year. Spectators are welcome to watch these professionals at no cost. Food and beverages will be available for purchase for players and spectators. Thanks to a partnership with Wisconsin Distributors\, Bud Light will be the featured beverage of the tournament. Tournament play will begin early on both Friday and Saturday with matches lasting into the evening on both days. Watch the American Cornhole Organization Facebook event page for more information on this year’s schedule of events.
URL:https://discoverwisconsin.com/event/american-cornhole-organization-beloit-major/2025-01-10/
LOCATION:Eclipse Event Center\, 3 Eclipse Center\, Beloit\, WI\, 53511\, United States
ATTACH;FMTTYPE=image/jpeg:https://discoverwisconsin.com/wp-content/uploads/2024/12/American-Cornhole-Organization-Beloit-Major.jpg
END:VEVENT
BEGIN:VEVENT
DTSTART;TZID=America/Chicago:20250110T190000
DTEND;TZID=America/Chicago:20250110T203000
DTSTAMP:20260424T192707
CREATED:20241223T140409Z
LAST-MODIFIED:20241223T140409Z
UID:10002666-1736535600-1736541000@discoverwisconsin.com
SUMMARY:Now and Then
DESCRIPTION:Sometimes what happens after last call just might change your life. One night in 1981\, just as Jamie is closing the bar where he works\, a desperate last-minute customer offers him and his girlfriend Abby two thousand dollars to sit and drink with him. Who wouldn’t take it?\n \nAs the trio swaps stories and Jamie considers the decisions he faces about his musical career and his future with his girlfriend Abby. The young couple begins to realize that this older man is unusually invested in their choices… and the reason he gives them is completely unbelievable. But when a very displeased second stranger arrives\, the unbelievable begins to look like it just might be true. \nNow and Then is a heartfelt romantic comedy about the costs of the choices we make\, and the people who make them with us.
URL:https://discoverwisconsin.com/event/now-and-then/2025-01-10/
LOCATION:The Grand Oshkosh\, 100 High Ave\, Oshkosh\, WI\, 54901\, United States
ATTACH;FMTTYPE=image/jpeg:https://discoverwisconsin.com/wp-content/uploads/2024/12/Now-and-Then.jpg
END:VEVENT
END:VCALENDAR