BEGIN:VCALENDAR
VERSION:2.0
PRODID:-//Discover Wisconsin - ECPv6.15.17.1//NONSGML v1.0//EN
CALSCALE:GREGORIAN
METHOD:PUBLISH
X-ORIGINAL-URL:https://discoverwisconsin.com
X-WR-CALDESC:Events for Discover Wisconsin
REFRESH-INTERVAL;VALUE=DURATION:PT1H
X-Robots-Tag:noindex
X-PUBLISHED-TTL:PT1H
BEGIN:VTIMEZONE
TZID:America/Chicago
BEGIN:DAYLIGHT
TZOFFSETFROM:-0600
TZOFFSETTO:-0500
TZNAME:CDT
DTSTART:20240310T080000
END:DAYLIGHT
BEGIN:STANDARD
TZOFFSETFROM:-0500
TZOFFSETTO:-0600
TZNAME:CST
DTSTART:20241103T070000
END:STANDARD
BEGIN:DAYLIGHT
TZOFFSETFROM:-0600
TZOFFSETTO:-0500
TZNAME:CDT
DTSTART:20250309T080000
END:DAYLIGHT
BEGIN:STANDARD
TZOFFSETFROM:-0500
TZOFFSETTO:-0600
TZNAME:CST
DTSTART:20251102T070000
END:STANDARD
BEGIN:DAYLIGHT
TZOFFSETFROM:-0600
TZOFFSETTO:-0500
TZNAME:CDT
DTSTART:20260308T080000
END:DAYLIGHT
BEGIN:STANDARD
TZOFFSETFROM:-0500
TZOFFSETTO:-0600
TZNAME:CST
DTSTART:20261101T070000
END:STANDARD
END:VTIMEZONE
BEGIN:VEVENT
DTSTART;VALUE=DATE:20250101
DTEND;VALUE=DATE:20250321
DTSTAMP:20260424T210757
CREATED:20250110T185250Z
LAST-MODIFIED:20250110T185250Z
UID:10002671-1735689600-1742515199@discoverwisconsin.com
SUMMARY:Whitetail Ridge Ski Area
DESCRIPTION:Whitetail Ridge Ski Area \nWhitetail Ridge is located near scenic Fort McCoy and is open to the public. \nCome enjoy fantastic winter fun with us! \nSki Hill – Downhill Skiing & Snowboarding – Whitetail Ridge challenges skiers of all ages\, from the novice to the experienced on the slopes supported by the National Ski Patrol. Enjoy downhill slopes with a vertical drop of over 185 feet. A self-loading T-bar serves the slopes where the longest run is 1\,300 feet. \nSnowboarding your thing? Come check out the terrain park! \nSnow Tubing – Grab a tube and head down one of the 5 runs! The 800′ long slope\, it’s sure to be a thrill! The tubing area has a Magic Carpet lift\, so the ride up is just as fun! \nCross Country Skiing – Ski over 5 miles of scenic country on our groomed trails. The abundant wildlife often make appearances on the beautiful trails! Trail use is free;equipment rental available. \nChalet & Ten Point Pub – Need a break from skiing or tubing? Come inside the Chalet to warm-up\, relax and enjoy some food and drinks. \nCheck days and times\, mccoy.armymwr.com or 1-502-898-4498;group pricing available\, call 1-608-388-3517 for details
URL:https://discoverwisconsin.com/event/whitetail-ridge-ski-area/
LOCATION:Whitetail Ridge Ski Area\, 8061 South F Street\, Fort McCoy\, WI\, 54656\, United States
ATTACH;FMTTYPE=image/jpeg:https://discoverwisconsin.com/wp-content/uploads/2025/01/Whitetail-Ridge-Ski-Area.jpg
END:VEVENT
BEGIN:VEVENT
DTSTART;TZID=America/Chicago:20250118T090000
DTEND;TZID=America/Chicago:20250118T120000
DTSTAMP:20260424T210757
CREATED:20240308T162241Z
LAST-MODIFIED:20240308T162241Z
UID:10000517-1737190800-1737201600@discoverwisconsin.com
SUMMARY:Winter Crafter and Farmers' Market
DESCRIPTION:The Beloit Farmers’ Market is year-round! Downtown Beloit Association is hosting the Beloit Winter Crafter & Farmers’ Market in their office/event space in Downtown Beloit. There will be local vendors selling their wares every Saturday\, November through April. Look for produce\, eggs\, cheese\, honey\, baked goods\, seafood\, meat\, poultry\, soaps\, and crafts.\n\nNew this year! Look for food trucks and free family-friendly activities each week.
URL:https://discoverwisconsin.com/event/winter-crafter-and-farmers-market/2025-01-18/
LOCATION:Winter Crafter & Farmers’ Market\, 557 E. Grand Avenue\, Beloit\, WI\, 53511\, United States
ATTACH;FMTTYPE=image/jpeg:https://discoverwisconsin.com/wp-content/uploads/2024/03/43c73beb-b084-4ef4-8440-11a70964c940-add_your_photo_here-Winter-Market.jpeg
END:VEVENT
BEGIN:VEVENT
DTSTART;TZID=America/Chicago:20250118T110000
DTEND;TZID=America/Chicago:20250118T120000
DTSTAMP:20260424T210757
CREATED:20241004T172207Z
LAST-MODIFIED:20241004T172207Z
UID:10002620-1737198000-1737201600@discoverwisconsin.com
SUMMARY:The Magic of Kevin Spencer - Sensory Friendly Public Performance
DESCRIPTION:Part of the 2024-2025 Community First Credit Union ArtREACH Series \nKevin Spencer’s residency is supported in part by a grant by the Oshkosh Area Community Foundation and the Wisconsin Arts Board \nThe Magic of Kevin Spencer is a performance for people of all ages and abilities. It features award-winning magician Kevin Spencer in a fun-filled show that combines storytelling\, stage magic\, and audience participation. This sensory-inclusive performance is designed to create an experience that is welcoming to all audiences including families with children with autism or other developmental or intellectual disabilities that create sensory sensitivities.
URL:https://discoverwisconsin.com/event/the-magic-of-kevin-spencer-sensory-friendly-public-performance/
LOCATION:The Grand Oshkosh\, 100 High Ave\, Oshkosh\, WI\, 54901\, United States
ATTACH;FMTTYPE=image/jpeg:https://discoverwisconsin.com/wp-content/uploads/2024/10/The-Magic-of-Kevin-Spencer-Sensory-Friendly-Public-Performance.jpg
END:VEVENT
END:VCALENDAR