BEGIN:VCALENDAR
VERSION:2.0
PRODID:-//Discover Wisconsin - ECPv6.15.17.1//NONSGML v1.0//EN
CALSCALE:GREGORIAN
METHOD:PUBLISH
X-ORIGINAL-URL:https://discoverwisconsin.com
X-WR-CALDESC:Events for Discover Wisconsin
REFRESH-INTERVAL;VALUE=DURATION:PT1H
X-Robots-Tag:noindex
X-PUBLISHED-TTL:PT1H
BEGIN:VTIMEZONE
TZID:America/Chicago
BEGIN:DAYLIGHT
TZOFFSETFROM:-0600
TZOFFSETTO:-0500
TZNAME:CDT
DTSTART:20240310T080000
END:DAYLIGHT
BEGIN:STANDARD
TZOFFSETFROM:-0500
TZOFFSETTO:-0600
TZNAME:CST
DTSTART:20241103T070000
END:STANDARD
BEGIN:DAYLIGHT
TZOFFSETFROM:-0600
TZOFFSETTO:-0500
TZNAME:CDT
DTSTART:20250309T080000
END:DAYLIGHT
BEGIN:STANDARD
TZOFFSETFROM:-0500
TZOFFSETTO:-0600
TZNAME:CST
DTSTART:20251102T070000
END:STANDARD
BEGIN:DAYLIGHT
TZOFFSETFROM:-0600
TZOFFSETTO:-0500
TZNAME:CDT
DTSTART:20260308T080000
END:DAYLIGHT
BEGIN:STANDARD
TZOFFSETFROM:-0500
TZOFFSETTO:-0600
TZNAME:CST
DTSTART:20261101T070000
END:STANDARD
END:VTIMEZONE
BEGIN:VEVENT
DTSTART;VALUE=DATE:20250101
DTEND;VALUE=DATE:20250321
DTSTAMP:20260424T160619
CREATED:20250110T185250Z
LAST-MODIFIED:20250110T185250Z
UID:10002671-1735689600-1742515199@discoverwisconsin.com
SUMMARY:Whitetail Ridge Ski Area
DESCRIPTION:Whitetail Ridge Ski Area \nWhitetail Ridge is located near scenic Fort McCoy and is open to the public. \nCome enjoy fantastic winter fun with us! \nSki Hill – Downhill Skiing & Snowboarding – Whitetail Ridge challenges skiers of all ages\, from the novice to the experienced on the slopes supported by the National Ski Patrol. Enjoy downhill slopes with a vertical drop of over 185 feet. A self-loading T-bar serves the slopes where the longest run is 1\,300 feet. \nSnowboarding your thing? Come check out the terrain park! \nSnow Tubing – Grab a tube and head down one of the 5 runs! The 800′ long slope\, it’s sure to be a thrill! The tubing area has a Magic Carpet lift\, so the ride up is just as fun! \nCross Country Skiing – Ski over 5 miles of scenic country on our groomed trails. The abundant wildlife often make appearances on the beautiful trails! Trail use is free;equipment rental available. \nChalet & Ten Point Pub – Need a break from skiing or tubing? Come inside the Chalet to warm-up\, relax and enjoy some food and drinks. \nCheck days and times\, mccoy.armymwr.com or 1-502-898-4498;group pricing available\, call 1-608-388-3517 for details
URL:https://discoverwisconsin.com/event/whitetail-ridge-ski-area/
LOCATION:Whitetail Ridge Ski Area\, 8061 South F Street\, Fort McCoy\, WI\, 54656\, United States
ATTACH;FMTTYPE=image/jpeg:https://discoverwisconsin.com/wp-content/uploads/2025/01/Whitetail-Ridge-Ski-Area.jpg
END:VEVENT
BEGIN:VEVENT
DTSTART;TZID=America/Chicago:20250221T070000
DTEND;TZID=America/Chicago:20250221T180000
DTSTAMP:20260424T160619
CREATED:20240301T175959Z
LAST-MODIFIED:20240301T175959Z
UID:10000398-1740121200-1740160800@discoverwisconsin.com
SUMMARY:American Birkebeiner
DESCRIPTION:The American Birkebeiner is North America’s largest and most prestigious cross-country ski race. Each February\, thousands of skiers and spectators head to Hayward\, WI\, for this annual week of Nordic festivities. A variety of family-friendly ski events are held on the legendary Birkie Trail and in downtown Hayward as a part of Birkie Week events.
URL:https://discoverwisconsin.com/event/american-birkebeiner/2025-02-21/
LOCATION:American Birkebeiner Trail\, American Birkebeiner Trail\, Hayward\, WI\, 54843\, United States
ATTACH;FMTTYPE=image/jpeg:https://discoverwisconsin.com/wp-content/uploads/2024/03/1ed35018-bcf9-4748-9ca0-62d73012cb06-add_your_photo_here-events_hayward_americanbirkebeiner_photo-Kelly-Randolph-scaled.jpeg
END:VEVENT
BEGIN:VEVENT
DTSTART;TZID=America/Chicago:20250221T200000
DTEND;TZID=America/Chicago:20250221T213000
DTSTAMP:20260424T160619
CREATED:20241223T141200Z
LAST-MODIFIED:20241223T141200Z
UID:10002669-1740168000-1740173400@discoverwisconsin.com
SUMMARY:Crystal Gayle
DESCRIPTION:Presented by ACG \nFebruary 21 | 8:00 p.m. \nGet Tickets \nGrammy®-winning songstress Crystal Gayle is a beloved country music icon whose reign in the music business includes 22 No. 1 country hits\, four top twenty pop hits\, six albums certified Gold by the RIAA and three certified Platinum\, including We Must Believe in Magic which was the first album by a female artist in country music history to reach platinum sales. \nHer list of platinum and gold is matched by her awards and accolades. CMA’s “Female Vocalist of the Year” for two consecutive years\, Crystal is also a Grammy® Award winner for “Best Female Vocal Performance” thanks to her timeless\, international smash hit “Don’t It Make My Brown Eyes Blue” – a song that she today admits she has never grown tired of singing. Crystal has three Academy of Country Music Awards statuettes for “Top Female Vocalist” and won four American Music Awards. \nNot surprisingly\, she was named the Most Performed Country Female Artist on radio for the decade of 1975-1985. Perhaps nothing sums up Crystal’s career achievements better than being awarded with a star on the fabled Hollywood Walk of Fame in October 2009. Famous for her nearly floor-length hair\, Crystal was voted one of the 50 most beautiful people in the world by People Magazine and in 2016 the Academy of Country Music honored her with the Cliffie Stone Pioneer Award. Gayle was inducted into the Grand Ole Opry in January 2017 by her sister and Opry legend Loretta Lynn.
URL:https://discoverwisconsin.com/event/crystal-gayle/
LOCATION:The Grand Oshkosh\, 100 High Ave\, Oshkosh\, WI\, 54901\, United States
ATTACH;FMTTYPE=image/jpeg:https://discoverwisconsin.com/wp-content/uploads/2024/12/Crystal-Gayle.jpg
END:VEVENT
END:VCALENDAR