BEGIN:VCALENDAR
VERSION:2.0
PRODID:-//Discover Wisconsin - ECPv6.15.17.1//NONSGML v1.0//EN
CALSCALE:GREGORIAN
METHOD:PUBLISH
X-WR-CALNAME:Discover Wisconsin
X-ORIGINAL-URL:https://discoverwisconsin.com
X-WR-CALDESC:Events for Discover Wisconsin
REFRESH-INTERVAL;VALUE=DURATION:PT1H
X-Robots-Tag:noindex
X-PUBLISHED-TTL:PT1H
BEGIN:VTIMEZONE
TZID:America/Chicago
BEGIN:DAYLIGHT
TZOFFSETFROM:-0600
TZOFFSETTO:-0500
TZNAME:CDT
DTSTART:20240310T080000
END:DAYLIGHT
BEGIN:STANDARD
TZOFFSETFROM:-0500
TZOFFSETTO:-0600
TZNAME:CST
DTSTART:20241103T070000
END:STANDARD
BEGIN:DAYLIGHT
TZOFFSETFROM:-0600
TZOFFSETTO:-0500
TZNAME:CDT
DTSTART:20250309T080000
END:DAYLIGHT
BEGIN:STANDARD
TZOFFSETFROM:-0500
TZOFFSETTO:-0600
TZNAME:CST
DTSTART:20251102T070000
END:STANDARD
BEGIN:DAYLIGHT
TZOFFSETFROM:-0600
TZOFFSETTO:-0500
TZNAME:CDT
DTSTART:20260308T080000
END:DAYLIGHT
BEGIN:STANDARD
TZOFFSETFROM:-0500
TZOFFSETTO:-0600
TZNAME:CST
DTSTART:20261101T070000
END:STANDARD
END:VTIMEZONE
BEGIN:VEVENT
DTSTART;VALUE=DATE:20250403
DTEND;VALUE=DATE:20250404
DTSTAMP:20260424T132358
CREATED:20250218T153742Z
LAST-MODIFIED:20250218T153742Z
UID:10003059-1743638400-1743724799@discoverwisconsin.com
SUMMARY:Beloit International Film Festival
DESCRIPTION:The Beloit International Film Festival (BIFF)—is an annual ten-day film festival that celebrates the power of independent film from around the globe. Local residents and visitors from all over the U.S. experience the diversity and impact of international film each year. Venues\, ranging in size from 40-400 seats\, showcase 100 incredible films. In addition\, festival attendees meet scores of filmmakers from all around the U.S. and the entire world. The Hendricks Center for the Arts at Beloit College (409 Pleasant Street) will serve as both a screening venue\, and as the new official BIFF Box Office throughout the ten days of BIFF 2025.
URL:https://discoverwisconsin.com/event/beloit-international-film-festival-2/2025-04-03/
LOCATION:Beloit\, Beloit\, WI\, 53511\, United States
ATTACH;FMTTYPE=image/jpeg:https://discoverwisconsin.com/wp-content/uploads/2025/02/BIFF-scaled.jpg
END:VEVENT
BEGIN:VEVENT
DTSTART;TZID=America/Chicago:20250403T093000
DTEND;TZID=America/Chicago:20250403T101500
DTSTAMP:20260424T132358
CREATED:20241104T160730Z
LAST-MODIFIED:20241104T160730Z
UID:10002650-1743672600-1743675300@discoverwisconsin.com
SUMMARY:Janet's Planet: A Tour Through the Solar System
DESCRIPTION:Part of the 2024-2025 Amcor Student Discovery Series \n(Open to the General Public) \nPart of the 2024-2025 Community First Credit Union ArtREACH Series \nRecommended Grade Levels: K-5 \nJanet’s Planet: A Tour Through the Solar System travels at the “speed of thought\,” introducing the wonders of the galaxy to families and young audiences throughout the country. The interactive presentation engages and challenges students and is designed to inspire STEM (Science\, Technology\, Engineering\, and Mathematics) potential in elementary school age kids. Lesson plans are designed to integrate with Next Generation Science Standards\, based on a curriculum endorsed by NASA and Space Florida. Janet’s Planet meets Common Core Standards. \nLength of Show: 45 minutes \nCurriculum Connections: STEAM
URL:https://discoverwisconsin.com/event/janets-planet-a-tour-through-the-solar-system/2025-04-03/1/
LOCATION:The Grand Oshkosh\, 100 High Ave\, Oshkosh\, WI\, 54901\, United States
ATTACH;FMTTYPE=image/jpeg:https://discoverwisconsin.com/wp-content/uploads/2024/11/Janets-Planet-A-Tour-Through-the-Solar-System.jpg
END:VEVENT
BEGIN:VEVENT
DTSTART;TZID=America/Chicago:20250403T123000
DTEND;TZID=America/Chicago:20250403T131500
DTSTAMP:20260424T132358
CREATED:20241104T160730Z
LAST-MODIFIED:20241104T160730Z
UID:10002651-1743683400-1743686100@discoverwisconsin.com
SUMMARY:Janet's Planet: A Tour Through the Solar System
DESCRIPTION:Part of the 2024-2025 Amcor Student Discovery Series \n(Open to the General Public) \nPart of the 2024-2025 Community First Credit Union ArtREACH Series \nRecommended Grade Levels: K-5 \nJanet’s Planet: A Tour Through the Solar System travels at the “speed of thought\,” introducing the wonders of the galaxy to families and young audiences throughout the country. The interactive presentation engages and challenges students and is designed to inspire STEM (Science\, Technology\, Engineering\, and Mathematics) potential in elementary school age kids. Lesson plans are designed to integrate with Next Generation Science Standards\, based on a curriculum endorsed by NASA and Space Florida. Janet’s Planet meets Common Core Standards. \nLength of Show: 45 minutes \nCurriculum Connections: STEAM
URL:https://discoverwisconsin.com/event/janets-planet-a-tour-through-the-solar-system/2025-04-03/2/
LOCATION:The Grand Oshkosh\, 100 High Ave\, Oshkosh\, WI\, 54901\, United States
ATTACH;FMTTYPE=image/jpeg:https://discoverwisconsin.com/wp-content/uploads/2024/11/Janets-Planet-A-Tour-Through-the-Solar-System.jpg
END:VEVENT
END:VCALENDAR