BEGIN:VCALENDAR
VERSION:2.0
PRODID:-//Discover Wisconsin - ECPv6.15.17.1//NONSGML v1.0//EN
CALSCALE:GREGORIAN
METHOD:PUBLISH
X-ORIGINAL-URL:https://discoverwisconsin.com
X-WR-CALDESC:Events for Discover Wisconsin
REFRESH-INTERVAL;VALUE=DURATION:PT1H
X-Robots-Tag:noindex
X-PUBLISHED-TTL:PT1H
BEGIN:VTIMEZONE
TZID:America/Chicago
BEGIN:DAYLIGHT
TZOFFSETFROM:-0600
TZOFFSETTO:-0500
TZNAME:CDT
DTSTART:20240310T080000
END:DAYLIGHT
BEGIN:STANDARD
TZOFFSETFROM:-0500
TZOFFSETTO:-0600
TZNAME:CST
DTSTART:20241103T070000
END:STANDARD
BEGIN:DAYLIGHT
TZOFFSETFROM:-0600
TZOFFSETTO:-0500
TZNAME:CDT
DTSTART:20250309T080000
END:DAYLIGHT
BEGIN:STANDARD
TZOFFSETFROM:-0500
TZOFFSETTO:-0600
TZNAME:CST
DTSTART:20251102T070000
END:STANDARD
BEGIN:DAYLIGHT
TZOFFSETFROM:-0600
TZOFFSETTO:-0500
TZNAME:CDT
DTSTART:20260308T080000
END:DAYLIGHT
BEGIN:STANDARD
TZOFFSETFROM:-0500
TZOFFSETTO:-0600
TZNAME:CST
DTSTART:20261101T070000
END:STANDARD
END:VTIMEZONE
BEGIN:VEVENT
DTSTART;VALUE=DATE:20250412
DTEND;VALUE=DATE:20250413
DTSTAMP:20260424T132040
CREATED:20250218T154455Z
LAST-MODIFIED:20250218T155810Z
UID:10003072-1744416000-1744502399@discoverwisconsin.com
SUMMARY:Beloit Sky Carp Baseball
DESCRIPTION:Beloit Sky Carp Minor League baseball games at ABC Supply Stadium are like hitting a home run! Our High-A Affiliate of the Miami Marlins always makes it a great time at the ballpark by offering major-league fun at minor-league prices. Whether it’s catching Poopsie\, the mascot\, for a picture\, the fireworks displays and theme nights\, or the variety of fantastic food and beverage options\, they have something for all ages to enjoy. The season runs from April through September\, so it’s the perfect time to get in on the action and experience a game.
URL:https://discoverwisconsin.com/event/beloit-sky-carp-baseball-8/2025-04-12/
LOCATION:ABC Supply Stadium\, 217 Shirland Ave\, Beloit\, 53511\, United States
ATTACH;FMTTYPE=image/jpeg:https://discoverwisconsin.com/wp-content/uploads/2025/02/Beloit-Sky-Carm.jpg
END:VEVENT
BEGIN:VEVENT
DTSTART;TZID=America/Chicago:20250412T090000
DTEND;TZID=America/Chicago:20250412T120000
DTSTAMP:20260424T132040
CREATED:20240308T162241Z
LAST-MODIFIED:20240308T162241Z
UID:10000529-1744448400-1744459200@discoverwisconsin.com
SUMMARY:Winter Crafter and Farmers' Market
DESCRIPTION:The Beloit Farmers’ Market is year-round! Downtown Beloit Association is hosting the Beloit Winter Crafter & Farmers’ Market in their office/event space in Downtown Beloit. There will be local vendors selling their wares every Saturday\, November through April. Look for produce\, eggs\, cheese\, honey\, baked goods\, seafood\, meat\, poultry\, soaps\, and crafts.\n\nNew this year! Look for food trucks and free family-friendly activities each week.
URL:https://discoverwisconsin.com/event/winter-crafter-and-farmers-market/2025-04-12/
LOCATION:Winter Crafter & Farmers’ Market\, 557 E. Grand Avenue\, Beloit\, WI\, 53511\, United States
ATTACH;FMTTYPE=image/jpeg:https://discoverwisconsin.com/wp-content/uploads/2024/03/43c73beb-b084-4ef4-8440-11a70964c940-add_your_photo_here-Winter-Market.jpeg
END:VEVENT
END:VCALENDAR