BEGIN:VCALENDAR
VERSION:2.0
PRODID:-//Discover Wisconsin - ECPv6.15.17.1//NONSGML v1.0//EN
CALSCALE:GREGORIAN
METHOD:PUBLISH
X-WR-CALNAME:Discover Wisconsin
X-ORIGINAL-URL:https://discoverwisconsin.com
X-WR-CALDESC:Events for Discover Wisconsin
REFRESH-INTERVAL;VALUE=DURATION:PT1H
X-Robots-Tag:noindex
X-PUBLISHED-TTL:PT1H
BEGIN:VTIMEZONE
TZID:America/Chicago
BEGIN:DAYLIGHT
TZOFFSETFROM:-0600
TZOFFSETTO:-0500
TZNAME:CDT
DTSTART:20240310T080000
END:DAYLIGHT
BEGIN:STANDARD
TZOFFSETFROM:-0500
TZOFFSETTO:-0600
TZNAME:CST
DTSTART:20241103T070000
END:STANDARD
BEGIN:DAYLIGHT
TZOFFSETFROM:-0600
TZOFFSETTO:-0500
TZNAME:CDT
DTSTART:20250309T080000
END:DAYLIGHT
BEGIN:STANDARD
TZOFFSETFROM:-0500
TZOFFSETTO:-0600
TZNAME:CST
DTSTART:20251102T070000
END:STANDARD
BEGIN:DAYLIGHT
TZOFFSETFROM:-0600
TZOFFSETTO:-0500
TZNAME:CDT
DTSTART:20260308T080000
END:DAYLIGHT
BEGIN:STANDARD
TZOFFSETFROM:-0500
TZOFFSETTO:-0600
TZNAME:CST
DTSTART:20261101T070000
END:STANDARD
END:VTIMEZONE
BEGIN:VEVENT
DTSTART;VALUE=DATE:20250427
DTEND;VALUE=DATE:20250428
DTSTAMP:20260424T144015
CREATED:20250218T154455Z
LAST-MODIFIED:20250218T155810Z
UID:10003087-1745712000-1745798399@discoverwisconsin.com
SUMMARY:Beloit Sky Carp Baseball
DESCRIPTION:Beloit Sky Carp Minor League baseball games at ABC Supply Stadium are like hitting a home run! Our High-A Affiliate of the Miami Marlins always makes it a great time at the ballpark by offering major-league fun at minor-league prices. Whether it’s catching Poopsie\, the mascot\, for a picture\, the fireworks displays and theme nights\, or the variety of fantastic food and beverage options\, they have something for all ages to enjoy. The season runs from April through September\, so it’s the perfect time to get in on the action and experience a game.
URL:https://discoverwisconsin.com/event/beloit-sky-carp-baseball-8/2025-04-27/
LOCATION:ABC Supply Stadium\, 217 Shirland Ave\, Beloit\, 53511\, United States
ATTACH;FMTTYPE=image/jpeg:https://discoverwisconsin.com/wp-content/uploads/2025/02/Beloit-Sky-Carm.jpg
END:VEVENT
BEGIN:VEVENT
DTSTART;TZID=America/Chicago:20250427T140000
DTEND;TZID=America/Chicago:20250427T153000
DTSTAMP:20260424T144015
CREATED:20241104T154747Z
LAST-MODIFIED:20241104T154747Z
UID:10002643-1745762400-1745767800@discoverwisconsin.com
SUMMARY:The Beat Goes On
DESCRIPTION:Starring Lisa McClowry as CHER \nApril 27\, 2025 | 2:00 p.m. \nCelebrating 20 years of Alberta S. Kimball Foundation Series \nJoin us for an AfterGlow in The Grand Lounge! \nCher is\, in short\, incomparable. And now\, she is uncannily and perfectly captured in a Broadway-style live stage show called “The Beat Goes On” by Legends in Concert artist/singer/actress Lisa McClowry who has every aspect of playing Cher down pat: the singing and speaking voice\, the walk\, the talk\, the Bob Mackie-styled costumes\, the makeup\, and mannerisms. Nothing is overlooked. \nDon’t miss ALL the hits (dating back to the 60s!)- “I Got You Babe”\, “Gypsies Tramps and Thieves”\, “I Found Someone”\, “The Way of Love”\, “If I Could Turn Back Time”\, “Believe”\, and so much more!
URL:https://discoverwisconsin.com/event/the-beat-goes-on/
LOCATION:The Grand Oshkosh\, 100 High Ave\, Oshkosh\, WI\, 54901\, United States
ATTACH;FMTTYPE=image/jpeg:https://discoverwisconsin.com/wp-content/uploads/2024/11/The-Beat-Goes-On.jpg
END:VEVENT
END:VCALENDAR