BEGIN:VCALENDAR
VERSION:2.0
PRODID:-//Discover Wisconsin - ECPv6.15.17.1//NONSGML v1.0//EN
CALSCALE:GREGORIAN
METHOD:PUBLISH
X-WR-CALNAME:Discover Wisconsin
X-ORIGINAL-URL:https://discoverwisconsin.com
X-WR-CALDESC:Events for Discover Wisconsin
REFRESH-INTERVAL;VALUE=DURATION:PT1H
X-Robots-Tag:noindex
X-PUBLISHED-TTL:PT1H
BEGIN:VTIMEZONE
TZID:America/Chicago
BEGIN:DAYLIGHT
TZOFFSETFROM:-0600
TZOFFSETTO:-0500
TZNAME:CDT
DTSTART:20240310T080000
END:DAYLIGHT
BEGIN:STANDARD
TZOFFSETFROM:-0500
TZOFFSETTO:-0600
TZNAME:CST
DTSTART:20241103T070000
END:STANDARD
BEGIN:DAYLIGHT
TZOFFSETFROM:-0600
TZOFFSETTO:-0500
TZNAME:CDT
DTSTART:20250309T080000
END:DAYLIGHT
BEGIN:STANDARD
TZOFFSETFROM:-0500
TZOFFSETTO:-0600
TZNAME:CST
DTSTART:20251102T070000
END:STANDARD
BEGIN:DAYLIGHT
TZOFFSETFROM:-0600
TZOFFSETTO:-0500
TZNAME:CDT
DTSTART:20260308T080000
END:DAYLIGHT
BEGIN:STANDARD
TZOFFSETFROM:-0500
TZOFFSETTO:-0600
TZNAME:CST
DTSTART:20261101T070000
END:STANDARD
END:VTIMEZONE
BEGIN:VEVENT
DTSTART;VALUE=DATE:20250506
DTEND;VALUE=DATE:20250507
DTSTAMP:20260424T144011
CREATED:20250218T154455Z
LAST-MODIFIED:20250218T155810Z
UID:10003096-1746489600-1746575999@discoverwisconsin.com
SUMMARY:Beloit Sky Carp Baseball
DESCRIPTION:Beloit Sky Carp Minor League baseball games at ABC Supply Stadium are like hitting a home run! Our High-A Affiliate of the Miami Marlins always makes it a great time at the ballpark by offering major-league fun at minor-league prices. Whether it’s catching Poopsie\, the mascot\, for a picture\, the fireworks displays and theme nights\, or the variety of fantastic food and beverage options\, they have something for all ages to enjoy. The season runs from April through September\, so it’s the perfect time to get in on the action and experience a game.
URL:https://discoverwisconsin.com/event/beloit-sky-carp-baseball-8/2025-05-06/
LOCATION:ABC Supply Stadium\, 217 Shirland Ave\, Beloit\, 53511\, United States
ATTACH;FMTTYPE=image/jpeg:https://discoverwisconsin.com/wp-content/uploads/2025/02/Beloit-Sky-Carm.jpg
END:VEVENT
BEGIN:VEVENT
DTSTART;TZID=America/Chicago:20250506T093000
DTEND;TZID=America/Chicago:20250506T103000
DTSTAMP:20260424T144011
CREATED:20241104T161428Z
LAST-MODIFIED:20241104T161428Z
UID:10002653-1746523800-1746527400@discoverwisconsin.com
SUMMARY:Alice in Wonderland
DESCRIPTION:Lexington Children’s Theatre \nAdapted by Kathryn Schultz Miller \nBased on the book by Lewis Carroll \nEmbark on a whimsical journey down the rabbit hole with Lewis Carroll and Alice Liddell as your guides! Together\, they invite you to explore a topsy-turvy world where nothing is quite as it seems. From the White Rabbit to the Cheshire Cat to the Queen of Hearts\, you’ll encounter the eccentric inhabitants of Wonderland in a journey that’s sure to delight and enchant audiences of all ages. Don’t be late for this important date!
URL:https://discoverwisconsin.com/event/alice-in-wonderland/2025-05-06/1/
LOCATION:The Grand Oshkosh\, 100 High Ave\, Oshkosh\, WI\, 54901\, United States
ATTACH;FMTTYPE=image/jpeg:https://discoverwisconsin.com/wp-content/uploads/2024/11/Alice-in-Wonderland.jpg
END:VEVENT
BEGIN:VEVENT
DTSTART;TZID=America/Chicago:20250506T123000
DTEND;TZID=America/Chicago:20250506T133000
DTSTAMP:20260424T144011
CREATED:20241104T161428Z
LAST-MODIFIED:20241104T161428Z
UID:10002654-1746534600-1746538200@discoverwisconsin.com
SUMMARY:Alice in Wonderland
DESCRIPTION:Lexington Children’s Theatre \nAdapted by Kathryn Schultz Miller \nBased on the book by Lewis Carroll \nEmbark on a whimsical journey down the rabbit hole with Lewis Carroll and Alice Liddell as your guides! Together\, they invite you to explore a topsy-turvy world where nothing is quite as it seems. From the White Rabbit to the Cheshire Cat to the Queen of Hearts\, you’ll encounter the eccentric inhabitants of Wonderland in a journey that’s sure to delight and enchant audiences of all ages. Don’t be late for this important date!
URL:https://discoverwisconsin.com/event/alice-in-wonderland/2025-05-06/2/
LOCATION:The Grand Oshkosh\, 100 High Ave\, Oshkosh\, WI\, 54901\, United States
ATTACH;FMTTYPE=image/jpeg:https://discoverwisconsin.com/wp-content/uploads/2024/11/Alice-in-Wonderland.jpg
END:VEVENT
END:VCALENDAR