BEGIN:VCALENDAR
VERSION:2.0
PRODID:-//Discover Wisconsin - ECPv6.15.17.1//NONSGML v1.0//EN
CALSCALE:GREGORIAN
METHOD:PUBLISH
X-ORIGINAL-URL:https://discoverwisconsin.com
X-WR-CALDESC:Events for Discover Wisconsin
REFRESH-INTERVAL;VALUE=DURATION:PT1H
X-Robots-Tag:noindex
X-PUBLISHED-TTL:PT1H
BEGIN:VTIMEZONE
TZID:America/Chicago
BEGIN:DAYLIGHT
TZOFFSETFROM:-0600
TZOFFSETTO:-0500
TZNAME:CDT
DTSTART:20240310T080000
END:DAYLIGHT
BEGIN:STANDARD
TZOFFSETFROM:-0500
TZOFFSETTO:-0600
TZNAME:CST
DTSTART:20241103T070000
END:STANDARD
BEGIN:DAYLIGHT
TZOFFSETFROM:-0600
TZOFFSETTO:-0500
TZNAME:CDT
DTSTART:20250309T080000
END:DAYLIGHT
BEGIN:STANDARD
TZOFFSETFROM:-0500
TZOFFSETTO:-0600
TZNAME:CST
DTSTART:20251102T070000
END:STANDARD
BEGIN:DAYLIGHT
TZOFFSETFROM:-0600
TZOFFSETTO:-0500
TZNAME:CDT
DTSTART:20260308T080000
END:DAYLIGHT
BEGIN:STANDARD
TZOFFSETFROM:-0500
TZOFFSETTO:-0600
TZNAME:CST
DTSTART:20261101T070000
END:STANDARD
END:VTIMEZONE
BEGIN:VEVENT
DTSTART;VALUE=DATE:20250516
DTEND;VALUE=DATE:20250517
DTSTAMP:20260424T144247
CREATED:20250218T154455Z
LAST-MODIFIED:20250218T155810Z
UID:10003106-1747353600-1747439999@discoverwisconsin.com
SUMMARY:Beloit Sky Carp Baseball
DESCRIPTION:Beloit Sky Carp Minor League baseball games at ABC Supply Stadium are like hitting a home run! Our High-A Affiliate of the Miami Marlins always makes it a great time at the ballpark by offering major-league fun at minor-league prices. Whether it’s catching Poopsie\, the mascot\, for a picture\, the fireworks displays and theme nights\, or the variety of fantastic food and beverage options\, they have something for all ages to enjoy. The season runs from April through September\, so it’s the perfect time to get in on the action and experience a game.
URL:https://discoverwisconsin.com/event/beloit-sky-carp-baseball-8/2025-05-16/
LOCATION:ABC Supply Stadium\, 217 Shirland Ave\, Beloit\, 53511\, United States
ATTACH;FMTTYPE=image/jpeg:https://discoverwisconsin.com/wp-content/uploads/2025/02/Beloit-Sky-Carm.jpg
END:VEVENT
BEGIN:VEVENT
DTSTART;TZID=America/Chicago:20250516T083000
DTEND;TZID=America/Chicago:20250516T200000
DTSTAMP:20260424T144247
CREATED:20250501T140214Z
LAST-MODIFIED:20250501T140214Z
UID:10003407-1747384200-1747425600@discoverwisconsin.com
SUMMARY:Team World Horseshoe Tournament
DESCRIPTION:Team World Tournament is an annual four-person team-sanctioned horseshoe pitching event held at the Telfer Park Pavilion in Beloit\, Wisconsin. 2025 will be the 39th version of the tournament put on by the Beloit Horseshoe Club. It matches some of the best pitchers in a round robin format for three days of pitching. There is a five-team step ladder final on Sunday to determine the champion. There is plenty of seating to watch\, and food and drink are available for purchase. There is no admission charge. Come out and watch some of the best horseshoe pitching in the country right here in Wisconsin.
URL:https://discoverwisconsin.com/event/team-world-horseshoe-tournament/2025-05-16/
LOCATION:Beloit Horseshoe Club\, 2605 Haborn Dr\, Beloit\, WI\, 53511\, United States
ATTACH;FMTTYPE=image/jpeg:https://discoverwisconsin.com/wp-content/uploads/2025/05/Team-World-Horseshoe-Tournament.jpg
END:VEVENT
BEGIN:VEVENT
DTSTART;TZID=America/Chicago:20250516T153000
DTEND;TZID=America/Chicago:20250516T183000
DTSTAMP:20260424T144247
CREATED:20250714T204146Z
LAST-MODIFIED:20250714T204146Z
UID:10003547-1747409400-1747420200@discoverwisconsin.com
SUMMARY:Burns Park Farmers Market
DESCRIPTION:The Friday night Farmers Market is located on Main Street between 7th and 8th Street in Burns Park.
URL:https://discoverwisconsin.com/event/burns-park-farmers-market/2025-05-16/
LOCATION:Burns Park\, 702 Main St\, La Crosse\, WI\, 54601\, United States
ATTACH;FMTTYPE=image/jpeg:https://discoverwisconsin.com/wp-content/uploads/2025/07/Burns-Park-Farmers-Market.jpeg
END:VEVENT
END:VCALENDAR