BEGIN:VCALENDAR
VERSION:2.0
PRODID:-//Discover Wisconsin - ECPv6.15.17.1//NONSGML v1.0//EN
CALSCALE:GREGORIAN
METHOD:PUBLISH
X-WR-CALNAME:Discover Wisconsin
X-ORIGINAL-URL:https://discoverwisconsin.com
X-WR-CALDESC:Events for Discover Wisconsin
REFRESH-INTERVAL;VALUE=DURATION:PT1H
X-Robots-Tag:noindex
X-PUBLISHED-TTL:PT1H
BEGIN:VTIMEZONE
TZID:America/Chicago
BEGIN:DAYLIGHT
TZOFFSETFROM:-0600
TZOFFSETTO:-0500
TZNAME:CDT
DTSTART:20240310T080000
END:DAYLIGHT
BEGIN:STANDARD
TZOFFSETFROM:-0500
TZOFFSETTO:-0600
TZNAME:CST
DTSTART:20241103T070000
END:STANDARD
BEGIN:DAYLIGHT
TZOFFSETFROM:-0600
TZOFFSETTO:-0500
TZNAME:CDT
DTSTART:20250309T080000
END:DAYLIGHT
BEGIN:STANDARD
TZOFFSETFROM:-0500
TZOFFSETTO:-0600
TZNAME:CST
DTSTART:20251102T070000
END:STANDARD
BEGIN:DAYLIGHT
TZOFFSETFROM:-0600
TZOFFSETTO:-0500
TZNAME:CDT
DTSTART:20260308T080000
END:DAYLIGHT
BEGIN:STANDARD
TZOFFSETFROM:-0500
TZOFFSETTO:-0600
TZNAME:CST
DTSTART:20261101T070000
END:STANDARD
END:VTIMEZONE
BEGIN:VEVENT
DTSTART;VALUE=DATE:20250523
DTEND;VALUE=DATE:20250524
DTSTAMP:20260424T131934
CREATED:20250218T154455Z
LAST-MODIFIED:20250218T155810Z
UID:10003113-1747958400-1748044799@discoverwisconsin.com
SUMMARY:Beloit Sky Carp Baseball
DESCRIPTION:Beloit Sky Carp Minor League baseball games at ABC Supply Stadium are like hitting a home run! Our High-A Affiliate of the Miami Marlins always makes it a great time at the ballpark by offering major-league fun at minor-league prices. Whether it’s catching Poopsie\, the mascot\, for a picture\, the fireworks displays and theme nights\, or the variety of fantastic food and beverage options\, they have something for all ages to enjoy. The season runs from April through September\, so it’s the perfect time to get in on the action and experience a game.
URL:https://discoverwisconsin.com/event/beloit-sky-carp-baseball-8/2025-05-23/
LOCATION:ABC Supply Stadium\, 217 Shirland Ave\, Beloit\, 53511\, United States
ATTACH;FMTTYPE=image/jpeg:https://discoverwisconsin.com/wp-content/uploads/2025/02/Beloit-Sky-Carm.jpg
END:VEVENT
BEGIN:VEVENT
DTSTART;TZID=America/Chicago:20250523T113000
DTEND;TZID=America/Chicago:20250523T133000
DTSTAMP:20260424T131934
CREATED:20250501T142733Z
LAST-MODIFIED:20250501T142733Z
UID:10003413-1747999800-1748007000@discoverwisconsin.com
SUMMARY:Fridays In The Park
DESCRIPTION:Come lunch with us! Take a break from work\, meet up with friends. Listen to live music\, kick off your shoes\, and soak up the sun! Tasty selections served by local Downtown Beloit eateries. Only $10 for lunch and a cold drink! Lunch is served until 1:00 pm.
URL:https://discoverwisconsin.com/event/fridays-in-the-park-2/2025-05-23/
LOCATION:First National Bank & Trust Plaza\, 345 E Grand Ave\, Beloit\, WI\, 53511\, United States
ATTACH;FMTTYPE=image/jpeg:https://discoverwisconsin.com/wp-content/uploads/2025/05/Fridays-In-The-Park-scaled.jpg
END:VEVENT
BEGIN:VEVENT
DTSTART;TZID=America/Chicago:20250523T153000
DTEND;TZID=America/Chicago:20250523T183000
DTSTAMP:20260424T131934
CREATED:20250714T204146Z
LAST-MODIFIED:20250714T204146Z
UID:10003548-1748014200-1748025000@discoverwisconsin.com
SUMMARY:Burns Park Farmers Market
DESCRIPTION:The Friday night Farmers Market is located on Main Street between 7th and 8th Street in Burns Park.
URL:https://discoverwisconsin.com/event/burns-park-farmers-market/2025-05-23/
LOCATION:Burns Park\, 702 Main St\, La Crosse\, WI\, 54601\, United States
ATTACH;FMTTYPE=image/jpeg:https://discoverwisconsin.com/wp-content/uploads/2025/07/Burns-Park-Farmers-Market.jpeg
END:VEVENT
BEGIN:VEVENT
DTSTART;TZID=America/Chicago:20250523T160000
DTEND;TZID=America/Chicago:20250523T200000
DTSTAMP:20260424T131934
CREATED:20250529T171151Z
LAST-MODIFIED:20250529T171151Z
UID:10003485-1748016000-1748030400@discoverwisconsin.com
SUMMARY:Feast on the Streets
DESCRIPTION:10 Amazing Restaurants in One Night! Downtown Racine Corporation is excited to unveil a new event\, “Feast on the Streets.” This event promises to be a food journey like no other\, offering an exclusive opportunity to indulge in a diverse array of 10 culinary delights. 10 participating restaurants in Downtown Racine\, each with a different type of cuisine\, select from Italian\, Pakistani\, Irish\, French\, and more.
URL:https://discoverwisconsin.com/event/feast-on-the-streets/
LOCATION:Downtown Racine Corporation\, 425 Main Street\, Racine\, WI\, 53403\, United States
ATTACH;FMTTYPE=image/jpeg:https://discoverwisconsin.com/wp-content/uploads/2025/05/Feast-on-the-Streets.jpg
END:VEVENT
BEGIN:VEVENT
DTSTART;TZID=America/Chicago:20250523T160000
DTEND;TZID=America/Chicago:20250523T220000
DTSTAMP:20260424T131934
CREATED:20250529T170429Z
LAST-MODIFIED:20250529T170429Z
UID:10003480-1748016000-1748037600@discoverwisconsin.com
SUMMARY:Burlington Jamboree
DESCRIPTION:Carnival rides\, live entertainment\, and more! Visit https://burlingtonjamboree.com/ for the most updated details!
URL:https://discoverwisconsin.com/event/burlington-jamboree/2025-05-23/
LOCATION:Burlington Festival Park\, 681 Maryland Ave\, Burlington\, WI\, 53105\, United States
ATTACH;FMTTYPE=image/png:https://discoverwisconsin.com/wp-content/uploads/2025/05/Burlington-Jamboree.png
END:VEVENT
END:VCALENDAR