BEGIN:VCALENDAR
VERSION:2.0
PRODID:-//Discover Wisconsin - ECPv6.15.17.1//NONSGML v1.0//EN
CALSCALE:GREGORIAN
METHOD:PUBLISH
X-ORIGINAL-URL:https://discoverwisconsin.com
X-WR-CALDESC:Events for Discover Wisconsin
REFRESH-INTERVAL;VALUE=DURATION:PT1H
X-Robots-Tag:noindex
X-PUBLISHED-TTL:PT1H
BEGIN:VTIMEZONE
TZID:America/Chicago
BEGIN:DAYLIGHT
TZOFFSETFROM:-0600
TZOFFSETTO:-0500
TZNAME:CDT
DTSTART:20240310T080000
END:DAYLIGHT
BEGIN:STANDARD
TZOFFSETFROM:-0500
TZOFFSETTO:-0600
TZNAME:CST
DTSTART:20241103T070000
END:STANDARD
BEGIN:DAYLIGHT
TZOFFSETFROM:-0600
TZOFFSETTO:-0500
TZNAME:CDT
DTSTART:20250309T080000
END:DAYLIGHT
BEGIN:STANDARD
TZOFFSETFROM:-0500
TZOFFSETTO:-0600
TZNAME:CST
DTSTART:20251102T070000
END:STANDARD
BEGIN:DAYLIGHT
TZOFFSETFROM:-0600
TZOFFSETTO:-0500
TZNAME:CDT
DTSTART:20260308T080000
END:DAYLIGHT
BEGIN:STANDARD
TZOFFSETFROM:-0500
TZOFFSETTO:-0600
TZNAME:CST
DTSTART:20261101T070000
END:STANDARD
END:VTIMEZONE
BEGIN:VEVENT
DTSTART;VALUE=DATE:20250606
DTEND;VALUE=DATE:20250607
DTSTAMP:20260424T103317
CREATED:20250218T154455Z
LAST-MODIFIED:20250218T155810Z
UID:10003127-1749168000-1749254399@discoverwisconsin.com
SUMMARY:Beloit Sky Carp Baseball
DESCRIPTION:Beloit Sky Carp Minor League baseball games at ABC Supply Stadium are like hitting a home run! Our High-A Affiliate of the Miami Marlins always makes it a great time at the ballpark by offering major-league fun at minor-league prices. Whether it’s catching Poopsie\, the mascot\, for a picture\, the fireworks displays and theme nights\, or the variety of fantastic food and beverage options\, they have something for all ages to enjoy. The season runs from April through September\, so it’s the perfect time to get in on the action and experience a game.
URL:https://discoverwisconsin.com/event/beloit-sky-carp-baseball-8/2025-06-06/
LOCATION:ABC Supply Stadium\, 217 Shirland Ave\, Beloit\, 53511\, United States
ATTACH;FMTTYPE=image/jpeg:https://discoverwisconsin.com/wp-content/uploads/2025/02/Beloit-Sky-Carm.jpg
END:VEVENT
BEGIN:VEVENT
DTSTART;VALUE=DATE:20250606
DTEND;VALUE=DATE:20250607
DTSTAMP:20260424T103317
CREATED:20250408T193239Z
LAST-MODIFIED:20250408T193239Z
UID:10003403-1749168000-1749254399@discoverwisconsin.com
SUMMARY:Aquafest
DESCRIPTION:Rice Lake Aquafest is a beloved annual festival held every June in Rice Lake\, Wisconsin\, celebrating community\, music\, and summer fun. The 10-day event features live concerts with national and regional artists\, a huge Grand Parade\, craft fairs\, delicious food vendors\, and plenty of family-friendly attractions. Locals and visitors alike gather to enjoy the welcoming small-town atmosphere and create lasting memories. Aquafest has been a cherished tradition since the 1960s\, drawing thousands of people to Rice Lake year after year.
URL:https://discoverwisconsin.com/event/aquafest/2025-06-06/
LOCATION:Rice Lake\, Rice Lake\, WI\, 54868\, United States
ATTACH;FMTTYPE=image/jpeg:https://discoverwisconsin.com/wp-content/uploads/2025/04/Aquafest.jpg
END:VEVENT
BEGIN:VEVENT
DTSTART;TZID=America/Chicago:20250606T113000
DTEND;TZID=America/Chicago:20250606T133000
DTSTAMP:20260424T103317
CREATED:20250501T142733Z
LAST-MODIFIED:20250501T142733Z
UID:10003415-1749209400-1749216600@discoverwisconsin.com
SUMMARY:Fridays In The Park
DESCRIPTION:Come lunch with us! Take a break from work\, meet up with friends. Listen to live music\, kick off your shoes\, and soak up the sun! Tasty selections served by local Downtown Beloit eateries. Only $10 for lunch and a cold drink! Lunch is served until 1:00 pm.
URL:https://discoverwisconsin.com/event/fridays-in-the-park-2/2025-06-06/
LOCATION:First National Bank & Trust Plaza\, 345 E Grand Ave\, Beloit\, WI\, 53511\, United States
ATTACH;FMTTYPE=image/jpeg:https://discoverwisconsin.com/wp-content/uploads/2025/05/Fridays-In-The-Park-scaled.jpg
END:VEVENT
BEGIN:VEVENT
DTSTART;TZID=America/Chicago:20250606T153000
DTEND;TZID=America/Chicago:20250606T183000
DTSTAMP:20260424T103317
CREATED:20250714T204146Z
LAST-MODIFIED:20250714T204146Z
UID:10003550-1749223800-1749234600@discoverwisconsin.com
SUMMARY:Burns Park Farmers Market
DESCRIPTION:The Friday night Farmers Market is located on Main Street between 7th and 8th Street in Burns Park.
URL:https://discoverwisconsin.com/event/burns-park-farmers-market/2025-06-06/
LOCATION:Burns Park\, 702 Main St\, La Crosse\, WI\, 54601\, United States
ATTACH;FMTTYPE=image/jpeg:https://discoverwisconsin.com/wp-content/uploads/2025/07/Burns-Park-Farmers-Market.jpeg
END:VEVENT
BEGIN:VEVENT
DTSTART;TZID=America/Chicago:20250606T180000
DTEND;TZID=America/Chicago:20250606T210000
DTSTAMP:20260424T103317
CREATED:20250602T140835Z
LAST-MODIFIED:20250602T140835Z
UID:10003514-1749232800-1749243600@discoverwisconsin.com
SUMMARY:Loop Day
DESCRIPTION:Outdoor family kick-off to summer. Live music\, food & drink\, climbing wall\, vendors\, games\, contests\, etc.
URL:https://discoverwisconsin.com/event/loop-day/2025-06-06/
LOCATION:The Loop\, 100 E Chestnut St\, Burlington\, WI\, 53105\, United States
ATTACH;FMTTYPE=image/png:https://discoverwisconsin.com/wp-content/uploads/2025/06/Loop-Day.png
END:VEVENT
BEGIN:VEVENT
DTSTART;TZID=America/Chicago:20250606T193000
DTEND;TZID=America/Chicago:20250606T220000
DTSTAMP:20260424T103317
CREATED:20250304T164011Z
LAST-MODIFIED:20250304T164011Z
UID:10003337-1749238200-1749247200@discoverwisconsin.com
SUMMARY:Friday Bands at the Beach
DESCRIPTION:Buddy’s Beach Bungalow brings free outdoor concerts to the City Beach Bandshell stage on select summer nights. Grab your lawn chair or blanket and enjoy an outdoor show as popular area bands rock the dock at City Beach.
URL:https://discoverwisconsin.com/event/friday-bands-at-the-beach/2025-06-06/
LOCATION:City Beach Park\, 374 West Wisconsin Avenue\, Oconomowoc\, WI\, 53066\, United States
ATTACH;FMTTYPE=image/png:https://discoverwisconsin.com/wp-content/uploads/2025/03/Friday-Bands-at-the-Beach.png
END:VEVENT
END:VCALENDAR