BEGIN:VCALENDAR
VERSION:2.0
PRODID:-//Discover Wisconsin - ECPv6.15.17.1//NONSGML v1.0//EN
CALSCALE:GREGORIAN
METHOD:PUBLISH
X-ORIGINAL-URL:https://discoverwisconsin.com
X-WR-CALDESC:Events for Discover Wisconsin
REFRESH-INTERVAL;VALUE=DURATION:PT1H
X-Robots-Tag:noindex
X-PUBLISHED-TTL:PT1H
BEGIN:VTIMEZONE
TZID:America/Chicago
BEGIN:DAYLIGHT
TZOFFSETFROM:-0600
TZOFFSETTO:-0500
TZNAME:CDT
DTSTART:20240310T080000
END:DAYLIGHT
BEGIN:STANDARD
TZOFFSETFROM:-0500
TZOFFSETTO:-0600
TZNAME:CST
DTSTART:20241103T070000
END:STANDARD
BEGIN:DAYLIGHT
TZOFFSETFROM:-0600
TZOFFSETTO:-0500
TZNAME:CDT
DTSTART:20250309T080000
END:DAYLIGHT
BEGIN:STANDARD
TZOFFSETFROM:-0500
TZOFFSETTO:-0600
TZNAME:CST
DTSTART:20251102T070000
END:STANDARD
BEGIN:DAYLIGHT
TZOFFSETFROM:-0600
TZOFFSETTO:-0500
TZNAME:CDT
DTSTART:20260308T080000
END:DAYLIGHT
BEGIN:STANDARD
TZOFFSETFROM:-0500
TZOFFSETTO:-0600
TZNAME:CST
DTSTART:20261101T070000
END:STANDARD
END:VTIMEZONE
BEGIN:VEVENT
DTSTART;VALUE=DATE:20250710
DTEND;VALUE=DATE:20250711
DTSTAMP:20260424T103635
CREATED:20250218T154455Z
LAST-MODIFIED:20250218T155810Z
UID:10003161-1752105600-1752191999@discoverwisconsin.com
SUMMARY:Beloit Sky Carp Baseball
DESCRIPTION:Beloit Sky Carp Minor League baseball games at ABC Supply Stadium are like hitting a home run! Our High-A Affiliate of the Miami Marlins always makes it a great time at the ballpark by offering major-league fun at minor-league prices. Whether it’s catching Poopsie\, the mascot\, for a picture\, the fireworks displays and theme nights\, or the variety of fantastic food and beverage options\, they have something for all ages to enjoy. The season runs from April through September\, so it’s the perfect time to get in on the action and experience a game.
URL:https://discoverwisconsin.com/event/beloit-sky-carp-baseball-8/2025-07-10/
LOCATION:ABC Supply Stadium\, 217 Shirland Ave\, Beloit\, 53511\, United States
ATTACH;FMTTYPE=image/jpeg:https://discoverwisconsin.com/wp-content/uploads/2025/02/Beloit-Sky-Carm.jpg
END:VEVENT
BEGIN:VEVENT
DTSTART;VALUE=DATE:20250710
DTEND;VALUE=DATE:20250711
DTSTAMP:20260424T103635
CREATED:20250408T191230Z
LAST-MODIFIED:20250408T191230Z
UID:10003389-1752105600-1752191999@discoverwisconsin.com
SUMMARY:Country Boom
DESCRIPTION:Country Boom was founded in 2018 to provide an unforgettable experience in a few key areas: music\, food\, drinks\, venue\, and amenities…without the wait times or chaos. It comes down to the details. The days of camping in a hay field are over. Experience the difference of camping under mature trees\, and beating the summer heat! Aside from providing an unforgettable experience\, Country Boom gives back to non-profit groups who help during the event\, as well as the community by supporting events.
URL:https://discoverwisconsin.com/event/country-boom-2/2025-07-10/
LOCATION:Country Boom Grounds\, W4142 County Highway B\, West Salem\, WI\, 54669\, United States
ATTACH;FMTTYPE=image/jpeg:https://discoverwisconsin.com/wp-content/uploads/2025/04/Country-Boom.jpg
END:VEVENT
BEGIN:VEVENT
DTSTART;TZID=America/Chicago:20250710T150000
DTEND;TZID=America/Chicago:20250710T190000
DTSTAMP:20260424T103635
CREATED:20250714T203723Z
LAST-MODIFIED:20250714T203723Z
UID:10003533-1752159600-1752174000@discoverwisconsin.com
SUMMARY:Burlington's Farmers Market
DESCRIPTION:Burlington Farmers Market Wehmhoff Square Park Every Thursday 3 pm-7 pm May 8–Sept 27 (Night Market: 6/19\, 7/17\, 8/21: 3 pm-8 pm) A vibrant mid-week market with fruit and vegetables\, meat\, cheese bakery\, honey\, preserved and ready-to-eat foods\, live music\, artisans\, local craft beer\, and special events throughout the year. A vendor list is published on our Facebook Page weekly.
URL:https://discoverwisconsin.com/event/burlingtons-farmers-market/2025-07-10/
LOCATION:Wehmhoff Square Park\, 355 N. Pine St.\, Burlington\, WI\, 53105\, United States
ATTACH;FMTTYPE=image/webp:https://discoverwisconsin.com/wp-content/uploads/2025/07/Burlingtons-Farmers-Market.webp
END:VEVENT
BEGIN:VEVENT
DTSTART;TZID=America/Chicago:20250710T160000
DTEND;TZID=America/Chicago:20250710T190000
DTSTAMP:20260424T103635
CREATED:20250529T171507Z
LAST-MODIFIED:20250529T171507Z
UID:10003489-1752163200-1752174000@discoverwisconsin.com
SUMMARY:HayMarket
DESCRIPTION:Get ready for a brand new summer tradition! The HayMarket is debuting on May 29. This family-friendly night market will take place every other Thursday from 4-7 pm on Monument Square\, offering a vibrant mix of local vendors\, live music\, food trucks\, and a beer garden in the heart of Downtown.
URL:https://discoverwisconsin.com/event/haymarket/2025-07-10/
LOCATION:Downtown Racine Corporation\, 425 Main Street\, Racine\, WI\, 53403\, United States
ATTACH;FMTTYPE=image/jpeg:https://discoverwisconsin.com/wp-content/uploads/2025/05/HayMarket.jpg
END:VEVENT
BEGIN:VEVENT
DTSTART;TZID=America/Chicago:20250710T170000
DTEND;TZID=America/Chicago:20250710T233000
DTSTAMP:20260424T103635
CREATED:20250304T174446Z
LAST-MODIFIED:20250304T174446Z
UID:10003369-1752166800-1752190200@discoverwisconsin.com
SUMMARY:Moonlit Movies
DESCRIPTION:Since 2006\, Moonlit Movies has produced movie nights at Fowler Park and on the streets of downtown Oconomowoc that have truly set the benchmark for classic community events – live music\, costumed characters\, Badgerland Water Ski Show\, giant bounce houses\, contests\, games\, celebrity appearances\, superheroes\, the list goes on and on.
URL:https://discoverwisconsin.com/event/moonlit-movies/2025-07-10/
LOCATION:Fowler Park\, 500 Oakwood Ave\, Oconomowoc\, WI\, 53066\, United States
ATTACH;FMTTYPE=image/jpeg:https://discoverwisconsin.com/wp-content/uploads/2025/03/Moonlit-Movies.jpg
END:VEVENT
BEGIN:VEVENT
DTSTART;TZID=America/Chicago:20250710T190000
DTEND;TZID=America/Chicago:20250710T200000
DTSTAMP:20260424T103635
CREATED:20250304T165807Z
LAST-MODIFIED:20250304T165807Z
UID:10003346-1752174000-1752177600@discoverwisconsin.com
SUMMARY:Badgerland Waterski Show
DESCRIPTION:The Badgerland Waterski Team has been performing on area lakes since the 1980s. Each year they bring free shows to Fowler Park throughout summer.
URL:https://discoverwisconsin.com/event/badgerland-waterski-show/2025-07-10/
LOCATION:Fowler Park\, 500 Oakwood Ave\, Oconomowoc\, WI\, 53066\, United States
ATTACH;FMTTYPE=image/jpeg:https://discoverwisconsin.com/wp-content/uploads/2025/03/Badgerland-Waterski-Show-scaled.jpg
END:VEVENT
END:VCALENDAR