BEGIN:VCALENDAR
VERSION:2.0
PRODID:-//Discover Wisconsin - ECPv6.15.17.1//NONSGML v1.0//EN
CALSCALE:GREGORIAN
METHOD:PUBLISH
X-ORIGINAL-URL:https://discoverwisconsin.com
X-WR-CALDESC:Events for Discover Wisconsin
REFRESH-INTERVAL;VALUE=DURATION:PT1H
X-Robots-Tag:noindex
X-PUBLISHED-TTL:PT1H
BEGIN:VTIMEZONE
TZID:America/Chicago
BEGIN:DAYLIGHT
TZOFFSETFROM:-0600
TZOFFSETTO:-0500
TZNAME:CDT
DTSTART:20240310T080000
END:DAYLIGHT
BEGIN:STANDARD
TZOFFSETFROM:-0500
TZOFFSETTO:-0600
TZNAME:CST
DTSTART:20241103T070000
END:STANDARD
BEGIN:DAYLIGHT
TZOFFSETFROM:-0600
TZOFFSETTO:-0500
TZNAME:CDT
DTSTART:20250309T080000
END:DAYLIGHT
BEGIN:STANDARD
TZOFFSETFROM:-0500
TZOFFSETTO:-0600
TZNAME:CST
DTSTART:20251102T070000
END:STANDARD
BEGIN:DAYLIGHT
TZOFFSETFROM:-0600
TZOFFSETTO:-0500
TZNAME:CDT
DTSTART:20260308T080000
END:DAYLIGHT
BEGIN:STANDARD
TZOFFSETFROM:-0500
TZOFFSETTO:-0600
TZNAME:CST
DTSTART:20261101T070000
END:STANDARD
END:VTIMEZONE
BEGIN:VEVENT
DTSTART;TZID=America/Chicago:20250714T100000
DTEND;TZID=America/Chicago:20250714T220000
DTSTAMP:20260424T090535
CREATED:20250529T172740Z
LAST-MODIFIED:20250529T172740Z
UID:10003498-1752487200-1752530400@discoverwisconsin.com
SUMMARY:Salmon-a-Rama
DESCRIPTION:Come join Salmon Unlimited – Wisconsin as we host the 2025 Salmon-A-Rama. In its 51st year\, the fishing tournament will again have a $50\,000 Grand Prize (combined value\, cash and prizes) with hundreds of winners through the 9-day fishing tournament! Tickets are now available at www.salmon-a-rama.com! \nIn addition\, the festival is back with a 10-day event including 13 bands\, fireworks\, food & drinks\, vendor fair\, kids fishing pond\, a magician\, and tons of other entertainment! The family-friendly festival has free entry with lots of free entertainment throughout the week.
URL:https://discoverwisconsin.com/event/salmon-a-rama/2025-07-14/
LOCATION:Festival Park\, 5 5th St\, Racine\, WI\, 53403\, United States
ATTACH;FMTTYPE=image/jpeg:https://discoverwisconsin.com/wp-content/uploads/2025/05/Salmon-a-Rama.jpg
END:VEVENT
BEGIN:VEVENT
DTSTART;TZID=America/Chicago:20250714T170000
DTEND;TZID=America/Chicago:20250714T200000
DTSTAMP:20260424T090535
CREATED:20250529T165646Z
LAST-MODIFIED:20250529T165646Z
UID:10003472-1752512400-1752523200@discoverwisconsin.com
SUMMARY:Fun & Food on First
DESCRIPTION:Join us for the first Fun and Food on First taking place at Ten Club Park. \nBring your appetite for food as there will be a variety of food trucks and drinks available to purchase. \nThis event is Free and open to the public.
URL:https://discoverwisconsin.com/event/fun-food-on-first/2025-07-14/
LOCATION:Ten Club Park\, 100 S 1st St\, Waterford\, WI\, 53185\, United States
ATTACH;FMTTYPE=image/png:https://discoverwisconsin.com/wp-content/uploads/2025/05/Fun-Food-on-First.png
END:VEVENT
BEGIN:VEVENT
DTSTART;TZID=America/Chicago:20250714T190000
DTEND;TZID=America/Chicago:20250714T210000
DTSTAMP:20260424T090535
CREATED:20250501T145630Z
LAST-MODIFIED:20250501T145630Z
UID:10003450-1752519600-1752526800@discoverwisconsin.com
SUMMARY:Dancing at Harry's Place
DESCRIPTION:Love to dance\, or just wish you could? Dancing at Harry’s Place is the spot to learn to Cha Cha\, Waltz. Polka and more with free lessons. When you’ve figured out the footwork\, try out your new talent during open dance time. Come with or without a partner.
URL:https://discoverwisconsin.com/event/dancing-at-harrys-place-2/2025-07-14/
LOCATION:Harry C. Moore Pavilion\, 1160 Riverside Drive\, Beloit\, WI\, 53511\, United States
ATTACH;FMTTYPE=image/jpeg:https://discoverwisconsin.com/wp-content/uploads/2025/05/Dancing-at-Harrys-Place-scaled.jpg
END:VEVENT
END:VCALENDAR