BEGIN:VCALENDAR
VERSION:2.0
PRODID:-//Discover Wisconsin - ECPv6.15.17.1//NONSGML v1.0//EN
CALSCALE:GREGORIAN
METHOD:PUBLISH
X-ORIGINAL-URL:https://discoverwisconsin.com
X-WR-CALDESC:Events for Discover Wisconsin
REFRESH-INTERVAL;VALUE=DURATION:PT1H
X-Robots-Tag:noindex
X-PUBLISHED-TTL:PT1H
BEGIN:VTIMEZONE
TZID:America/Chicago
BEGIN:DAYLIGHT
TZOFFSETFROM:-0600
TZOFFSETTO:-0500
TZNAME:CDT
DTSTART:20240310T080000
END:DAYLIGHT
BEGIN:STANDARD
TZOFFSETFROM:-0500
TZOFFSETTO:-0600
TZNAME:CST
DTSTART:20241103T070000
END:STANDARD
BEGIN:DAYLIGHT
TZOFFSETFROM:-0600
TZOFFSETTO:-0500
TZNAME:CDT
DTSTART:20250309T080000
END:DAYLIGHT
BEGIN:STANDARD
TZOFFSETFROM:-0500
TZOFFSETTO:-0600
TZNAME:CST
DTSTART:20251102T070000
END:STANDARD
BEGIN:DAYLIGHT
TZOFFSETFROM:-0600
TZOFFSETTO:-0500
TZNAME:CDT
DTSTART:20260308T080000
END:DAYLIGHT
BEGIN:STANDARD
TZOFFSETFROM:-0500
TZOFFSETTO:-0600
TZNAME:CST
DTSTART:20261101T070000
END:STANDARD
END:VTIMEZONE
BEGIN:VEVENT
DTSTART;VALUE=DATE:20250719
DTEND;VALUE=DATE:20250720
DTSTAMP:20260424T103632
CREATED:20250218T154455Z
LAST-MODIFIED:20250218T155810Z
UID:10003170-1752883200-1752969599@discoverwisconsin.com
SUMMARY:Beloit Sky Carp Baseball
DESCRIPTION:Beloit Sky Carp Minor League baseball games at ABC Supply Stadium are like hitting a home run! Our High-A Affiliate of the Miami Marlins always makes it a great time at the ballpark by offering major-league fun at minor-league prices. Whether it’s catching Poopsie\, the mascot\, for a picture\, the fireworks displays and theme nights\, or the variety of fantastic food and beverage options\, they have something for all ages to enjoy. The season runs from April through September\, so it’s the perfect time to get in on the action and experience a game.
URL:https://discoverwisconsin.com/event/beloit-sky-carp-baseball-8/2025-07-19/
LOCATION:ABC Supply Stadium\, 217 Shirland Ave\, Beloit\, 53511\, United States
ATTACH;FMTTYPE=image/jpeg:https://discoverwisconsin.com/wp-content/uploads/2025/02/Beloit-Sky-Carm.jpg
END:VEVENT
BEGIN:VEVENT
DTSTART;VALUE=DATE:20250719
DTEND;VALUE=DATE:20250720
DTSTAMP:20260424T103632
CREATED:20250218T160711Z
LAST-MODIFIED:20250218T160711Z
UID:10003304-1752883200-1752969599@discoverwisconsin.com
SUMMARY:Praise In The Pines
DESCRIPTION:Join us for a day of fun\, spiritual renewal\, inspiration\, and transformation.
URL:https://discoverwisconsin.com/event/praise-in-the-pines-2/
LOCATION:Northland Pines High School Field House\, 1800 Pleasure Island Road\, Eagle River\, WI\, 54521\, United States
ATTACH;FMTTYPE=image/png:https://discoverwisconsin.com/wp-content/uploads/2025/02/PITP.png
ORGANIZER;CN="Praise In The Pines":MAILTO:rejoice@praiseinthepines.org
END:VEVENT
BEGIN:VEVENT
DTSTART;TZID=America/Chicago:20250719T080000
DTEND;TZID=America/Chicago:20250719T120000
DTSTAMP:20260424T103632
CREATED:20250304T162651Z
LAST-MODIFIED:20250304T162651Z
UID:10003319-1752912000-1752926400@discoverwisconsin.com
SUMMARY:Summer Farmers Market
DESCRIPTION:Market-goers can find a variety of goods including seasonal produce\, spices\, herbs\, soups\, handmade arts and crafts\, baked goods\, plants\, honey\, cheeses\, jams\, canned goods\, maple syrup\, breads\, and farm fresh eggs and meats. A full list of farmers and vendors participating in the market will be published each year prior to the first day of market\, and this page will be updated weekly with a map of vendors attending in the current week.
URL:https://discoverwisconsin.com/event/summer-farmers-market/2025-07-19/
LOCATION:Campus Parking Lot\, 155 West Wisconsin Avenue\, Oconomowoc\, WI\, 53066\, United States
ATTACH;FMTTYPE=image/jpeg:https://discoverwisconsin.com/wp-content/uploads/2025/03/Oconomowoc-Farmers-Market.jpg
END:VEVENT
BEGIN:VEVENT
DTSTART;TZID=America/Chicago:20250719T080000
DTEND;TZID=America/Chicago:20250719T130000
DTSTAMP:20260424T103632
CREATED:20250218T160508Z
LAST-MODIFIED:20250218T160508Z
UID:10003289-1752912000-1752930000@discoverwisconsin.com
SUMMARY:Beloit Farmers' Market
DESCRIPTION:Since 1975\, the Beloit Farmers’ Market in Downtown Beloit has drawn thousands of locals and visitors. With over 130 vendors\, it’s Wisconsin’s second largest Farmers’ Market\, after Dane County. Enjoy shopping in historic Downtown Beloit for local produce\, organics\, baked goods\, and more. Family-friendly activities like face painting\, balloon animals\, and live music enhance the experience every Saturday\, May through October\, from 8 a.m. to 1 p.m.\, rain or shine.
URL:https://discoverwisconsin.com/event/beloit-farmers-market-2/2025-07-19/
LOCATION:Downtown Beloit\, 300 Block of State Street\, Beloit\, WI\, 53511\, United States
ATTACH;FMTTYPE=image/jpeg:https://discoverwisconsin.com/wp-content/uploads/2025/02/Beloit-Farmers-Market-scaled.jpg
END:VEVENT
BEGIN:VEVENT
DTSTART;TZID=America/Chicago:20250719T090000
DTEND;TZID=America/Chicago:20250719T200000
DTSTAMP:20260424T103632
CREATED:20250529T173425Z
LAST-MODIFIED:20250529T173425Z
UID:10003507-1752915600-1752955200@discoverwisconsin.com
SUMMARY:Experience Burlington Days
DESCRIPTION:Join us downtown for one of Burlington’s BIGGEST summer events! We have over 100 businesses participating. Music\, food\, Maxwell Street Days\, and more!
URL:https://discoverwisconsin.com/event/experience-burlington-days/2025-07-19/
LOCATION:Wehmhoff Square Park\, 355 N. Pine St.\, Burlington\, WI\, 53105\, United States
ATTACH;FMTTYPE=image/jpeg:https://discoverwisconsin.com/wp-content/uploads/2025/05/Experience-Burlington-Days.jpg
END:VEVENT
BEGIN:VEVENT
DTSTART;TZID=America/Chicago:20250719T090000
DTEND;TZID=America/Chicago:20250719T210000
DTSTAMP:20260424T103632
CREATED:20250714T202254Z
LAST-MODIFIED:20250714T202601Z
UID:10003522-1752915600-1752958800@discoverwisconsin.com
SUMMARY:Experience Burlington Days & Maxwell Street Market
DESCRIPTION:Join us downtown for one of Burlington’s BIGGEST summer events! We have over 100 businesses participating!\nMaxwell Street Market in Wehmhoff Square Park\nFriends of the Library Book Sale in Wehmhoff Square\nSidewalk Sales\, Food\, & Drinks throughout Downtown\nLynch & Miller New Car Show\nThe Nash Vintage Car Show\nMechanical Bull Rides\nStreet Performances\nBouncy Houses\nDunk Tank to support local scholarships!\nOutdoor RC Track! Watch or try racing!\nDuck Dash 50/50 Raffle down the Fox River\nFOUR Entertainment Stages!
URL:https://discoverwisconsin.com/event/experience-burlington-days-maxwell-street-market/
LOCATION:Wehmhoff Square Park\, 355 N. Pine St.\, Burlington\, WI\, 53105\, United States
ATTACH;FMTTYPE=image/png:https://discoverwisconsin.com/wp-content/uploads/2025/07/Experience-Burlington-Days-Maxwell-Street-Market-1.png
END:VEVENT
BEGIN:VEVENT
DTSTART;TZID=America/Chicago:20250719T100000
DTEND;TZID=America/Chicago:20250719T220000
DTSTAMP:20260424T103633
CREATED:20250529T172740Z
LAST-MODIFIED:20250529T172740Z
UID:10003503-1752919200-1752962400@discoverwisconsin.com
SUMMARY:Salmon-a-Rama
DESCRIPTION:Come join Salmon Unlimited – Wisconsin as we host the 2025 Salmon-A-Rama. In its 51st year\, the fishing tournament will again have a $50\,000 Grand Prize (combined value\, cash and prizes) with hundreds of winners through the 9-day fishing tournament! Tickets are now available at www.salmon-a-rama.com! \nIn addition\, the festival is back with a 10-day event including 13 bands\, fireworks\, food & drinks\, vendor fair\, kids fishing pond\, a magician\, and tons of other entertainment! The family-friendly festival has free entry with lots of free entertainment throughout the week.
URL:https://discoverwisconsin.com/event/salmon-a-rama/2025-07-19/
LOCATION:Festival Park\, 5 5th St\, Racine\, WI\, 53403\, United States
ATTACH;FMTTYPE=image/jpeg:https://discoverwisconsin.com/wp-content/uploads/2025/05/Salmon-a-Rama.jpg
END:VEVENT
BEGIN:VEVENT
DTSTART;TZID=America/Chicago:20250719T130000
DTEND;TZID=America/Chicago:20250719T160000
DTSTAMP:20260424T103633
CREATED:20250218T155642Z
LAST-MODIFIED:20250218T155642Z
UID:10003247-1752930000-1752940800@discoverwisconsin.com
SUMMARY:Beckman Mill Guided Tours
DESCRIPTION:The mill\, gift shop\, and museum are open every Saturday and Sunday from 1-4 p.m.\, May 3rd through October 26th\, 2025. Corn Grinding and Blacksmith Demonstrating will be featured on the first Saturday of every month.
URL:https://discoverwisconsin.com/event/beckman-mill-guided-tours-2/2025-07-19/
LOCATION:Beckman Mill\, 11600 S County Road H\, Beloit\, WI\, 53511\, United States
ATTACH;FMTTYPE=image/jpeg:https://discoverwisconsin.com/wp-content/uploads/2025/02/Beckman-Mill-Guided-Tours-scaled.jpg
END:VEVENT
BEGIN:VEVENT
DTSTART;TZID=America/Chicago:20250719T170000
DTEND;TZID=America/Chicago:20250719T210000
DTSTAMP:20260424T103633
CREATED:20250304T174858Z
LAST-MODIFIED:20250304T174858Z
UID:10003376-1752944400-1752958800@discoverwisconsin.com
SUMMARY:Summer Beer Gardens
DESCRIPTION:The Oconomowoc Area Chamber of Commerce hosts this outdoor summer event. Enjoy taps from a featured local brewery\, live music\, trivia\, food\, and more.
URL:https://discoverwisconsin.com/event/summer-beer-gardens-2/2025-07-19/
LOCATION:Village Green Park\, 104 East Wisconsin Avenue\, Oconomowoc\, WI\, 53066\, United States
ATTACH;FMTTYPE=image/jpeg:https://discoverwisconsin.com/wp-content/uploads/2025/03/Summer-Beer-Gardens.jpg
END:VEVENT
END:VCALENDAR