BEGIN:VCALENDAR
VERSION:2.0
PRODID:-//Discover Wisconsin - ECPv6.15.17.1//NONSGML v1.0//EN
CALSCALE:GREGORIAN
METHOD:PUBLISH
X-WR-CALNAME:Discover Wisconsin
X-ORIGINAL-URL:https://discoverwisconsin.com
X-WR-CALDESC:Events for Discover Wisconsin
REFRESH-INTERVAL;VALUE=DURATION:PT1H
X-Robots-Tag:noindex
X-PUBLISHED-TTL:PT1H
BEGIN:VTIMEZONE
TZID:America/Chicago
BEGIN:DAYLIGHT
TZOFFSETFROM:-0600
TZOFFSETTO:-0500
TZNAME:CDT
DTSTART:20240310T080000
END:DAYLIGHT
BEGIN:STANDARD
TZOFFSETFROM:-0500
TZOFFSETTO:-0600
TZNAME:CST
DTSTART:20241103T070000
END:STANDARD
BEGIN:DAYLIGHT
TZOFFSETFROM:-0600
TZOFFSETTO:-0500
TZNAME:CDT
DTSTART:20250309T080000
END:DAYLIGHT
BEGIN:STANDARD
TZOFFSETFROM:-0500
TZOFFSETTO:-0600
TZNAME:CST
DTSTART:20251102T070000
END:STANDARD
BEGIN:DAYLIGHT
TZOFFSETFROM:-0600
TZOFFSETTO:-0500
TZNAME:CDT
DTSTART:20260308T080000
END:DAYLIGHT
BEGIN:STANDARD
TZOFFSETFROM:-0500
TZOFFSETTO:-0600
TZNAME:CST
DTSTART:20261101T070000
END:STANDARD
END:VTIMEZONE
BEGIN:VEVENT
DTSTART;VALUE=DATE:20250720
DTEND;VALUE=DATE:20250721
DTSTAMP:20260424T060621
CREATED:20250218T154455Z
LAST-MODIFIED:20250218T155810Z
UID:10003171-1752969600-1753055999@discoverwisconsin.com
SUMMARY:Beloit Sky Carp Baseball
DESCRIPTION:Beloit Sky Carp Minor League baseball games at ABC Supply Stadium are like hitting a home run! Our High-A Affiliate of the Miami Marlins always makes it a great time at the ballpark by offering major-league fun at minor-league prices. Whether it’s catching Poopsie\, the mascot\, for a picture\, the fireworks displays and theme nights\, or the variety of fantastic food and beverage options\, they have something for all ages to enjoy. The season runs from April through September\, so it’s the perfect time to get in on the action and experience a game.
URL:https://discoverwisconsin.com/event/beloit-sky-carp-baseball-8/2025-07-20/
LOCATION:ABC Supply Stadium\, 217 Shirland Ave\, Beloit\, 53511\, United States
ATTACH;FMTTYPE=image/jpeg:https://discoverwisconsin.com/wp-content/uploads/2025/02/Beloit-Sky-Carm.jpg
END:VEVENT
BEGIN:VEVENT
DTSTART;TZID=America/Chicago:20250720T090000
DTEND;TZID=America/Chicago:20250720T210000
DTSTAMP:20260424T060621
CREATED:20250529T173425Z
LAST-MODIFIED:20250529T173425Z
UID:10003508-1753002000-1753045200@discoverwisconsin.com
SUMMARY:Experience Burlington Days
DESCRIPTION:Join us downtown for one of Burlington’s BIGGEST summer events! We have over 100 businesses participating. Music\, food\, Maxwell Street Days\, and more!
URL:https://discoverwisconsin.com/event/experience-burlington-days/2025-07-20/
LOCATION:Wehmhoff Square Park\, 355 N. Pine St.\, Burlington\, WI\, 53105\, United States
ATTACH;FMTTYPE=image/jpeg:https://discoverwisconsin.com/wp-content/uploads/2025/05/Experience-Burlington-Days.jpg
END:VEVENT
BEGIN:VEVENT
DTSTART;TZID=America/Chicago:20250720T100000
DTEND;TZID=America/Chicago:20250720T220000
DTSTAMP:20260424T060621
CREATED:20250529T172740Z
LAST-MODIFIED:20250529T172740Z
UID:10003504-1753005600-1753048800@discoverwisconsin.com
SUMMARY:Salmon-a-Rama
DESCRIPTION:Come join Salmon Unlimited – Wisconsin as we host the 2025 Salmon-A-Rama. In its 51st year\, the fishing tournament will again have a $50\,000 Grand Prize (combined value\, cash and prizes) with hundreds of winners through the 9-day fishing tournament! Tickets are now available at www.salmon-a-rama.com! \nIn addition\, the festival is back with a 10-day event including 13 bands\, fireworks\, food & drinks\, vendor fair\, kids fishing pond\, a magician\, and tons of other entertainment! The family-friendly festival has free entry with lots of free entertainment throughout the week.
URL:https://discoverwisconsin.com/event/salmon-a-rama/2025-07-20/
LOCATION:Festival Park\, 5 5th St\, Racine\, WI\, 53403\, United States
ATTACH;FMTTYPE=image/jpeg:https://discoverwisconsin.com/wp-content/uploads/2025/05/Salmon-a-Rama.jpg
END:VEVENT
BEGIN:VEVENT
DTSTART;TZID=America/Chicago:20250720T120000
DTEND;TZID=America/Chicago:20250720T150000
DTSTAMP:20260424T060621
CREATED:20250218T155025Z
LAST-MODIFIED:20250218T155025Z
UID:10003222-1753012800-1753023600@discoverwisconsin.com
SUMMARY:Ice Cream Social & Artists in the Park
DESCRIPTION:Ice cream and root beer floats will be served. The historic 1858 Beckman Mill grist mill will be in operation\, the cooperage/museum and gift shop will also be open. Artists will be stationed throughout the park\, painting and interacting with guests. Some will have art for sale. Special painting kids’ activities will be held. There is no admission fee or charge for the treats\, but donations are greatly appreciated.
URL:https://discoverwisconsin.com/event/ice-cream-social-artists-in-the-park-2/
LOCATION:Beckman Mill\, 11600 S County Road H\, Beloit\, WI\, 53511\, United States
ATTACH;FMTTYPE=image/jpeg:https://discoverwisconsin.com/wp-content/uploads/2025/02/Ice-Cream-Social-Artists-in-the-Park-scaled.jpg
END:VEVENT
BEGIN:VEVENT
DTSTART;TZID=America/Chicago:20250720T130000
DTEND;TZID=America/Chicago:20250720T160000
DTSTAMP:20260424T060621
CREATED:20250218T155642Z
LAST-MODIFIED:20250218T155642Z
UID:10003248-1753016400-1753027200@discoverwisconsin.com
SUMMARY:Beckman Mill Guided Tours
DESCRIPTION:The mill\, gift shop\, and museum are open every Saturday and Sunday from 1-4 p.m.\, May 3rd through October 26th\, 2025. Corn Grinding and Blacksmith Demonstrating will be featured on the first Saturday of every month.
URL:https://discoverwisconsin.com/event/beckman-mill-guided-tours-2/2025-07-20/
LOCATION:Beckman Mill\, 11600 S County Road H\, Beloit\, WI\, 53511\, United States
ATTACH;FMTTYPE=image/jpeg:https://discoverwisconsin.com/wp-content/uploads/2025/02/Beckman-Mill-Guided-Tours-scaled.jpg
END:VEVENT
BEGIN:VEVENT
DTSTART;TZID=America/Chicago:20250720T150000
DTEND;TZID=America/Chicago:20250720T163000
DTSTAMP:20260424T060621
CREATED:20250218T155214Z
LAST-MODIFIED:20250218T155214Z
UID:10003223-1753023600-1753029000@discoverwisconsin.com
SUMMARY:First Brigade Band Performance
DESCRIPTION:The band makes history live by presenting period brass band music\, performed on antique instruments. Attired in uniforms and gowns\, the band’s musicians\, color guard\, and costumed ladies take you back to the 1860s\, to that turbulent era known as the Civil War. A nostalgic portrayal of the atmosphere of days gone by is generated by a unique form or showmanship that blends the sights and sounds of the period with historical anecdotes.
URL:https://discoverwisconsin.com/event/first-brigade-band-performance/
LOCATION:Beckman Mill\, 11600 S County Road H\, Beloit\, WI\, 53511\, United States
ATTACH;FMTTYPE=image/jpeg:https://discoverwisconsin.com/wp-content/uploads/2025/02/First-Brigade-Band-Performance-scaled.jpg
END:VEVENT
END:VCALENDAR