BEGIN:VCALENDAR
VERSION:2.0
PRODID:-//Discover Wisconsin - ECPv6.15.17.1//NONSGML v1.0//EN
CALSCALE:GREGORIAN
METHOD:PUBLISH
X-WR-CALNAME:Discover Wisconsin
X-ORIGINAL-URL:https://discoverwisconsin.com
X-WR-CALDESC:Events for Discover Wisconsin
REFRESH-INTERVAL;VALUE=DURATION:PT1H
X-Robots-Tag:noindex
X-PUBLISHED-TTL:PT1H
BEGIN:VTIMEZONE
TZID:America/Chicago
BEGIN:DAYLIGHT
TZOFFSETFROM:-0600
TZOFFSETTO:-0500
TZNAME:CDT
DTSTART:20240310T080000
END:DAYLIGHT
BEGIN:STANDARD
TZOFFSETFROM:-0500
TZOFFSETTO:-0600
TZNAME:CST
DTSTART:20241103T070000
END:STANDARD
BEGIN:DAYLIGHT
TZOFFSETFROM:-0600
TZOFFSETTO:-0500
TZNAME:CDT
DTSTART:20250309T080000
END:DAYLIGHT
BEGIN:STANDARD
TZOFFSETFROM:-0500
TZOFFSETTO:-0600
TZNAME:CST
DTSTART:20251102T070000
END:STANDARD
BEGIN:DAYLIGHT
TZOFFSETFROM:-0600
TZOFFSETTO:-0500
TZNAME:CDT
DTSTART:20260308T080000
END:DAYLIGHT
BEGIN:STANDARD
TZOFFSETFROM:-0500
TZOFFSETTO:-0600
TZNAME:CST
DTSTART:20261101T070000
END:STANDARD
END:VTIMEZONE
BEGIN:VEVENT
DTSTART;VALUE=DATE:20250823
DTEND;VALUE=DATE:20250824
DTSTAMP:20260424T044356
CREATED:20250218T154455Z
LAST-MODIFIED:20250218T155810Z
UID:10003205-1755907200-1755993599@discoverwisconsin.com
SUMMARY:Beloit Sky Carp Baseball
DESCRIPTION:Beloit Sky Carp Minor League baseball games at ABC Supply Stadium are like hitting a home run! Our High-A Affiliate of the Miami Marlins always makes it a great time at the ballpark by offering major-league fun at minor-league prices. Whether it’s catching Poopsie\, the mascot\, for a picture\, the fireworks displays and theme nights\, or the variety of fantastic food and beverage options\, they have something for all ages to enjoy. The season runs from April through September\, so it’s the perfect time to get in on the action and experience a game.
URL:https://discoverwisconsin.com/event/beloit-sky-carp-baseball-8/2025-08-23/
LOCATION:ABC Supply Stadium\, 217 Shirland Ave\, Beloit\, 53511\, United States
ATTACH;FMTTYPE=image/jpeg:https://discoverwisconsin.com/wp-content/uploads/2025/02/Beloit-Sky-Carm.jpg
END:VEVENT
BEGIN:VEVENT
DTSTART;TZID=America/Chicago:20250823T080000
DTEND;TZID=America/Chicago:20250823T120000
DTSTAMP:20260424T044356
CREATED:20250304T162651Z
LAST-MODIFIED:20250304T162651Z
UID:10003324-1755936000-1755950400@discoverwisconsin.com
SUMMARY:Summer Farmers Market
DESCRIPTION:Market-goers can find a variety of goods including seasonal produce\, spices\, herbs\, soups\, handmade arts and crafts\, baked goods\, plants\, honey\, cheeses\, jams\, canned goods\, maple syrup\, breads\, and farm fresh eggs and meats. A full list of farmers and vendors participating in the market will be published each year prior to the first day of market\, and this page will be updated weekly with a map of vendors attending in the current week.
URL:https://discoverwisconsin.com/event/summer-farmers-market/2025-08-23/
LOCATION:Campus Parking Lot\, 155 West Wisconsin Avenue\, Oconomowoc\, WI\, 53066\, United States
ATTACH;FMTTYPE=image/jpeg:https://discoverwisconsin.com/wp-content/uploads/2025/03/Oconomowoc-Farmers-Market.jpg
END:VEVENT
BEGIN:VEVENT
DTSTART;TZID=America/Chicago:20250823T080000
DTEND;TZID=America/Chicago:20250823T130000
DTSTAMP:20260424T044356
CREATED:20250218T160508Z
LAST-MODIFIED:20250218T160508Z
UID:10003294-1755936000-1755954000@discoverwisconsin.com
SUMMARY:Beloit Farmers' Market
DESCRIPTION:Since 1975\, the Beloit Farmers’ Market in Downtown Beloit has drawn thousands of locals and visitors. With over 130 vendors\, it’s Wisconsin’s second largest Farmers’ Market\, after Dane County. Enjoy shopping in historic Downtown Beloit for local produce\, organics\, baked goods\, and more. Family-friendly activities like face painting\, balloon animals\, and live music enhance the experience every Saturday\, May through October\, from 8 a.m. to 1 p.m.\, rain or shine.
URL:https://discoverwisconsin.com/event/beloit-farmers-market-2/2025-08-23/
LOCATION:Downtown Beloit\, 300 Block of State Street\, Beloit\, WI\, 53511\, United States
ATTACH;FMTTYPE=image/jpeg:https://discoverwisconsin.com/wp-content/uploads/2025/02/Beloit-Farmers-Market-scaled.jpg
END:VEVENT
BEGIN:VEVENT
DTSTART;TZID=America/Chicago:20250823T130000
DTEND;TZID=America/Chicago:20250823T160000
DTSTAMP:20260424T044356
CREATED:20250218T155642Z
LAST-MODIFIED:20250218T155642Z
UID:10003257-1755954000-1755964800@discoverwisconsin.com
SUMMARY:Beckman Mill Guided Tours
DESCRIPTION:The mill\, gift shop\, and museum are open every Saturday and Sunday from 1-4 p.m.\, May 3rd through October 26th\, 2025. Corn Grinding and Blacksmith Demonstrating will be featured on the first Saturday of every month.
URL:https://discoverwisconsin.com/event/beckman-mill-guided-tours-2/2025-08-23/
LOCATION:Beckman Mill\, 11600 S County Road H\, Beloit\, WI\, 53511\, United States
ATTACH;FMTTYPE=image/jpeg:https://discoverwisconsin.com/wp-content/uploads/2025/02/Beckman-Mill-Guided-Tours-scaled.jpg
END:VEVENT
END:VCALENDAR