BEGIN:VCALENDAR
VERSION:2.0
PRODID:-//Discover Wisconsin - ECPv6.15.17.1//NONSGML v1.0//EN
CALSCALE:GREGORIAN
METHOD:PUBLISH
X-ORIGINAL-URL:https://discoverwisconsin.com
X-WR-CALDESC:Events for Discover Wisconsin
REFRESH-INTERVAL;VALUE=DURATION:PT1H
X-Robots-Tag:noindex
X-PUBLISHED-TTL:PT1H
BEGIN:VTIMEZONE
TZID:America/Chicago
BEGIN:DAYLIGHT
TZOFFSETFROM:-0600
TZOFFSETTO:-0500
TZNAME:CDT
DTSTART:20240310T080000
END:DAYLIGHT
BEGIN:STANDARD
TZOFFSETFROM:-0500
TZOFFSETTO:-0600
TZNAME:CST
DTSTART:20241103T070000
END:STANDARD
BEGIN:DAYLIGHT
TZOFFSETFROM:-0600
TZOFFSETTO:-0500
TZNAME:CDT
DTSTART:20250309T080000
END:DAYLIGHT
BEGIN:STANDARD
TZOFFSETFROM:-0500
TZOFFSETTO:-0600
TZNAME:CST
DTSTART:20251102T070000
END:STANDARD
BEGIN:DAYLIGHT
TZOFFSETFROM:-0600
TZOFFSETTO:-0500
TZNAME:CDT
DTSTART:20260308T080000
END:DAYLIGHT
BEGIN:STANDARD
TZOFFSETFROM:-0500
TZOFFSETTO:-0600
TZNAME:CST
DTSTART:20261101T070000
END:STANDARD
END:VTIMEZONE
BEGIN:VEVENT
DTSTART;TZID=America/Chicago:20250825T170000
DTEND;TZID=America/Chicago:20250825T200000
DTSTAMP:20260424T044512
CREATED:20250529T165646Z
LAST-MODIFIED:20250529T165646Z
UID:10003478-1756141200-1756152000@discoverwisconsin.com
SUMMARY:Fun & Food on First
DESCRIPTION:Join us for the first Fun and Food on First taking place at Ten Club Park. \nBring your appetite for food as there will be a variety of food trucks and drinks available to purchase. \nThis event is Free and open to the public.
URL:https://discoverwisconsin.com/event/fun-food-on-first/2025-08-25/
LOCATION:Ten Club Park\, 100 S 1st St\, Waterford\, WI\, 53185\, United States
ATTACH;FMTTYPE=image/png:https://discoverwisconsin.com/wp-content/uploads/2025/05/Fun-Food-on-First.png
END:VEVENT
BEGIN:VEVENT
DTSTART;TZID=America/Chicago:20250825T190000
DTEND;TZID=America/Chicago:20250825T210000
DTSTAMP:20260424T044512
CREATED:20250501T145630Z
LAST-MODIFIED:20250501T145630Z
UID:10003453-1756148400-1756155600@discoverwisconsin.com
SUMMARY:Dancing at Harry's Place
DESCRIPTION:Love to dance\, or just wish you could? Dancing at Harry’s Place is the spot to learn to Cha Cha\, Waltz. Polka and more with free lessons. When you’ve figured out the footwork\, try out your new talent during open dance time. Come with or without a partner.
URL:https://discoverwisconsin.com/event/dancing-at-harrys-place-2/2025-08-25/
LOCATION:Harry C. Moore Pavilion\, 1160 Riverside Drive\, Beloit\, WI\, 53511\, United States
ATTACH;FMTTYPE=image/jpeg:https://discoverwisconsin.com/wp-content/uploads/2025/05/Dancing-at-Harrys-Place-scaled.jpg
END:VEVENT
END:VCALENDAR