BEGIN:VCALENDAR
VERSION:2.0
PRODID:-//Discover Wisconsin - ECPv6.15.17.1//NONSGML v1.0//EN
CALSCALE:GREGORIAN
METHOD:PUBLISH
X-ORIGINAL-URL:https://discoverwisconsin.com
X-WR-CALDESC:Events for Discover Wisconsin
REFRESH-INTERVAL;VALUE=DURATION:PT1H
X-Robots-Tag:noindex
X-PUBLISHED-TTL:PT1H
BEGIN:VTIMEZONE
TZID:America/Chicago
BEGIN:DAYLIGHT
TZOFFSETFROM:-0600
TZOFFSETTO:-0500
TZNAME:CDT
DTSTART:20240310T080000
END:DAYLIGHT
BEGIN:STANDARD
TZOFFSETFROM:-0500
TZOFFSETTO:-0600
TZNAME:CST
DTSTART:20241103T070000
END:STANDARD
BEGIN:DAYLIGHT
TZOFFSETFROM:-0600
TZOFFSETTO:-0500
TZNAME:CDT
DTSTART:20250309T080000
END:DAYLIGHT
BEGIN:STANDARD
TZOFFSETFROM:-0500
TZOFFSETTO:-0600
TZNAME:CST
DTSTART:20251102T070000
END:STANDARD
BEGIN:DAYLIGHT
TZOFFSETFROM:-0600
TZOFFSETTO:-0500
TZNAME:CDT
DTSTART:20260308T080000
END:DAYLIGHT
BEGIN:STANDARD
TZOFFSETFROM:-0500
TZOFFSETTO:-0600
TZNAME:CST
DTSTART:20261101T070000
END:STANDARD
END:VTIMEZONE
BEGIN:VEVENT
DTSTART;TZID=America/Chicago:20250920T080000
DTEND;TZID=America/Chicago:20250920T120000
DTSTAMP:20260424T000340
CREATED:20250304T162651Z
LAST-MODIFIED:20250304T162651Z
UID:10003328-1758355200-1758369600@discoverwisconsin.com
SUMMARY:Summer Farmers Market
DESCRIPTION:Market-goers can find a variety of goods including seasonal produce\, spices\, herbs\, soups\, handmade arts and crafts\, baked goods\, plants\, honey\, cheeses\, jams\, canned goods\, maple syrup\, breads\, and farm fresh eggs and meats. A full list of farmers and vendors participating in the market will be published each year prior to the first day of market\, and this page will be updated weekly with a map of vendors attending in the current week.
URL:https://discoverwisconsin.com/event/summer-farmers-market/2025-09-20/
LOCATION:Campus Parking Lot\, 155 West Wisconsin Avenue\, Oconomowoc\, WI\, 53066\, United States
ATTACH;FMTTYPE=image/jpeg:https://discoverwisconsin.com/wp-content/uploads/2025/03/Oconomowoc-Farmers-Market.jpg
END:VEVENT
BEGIN:VEVENT
DTSTART;TZID=America/Chicago:20250920T080000
DTEND;TZID=America/Chicago:20250920T130000
DTSTAMP:20260424T000340
CREATED:20250218T160508Z
LAST-MODIFIED:20250218T160508Z
UID:10003298-1758355200-1758373200@discoverwisconsin.com
SUMMARY:Beloit Farmers' Market
DESCRIPTION:Since 1975\, the Beloit Farmers’ Market in Downtown Beloit has drawn thousands of locals and visitors. With over 130 vendors\, it’s Wisconsin’s second largest Farmers’ Market\, after Dane County. Enjoy shopping in historic Downtown Beloit for local produce\, organics\, baked goods\, and more. Family-friendly activities like face painting\, balloon animals\, and live music enhance the experience every Saturday\, May through October\, from 8 a.m. to 1 p.m.\, rain or shine.
URL:https://discoverwisconsin.com/event/beloit-farmers-market-2/2025-09-20/
LOCATION:Downtown Beloit\, 300 Block of State Street\, Beloit\, WI\, 53511\, United States
ATTACH;FMTTYPE=image/jpeg:https://discoverwisconsin.com/wp-content/uploads/2025/02/Beloit-Farmers-Market-scaled.jpg
END:VEVENT
BEGIN:VEVENT
DTSTART;TZID=America/Chicago:20250920T080000
DTEND;TZID=America/Chicago:20250920T160000
DTSTAMP:20260424T000340
CREATED:20250501T144132Z
LAST-MODIFIED:20250501T144132Z
UID:10003443-1758355200-1758384000@discoverwisconsin.com
SUMMARY:Flying Circus Fun Fly
DESCRIPTION:Sanctioned event is Saturday from 8 am – 4 pm\, but if you like to fly as much as we do\, come out Friday and stay through Sunday. The field will be open for flying all 3 days! There will be night flying on Friday and Saturday night. Free swap area for anyone looking to sell or buy. Pilot raffle will be on Saturday only\, and you do not need to be present to win. Tickets will be awarded for each flight\, and additional tickets will be for sale as well. We will have many awesome items available. Pilot award plaques will be awarded on Saturday. Overnight RV parking will be available close to the flight line; however\, no hookups are available. Come out and join us for a fun-filled weekend of flying!
URL:https://discoverwisconsin.com/event/flying-circus-fun-fly-2/
LOCATION:Rock River Aero Modelers Society Airport\, 6916 CR-J\, Beloit\, WI\, 53511\, United States
ATTACH;FMTTYPE=image/jpeg:https://discoverwisconsin.com/wp-content/uploads/2025/05/Flying-Circus-Fun-Fly.jpg
END:VEVENT
BEGIN:VEVENT
DTSTART;TZID=America/Chicago:20250920T110000
DTEND;TZID=America/Chicago:20250920T170000
DTSTAMP:20260424T000340
CREATED:20250529T164848Z
LAST-MODIFIED:20250529T164848Z
UID:10003464-1758366000-1758387600@discoverwisconsin.com
SUMMARY:River Fest
DESCRIPTION:River Fest brings together Sheboygan residents and visitors alike for one day of live music\, local food\, vendor booths\, and family fun!
URL:https://discoverwisconsin.com/event/river-fest/
LOCATION:Sheboygan’s Riverfront\, 705 Riverfront Drive\, Sheboygan\, WI\, 53081\, United States
ATTACH;FMTTYPE=image/jpeg:https://discoverwisconsin.com/wp-content/uploads/2025/05/River-Fest.jpg
END:VEVENT
BEGIN:VEVENT
DTSTART;TZID=America/Chicago:20250920T130000
DTEND;TZID=America/Chicago:20250920T160000
DTSTAMP:20260424T000340
CREATED:20250218T155642Z
LAST-MODIFIED:20250218T155642Z
UID:10003265-1758373200-1758384000@discoverwisconsin.com
SUMMARY:Beckman Mill Guided Tours
DESCRIPTION:The mill\, gift shop\, and museum are open every Saturday and Sunday from 1-4 p.m.\, May 3rd through October 26th\, 2025. Corn Grinding and Blacksmith Demonstrating will be featured on the first Saturday of every month.
URL:https://discoverwisconsin.com/event/beckman-mill-guided-tours-2/2025-09-20/
LOCATION:Beckman Mill\, 11600 S County Road H\, Beloit\, WI\, 53511\, United States
ATTACH;FMTTYPE=image/jpeg:https://discoverwisconsin.com/wp-content/uploads/2025/02/Beckman-Mill-Guided-Tours-scaled.jpg
END:VEVENT
BEGIN:VEVENT
DTSTART;TZID=America/Chicago:20250920T173000
DTEND;TZID=America/Chicago:20250920T230000
DTSTAMP:20260424T000340
CREATED:20250501T143722Z
LAST-MODIFIED:20250501T143722Z
UID:10003442-1758389400-1758409200@discoverwisconsin.com
SUMMARY:Downtown Beloit Fall Festival
DESCRIPTION:Downtown Beloit Fall Festival on the 300 block of State Street. Opening band 5:30 pm to 7:30 pm. At 8 pm\, the headliner hits the stage. Check the website for admission fees. Downtown Beloit businesses stay open late\, and local eateries will be on-site.
URL:https://discoverwisconsin.com/event/downtown-beloit-fall-festival/
LOCATION:Downtown Beloit\, 300 Block of State Street\, Beloit\, WI\, 53511\, United States
ATTACH;FMTTYPE=image/jpeg:https://discoverwisconsin.com/wp-content/uploads/2025/05/Downtown-Beloit-Fall-Festival-scaled.jpg
END:VEVENT
END:VCALENDAR