BEGIN:VCALENDAR
VERSION:2.0
PRODID:-//Discover Wisconsin - ECPv6.15.17.1//NONSGML v1.0//EN
CALSCALE:GREGORIAN
METHOD:PUBLISH
X-WR-CALNAME:Discover Wisconsin
X-ORIGINAL-URL:https://discoverwisconsin.com
X-WR-CALDESC:Events for Discover Wisconsin
REFRESH-INTERVAL;VALUE=DURATION:PT1H
X-Robots-Tag:noindex
X-PUBLISHED-TTL:PT1H
BEGIN:VTIMEZONE
TZID:America/Chicago
BEGIN:DAYLIGHT
TZOFFSETFROM:-0600
TZOFFSETTO:-0500
TZNAME:CDT
DTSTART:20240310T080000
END:DAYLIGHT
BEGIN:STANDARD
TZOFFSETFROM:-0500
TZOFFSETTO:-0600
TZNAME:CST
DTSTART:20241103T070000
END:STANDARD
BEGIN:DAYLIGHT
TZOFFSETFROM:-0600
TZOFFSETTO:-0500
TZNAME:CDT
DTSTART:20250309T080000
END:DAYLIGHT
BEGIN:STANDARD
TZOFFSETFROM:-0500
TZOFFSETTO:-0600
TZNAME:CST
DTSTART:20251102T070000
END:STANDARD
BEGIN:DAYLIGHT
TZOFFSETFROM:-0600
TZOFFSETTO:-0500
TZNAME:CDT
DTSTART:20260308T080000
END:DAYLIGHT
BEGIN:STANDARD
TZOFFSETFROM:-0500
TZOFFSETTO:-0600
TZNAME:CST
DTSTART:20261101T070000
END:STANDARD
END:VTIMEZONE
BEGIN:VEVENT
DTSTART;TZID=America/Chicago:20251128T170000
DTEND;TZID=America/Chicago:20251128T200000
DTSTAMP:20260423T205718
CREATED:20251029T153918Z
LAST-MODIFIED:20251029T153918Z
UID:10003602-1764349200-1764360000@discoverwisconsin.com
SUMMARY:Grand Lighted Holiday Parade & Tree Lighting
DESCRIPTION:The Grand Lighted Holiday Parade offers an impressive schedule of events and attracts thousands of local community members and visitors alike. Live music\, free hot chocolate\, photos with Santa and Mrs. Claus\, and decorative floats are just a few of the entertainment highlights enjoyed by the gathering.
URL:https://discoverwisconsin.com/event/grand-lighted-holiday-parade-tree-lighting-2/
LOCATION:Downtown Beloit\, 300 Block of State Street\, Beloit\, WI\, 53511\, United States
ATTACH;FMTTYPE=image/jpeg:https://discoverwisconsin.com/wp-content/uploads/2025/10/Grand-Lighted-Holiday-Parade-Tree-Lighting-scaled.jpg
END:VEVENT
BEGIN:VEVENT
DTSTART;TZID=America/Chicago:20251128T170000
DTEND;TZID=America/Chicago:20251128T220000
DTSTAMP:20260423T205718
CREATED:20251029T154338Z
LAST-MODIFIED:20251029T154338Z
UID:10003617-1764349200-1764367200@discoverwisconsin.com
SUMMARY:Home Run Holiday Lights
DESCRIPTION:New this year at ABC Supply Stadium\, home to the Beloit Sky Carp minor league baseball team\, is the Home Run Holiday Light Show. Running from November 14 – January 4\, this holiday attraction will feature more than one million lights synchronized to holiday music. This family-friendly experience includes a walk-through light display across the baseball field and concourse\, holiday train rides for children\, a Santa and Mrs. Claus letter writing station\, crafts\, on-field igloos and fire pits available for rent\, food\, drinks\, concessions\, character appearances\, as well as a digital scavenger hunt and themed nights.
URL:https://discoverwisconsin.com/event/home-run-holiday-lights/2025-11-28/
LOCATION:ABC Supply Stadium\, 217 Shirland Ave\, Beloit\, 53511\, United States
ATTACH;FMTTYPE=image/jpeg:https://discoverwisconsin.com/wp-content/uploads/2025/10/Home-Run-Holiday-Lights.jpg
END:VEVENT
BEGIN:VEVENT
DTSTART;TZID=America/Chicago:20251128T190000
DTEND;TZID=America/Chicago:20251128T220000
DTSTAMP:20260423T205718
CREATED:20250304T172654Z
LAST-MODIFIED:20250304T172654Z
UID:10003363-1764356400-1764367200@discoverwisconsin.com
SUMMARY:Oconomowoc's German Christmas Market
DESCRIPTION:Experience Authentic European Food & Drink\, Unique Shopping Opportunities\, Live Polka Music\, and Much More!
URL:https://discoverwisconsin.com/event/oconomowocs-german-christmas-market/2025-11-28/
LOCATION:Village Green Park\, 104 East Wisconsin Avenue\, Oconomowoc\, WI\, 53066\, United States
ATTACH;FMTTYPE=image/jpeg:https://discoverwisconsin.com/wp-content/uploads/2025/03/Oconomowocs-German-Christmas-Market.jpg
END:VEVENT
END:VCALENDAR