BEGIN:VCALENDAR
VERSION:2.0
PRODID:-//Discover Wisconsin - ECPv6.15.17.1//NONSGML v1.0//EN
CALSCALE:GREGORIAN
METHOD:PUBLISH
X-WR-CALNAME:Discover Wisconsin
X-ORIGINAL-URL:https://discoverwisconsin.com
X-WR-CALDESC:Events for Discover Wisconsin
REFRESH-INTERVAL;VALUE=DURATION:PT1H
X-Robots-Tag:noindex
X-PUBLISHED-TTL:PT1H
BEGIN:VTIMEZONE
TZID:America/Chicago
BEGIN:DAYLIGHT
TZOFFSETFROM:-0600
TZOFFSETTO:-0500
TZNAME:CDT
DTSTART:20250309T080000
END:DAYLIGHT
BEGIN:STANDARD
TZOFFSETFROM:-0500
TZOFFSETTO:-0600
TZNAME:CST
DTSTART:20251102T070000
END:STANDARD
BEGIN:DAYLIGHT
TZOFFSETFROM:-0600
TZOFFSETTO:-0500
TZNAME:CDT
DTSTART:20260308T080000
END:DAYLIGHT
BEGIN:STANDARD
TZOFFSETFROM:-0500
TZOFFSETTO:-0600
TZNAME:CST
DTSTART:20261101T070000
END:STANDARD
BEGIN:DAYLIGHT
TZOFFSETFROM:-0600
TZOFFSETTO:-0500
TZNAME:CDT
DTSTART:20270314T080000
END:DAYLIGHT
BEGIN:STANDARD
TZOFFSETFROM:-0500
TZOFFSETTO:-0600
TZNAME:CST
DTSTART:20271107T070000
END:STANDARD
END:VTIMEZONE
BEGIN:VEVENT
DTSTART;VALUE=DATE:20260124
DTEND;VALUE=DATE:20260125
DTSTAMP:20260423T175053
CREATED:20260205T185924Z
LAST-MODIFIED:20260205T185924Z
UID:10003665-1769212800-1769299199@discoverwisconsin.com
SUMMARY:Beloit Winterfest
DESCRIPTION:Looking to beat those winter blues? The City of Beloit Parks and Recreation Division is holding its annual Beloit Winterfest celebration Jan. 23-25\, 2026. The City of Beloit is thrilled to offer these recreation opportunities for families to get out and enjoy winter in Beloit. It’s a weekend full of fun winter activities for the whole family!
URL:https://discoverwisconsin.com/event/beloit-winterfest-2/2026-01-24/
LOCATION:Beloit\, Beloit\, WI\, 53511\, United States
ATTACH;FMTTYPE=image/jpeg:https://discoverwisconsin.com/wp-content/uploads/2026/02/Beloit-Winterfest.jpg
END:VEVENT
BEGIN:VEVENT
DTSTART;TZID=America/Chicago:20260124T090000
DTEND;TZID=America/Chicago:20260124T120000
DTSTAMP:20260423T175053
CREATED:20251029T153514Z
LAST-MODIFIED:20251029T153514Z
UID:10003587-1769245200-1769256000@discoverwisconsin.com
SUMMARY:Winter Crafter & Farmers' Market
DESCRIPTION:The Beloit Farmers’ Market is year-round! Downtown Beloit Association is hosting the Beloit Winter Crafter & Farmers’ Market in their office/event space in Downtown Beloit. There will be local vendors selling their goods every Saturday\, November through April. Look for produce\, eggs\, cheese\, honey\, baked goods\, seafood\, meat\, poultry\, soaps\, and crafts. There will be food trucks and free family-friendly activities each week.
URL:https://discoverwisconsin.com/event/winter-crafter-farmers-market/2026-01-24/
LOCATION:Downtown Beloit Association\, 557 E. Grand Ave\, Beloit\, WI\, 53711\, United States
ATTACH;FMTTYPE=image/jpeg:https://discoverwisconsin.com/wp-content/uploads/2025/10/Winter-Crafter-Farmers-Market.jpg
END:VEVENT
BEGIN:VEVENT
DTSTART;TZID=America/Chicago:20260124T090000
DTEND;TZID=America/Chicago:20260124T120000
DTSTAMP:20260423T175053
CREATED:20260205T230329Z
LAST-MODIFIED:20260205T230329Z
UID:10003831-1769245200-1769256000@discoverwisconsin.com
SUMMARY:Winter Crafter & Farmers' Market
DESCRIPTION:The Beloit Farmers’ Market is year round! Downtown Beloit Association is hosting the Beloit Winter Crafter & Farmers’ Market in their office/event space in Downtown Beloit. There will be local vendors selling their goods every Saturday November through April. Look for produce\, eggs\, cheese\, honey\, baked goods\, seafood\, meat\, poultry\, soaps\, and crafts. Look for food trucks and free family-friendly activities each week.
URL:https://discoverwisconsin.com/event/winter-crafter-farmers-market-2/2026-01-24/
LOCATION:Downtown Beloit Association\, 557 E. Grand Ave\, Beloit\, WI\, 53711\, United States
ATTACH;FMTTYPE=image/jpeg:https://discoverwisconsin.com/wp-content/uploads/2026/02/Winter-Crafter-Farmers-Market.jpg
END:VEVENT
END:VCALENDAR