BEGIN:VCALENDAR
VERSION:2.0
PRODID:-//Discover Wisconsin - ECPv6.15.17.1//NONSGML v1.0//EN
CALSCALE:GREGORIAN
METHOD:PUBLISH
X-WR-CALNAME:Discover Wisconsin
X-ORIGINAL-URL:https://discoverwisconsin.com
X-WR-CALDESC:Events for Discover Wisconsin
REFRESH-INTERVAL;VALUE=DURATION:PT1H
X-Robots-Tag:noindex
X-PUBLISHED-TTL:PT1H
BEGIN:VTIMEZONE
TZID:America/Chicago
BEGIN:DAYLIGHT
TZOFFSETFROM:-0600
TZOFFSETTO:-0500
TZNAME:CDT
DTSTART:20250309T080000
END:DAYLIGHT
BEGIN:STANDARD
TZOFFSETFROM:-0500
TZOFFSETTO:-0600
TZNAME:CST
DTSTART:20251102T070000
END:STANDARD
BEGIN:DAYLIGHT
TZOFFSETFROM:-0600
TZOFFSETTO:-0500
TZNAME:CDT
DTSTART:20260308T080000
END:DAYLIGHT
BEGIN:STANDARD
TZOFFSETFROM:-0500
TZOFFSETTO:-0600
TZNAME:CST
DTSTART:20261101T070000
END:STANDARD
BEGIN:DAYLIGHT
TZOFFSETFROM:-0600
TZOFFSETTO:-0500
TZNAME:CDT
DTSTART:20270314T080000
END:DAYLIGHT
BEGIN:STANDARD
TZOFFSETFROM:-0500
TZOFFSETTO:-0600
TZNAME:CST
DTSTART:20271107T070000
END:STANDARD
END:VTIMEZONE
BEGIN:VEVENT
DTSTART;TZID=America/Chicago:20260207T090000
DTEND;TZID=America/Chicago:20260207T120000
DTSTAMP:20260423T143854
CREATED:20251029T153514Z
LAST-MODIFIED:20251029T153514Z
UID:10003589-1770454800-1770465600@discoverwisconsin.com
SUMMARY:Winter Crafter & Farmers' Market
DESCRIPTION:The Beloit Farmers’ Market is year-round! Downtown Beloit Association is hosting the Beloit Winter Crafter & Farmers’ Market in their office/event space in Downtown Beloit. There will be local vendors selling their goods every Saturday\, November through April. Look for produce\, eggs\, cheese\, honey\, baked goods\, seafood\, meat\, poultry\, soaps\, and crafts. There will be food trucks and free family-friendly activities each week.
URL:https://discoverwisconsin.com/event/winter-crafter-farmers-market/2026-02-07/
LOCATION:Downtown Beloit Association\, 557 E. Grand Ave\, Beloit\, WI\, 53711\, United States
ATTACH;FMTTYPE=image/jpeg:https://discoverwisconsin.com/wp-content/uploads/2025/10/Winter-Crafter-Farmers-Market.jpg
END:VEVENT
BEGIN:VEVENT
DTSTART;TZID=America/Chicago:20260207T090000
DTEND;TZID=America/Chicago:20260207T120000
DTSTAMP:20260423T143854
CREATED:20260205T230329Z
LAST-MODIFIED:20260205T230329Z
UID:10003833-1770454800-1770465600@discoverwisconsin.com
SUMMARY:Winter Crafter & Farmers' Market
DESCRIPTION:The Beloit Farmers’ Market is year round! Downtown Beloit Association is hosting the Beloit Winter Crafter & Farmers’ Market in their office/event space in Downtown Beloit. There will be local vendors selling their goods every Saturday November through April. Look for produce\, eggs\, cheese\, honey\, baked goods\, seafood\, meat\, poultry\, soaps\, and crafts. Look for food trucks and free family-friendly activities each week.
URL:https://discoverwisconsin.com/event/winter-crafter-farmers-market-2/2026-02-07/
LOCATION:Downtown Beloit Association\, 557 E. Grand Ave\, Beloit\, WI\, 53711\, United States
ATTACH;FMTTYPE=image/jpeg:https://discoverwisconsin.com/wp-content/uploads/2026/02/Winter-Crafter-Farmers-Market.jpg
END:VEVENT
BEGIN:VEVENT
DTSTART;TZID=America/Chicago:20260207T090000
DTEND;TZID=America/Chicago:20260207T150000
DTSTAMP:20260423T143854
CREATED:20260205T185532Z
LAST-MODIFIED:20260205T185532Z
UID:10003663-1770454800-1770476400@discoverwisconsin.com
SUMMARY:3rd Annual Vintage Snowmobile & Groomer Show
DESCRIPTION:The Lumberjack Memorial Trail (LMT) invites you to our Vintage Snowmobile and Groomer Show\, a unique fundraiser supporting trail maintenance and equipment. It’s a fantastic opportunity for families to witness the evolution of winter machinery\, from historic classics to the latest models. Last year\, we hosted over 50 sleds and several groomers! Join us for a day of mechanical history\, food\, and drinks in our heated pavilion\, and don’t forget to enter our 50/50 raffles. You will also have a chance to ride your sled around the world-famous Brush Run track!
URL:https://discoverwisconsin.com/event/3rd-annual-vintage-snowmobile-groomer-show/
LOCATION:Crandon International Raceway\, 10104 US Hwy 8 Rd\, Crandon\, WI\, 54520\, United States
ATTACH;FMTTYPE=image/png:https://discoverwisconsin.com/wp-content/uploads/2026/02/3rd-Annual-Vintage-Snowmobile-Groomer-Show.png
END:VEVENT
END:VCALENDAR