BEGIN:VCALENDAR
VERSION:2.0
PRODID:-//Discover Wisconsin - ECPv6.15.17.1//NONSGML v1.0//EN
CALSCALE:GREGORIAN
METHOD:PUBLISH
X-ORIGINAL-URL:https://discoverwisconsin.com
X-WR-CALDESC:Events for Discover Wisconsin
REFRESH-INTERVAL;VALUE=DURATION:PT1H
X-Robots-Tag:noindex
X-PUBLISHED-TTL:PT1H
BEGIN:VTIMEZONE
TZID:America/Chicago
BEGIN:DAYLIGHT
TZOFFSETFROM:-0600
TZOFFSETTO:-0500
TZNAME:CDT
DTSTART:20250309T080000
END:DAYLIGHT
BEGIN:STANDARD
TZOFFSETFROM:-0500
TZOFFSETTO:-0600
TZNAME:CST
DTSTART:20251102T070000
END:STANDARD
BEGIN:DAYLIGHT
TZOFFSETFROM:-0600
TZOFFSETTO:-0500
TZNAME:CDT
DTSTART:20260308T080000
END:DAYLIGHT
BEGIN:STANDARD
TZOFFSETFROM:-0500
TZOFFSETTO:-0600
TZNAME:CST
DTSTART:20261101T070000
END:STANDARD
BEGIN:DAYLIGHT
TZOFFSETFROM:-0600
TZOFFSETTO:-0500
TZNAME:CDT
DTSTART:20270314T080000
END:DAYLIGHT
BEGIN:STANDARD
TZOFFSETFROM:-0500
TZOFFSETTO:-0600
TZNAME:CST
DTSTART:20271107T070000
END:STANDARD
END:VTIMEZONE
BEGIN:VEVENT
DTSTART;TZID=America/Chicago:20260418T090000
DTEND;TZID=America/Chicago:20260418T120000
DTSTAMP:20260423T114354
CREATED:20251029T153514Z
LAST-MODIFIED:20251029T153514Z
UID:10003599-1776502800-1776513600@discoverwisconsin.com
SUMMARY:Winter Crafter & Farmers' Market
DESCRIPTION:The Beloit Farmers’ Market is year-round! Downtown Beloit Association is hosting the Beloit Winter Crafter & Farmers’ Market in their office/event space in Downtown Beloit. There will be local vendors selling their goods every Saturday\, November through April. Look for produce\, eggs\, cheese\, honey\, baked goods\, seafood\, meat\, poultry\, soaps\, and crafts. There will be food trucks and free family-friendly activities each week.
URL:https://discoverwisconsin.com/event/winter-crafter-farmers-market/2026-04-18/
LOCATION:Downtown Beloit Association\, 557 E. Grand Ave\, Beloit\, WI\, 53711\, United States
ATTACH;FMTTYPE=image/jpeg:https://discoverwisconsin.com/wp-content/uploads/2025/10/Winter-Crafter-Farmers-Market.jpg
END:VEVENT
BEGIN:VEVENT
DTSTART;TZID=America/Chicago:20260418T090000
DTEND;TZID=America/Chicago:20260418T120000
DTSTAMP:20260423T114354
CREATED:20260205T230329Z
LAST-MODIFIED:20260205T230329Z
UID:10003843-1776502800-1776513600@discoverwisconsin.com
SUMMARY:Winter Crafter & Farmers' Market
DESCRIPTION:The Beloit Farmers’ Market is year round! Downtown Beloit Association is hosting the Beloit Winter Crafter & Farmers’ Market in their office/event space in Downtown Beloit. There will be local vendors selling their goods every Saturday November through April. Look for produce\, eggs\, cheese\, honey\, baked goods\, seafood\, meat\, poultry\, soaps\, and crafts. Look for food trucks and free family-friendly activities each week.
URL:https://discoverwisconsin.com/event/winter-crafter-farmers-market-2/2026-04-18/
LOCATION:Downtown Beloit Association\, 557 E. Grand Ave\, Beloit\, WI\, 53711\, United States
ATTACH;FMTTYPE=image/jpeg:https://discoverwisconsin.com/wp-content/uploads/2026/02/Winter-Crafter-Farmers-Market.jpg
END:VEVENT
BEGIN:VEVENT
DTSTART;TZID=America/Chicago:20260418T140000
DTEND;TZID=America/Chicago:20260418T180000
DTSTAMP:20260423T114354
CREATED:20260327T163559Z
LAST-MODIFIED:20260327T163559Z
UID:10003871-1776520800-1776535200@discoverwisconsin.com
SUMMARY:Downtown Beloit Spring Wine Walk
DESCRIPTION:Taste a variety of wines at a multitude of venues! \nGeneral registration includes a commemorative wine glass and 2 ounce sips at 10 venues of your choice. Limited to 400 tickets. Must be 21 years of age or older. Check in will be at Downtown Beloit Association\, 557 E. Grand Avenue.
URL:https://discoverwisconsin.com/event/downtown-beloit-spring-wine-walk-2/
LOCATION:Beloit\, Beloit\, WI\, 53511\, United States
ATTACH;FMTTYPE=image/jpeg:https://discoverwisconsin.com/wp-content/uploads/2026/03/Downtown-Beloit-Spring-Wine-Walk-scaled.jpg
END:VEVENT
END:VCALENDAR