BEGIN:VCALENDAR
VERSION:2.0
PRODID:-//Discover Wisconsin - ECPv6.15.17.1//NONSGML v1.0//EN
CALSCALE:GREGORIAN
METHOD:PUBLISH
X-ORIGINAL-URL:https://discoverwisconsin.com
X-WR-CALDESC:Events for Discover Wisconsin
REFRESH-INTERVAL;VALUE=DURATION:PT1H
X-Robots-Tag:noindex
X-PUBLISHED-TTL:PT1H
BEGIN:VTIMEZONE
TZID:America/Chicago
BEGIN:DAYLIGHT
TZOFFSETFROM:-0600
TZOFFSETTO:-0500
TZNAME:CDT
DTSTART:20250309T080000
END:DAYLIGHT
BEGIN:STANDARD
TZOFFSETFROM:-0500
TZOFFSETTO:-0600
TZNAME:CST
DTSTART:20251102T070000
END:STANDARD
BEGIN:DAYLIGHT
TZOFFSETFROM:-0600
TZOFFSETTO:-0500
TZNAME:CDT
DTSTART:20260308T080000
END:DAYLIGHT
BEGIN:STANDARD
TZOFFSETFROM:-0500
TZOFFSETTO:-0600
TZNAME:CST
DTSTART:20261101T070000
END:STANDARD
BEGIN:DAYLIGHT
TZOFFSETFROM:-0600
TZOFFSETTO:-0500
TZNAME:CDT
DTSTART:20270314T080000
END:DAYLIGHT
BEGIN:STANDARD
TZOFFSETFROM:-0500
TZOFFSETTO:-0600
TZNAME:CST
DTSTART:20271107T070000
END:STANDARD
END:VTIMEZONE
BEGIN:VEVENT
DTSTART;TZID=America/Chicago:20260719T120000
DTEND;TZID=America/Chicago:20260719T160000
DTSTAMP:20260423T175202
CREATED:20260205T221616Z
LAST-MODIFIED:20260205T221616Z
UID:10003673-1784462400-1784476800@discoverwisconsin.com
SUMMARY:Ice Cream Social & Artists in the Park
DESCRIPTION:Ice cream and root beer floats will be served. The historic 1858 Beckman Mill grist mill will be in operation\, the cooperage/museum and gift shop will also be open. Artists will be stationed throughout the park\, painting and interacting with guests. Some will have art for sale. Special painting kids’ activities will be held. There is no admission fee or charge for the treats\, but donations are greatly appreciated.
URL:https://discoverwisconsin.com/event/ice-cream-social-artists-in-the-park-3/
LOCATION:Beckman Mill\, 11600 S County Road H\, Beloit\, WI\, 53511\, United States
ATTACH;FMTTYPE=image/jpeg:https://discoverwisconsin.com/wp-content/uploads/2026/02/Ice-Cream-Social-Artists-in-the-Park-scaled.jpg
END:VEVENT
BEGIN:VEVENT
DTSTART;TZID=America/Chicago:20260719T130000
DTEND;TZID=America/Chicago:20260719T160000
DTSTAMP:20260423T175202
CREATED:20260205T221947Z
LAST-MODIFIED:20260205T221947Z
UID:10003697-1784466000-1784476800@discoverwisconsin.com
SUMMARY:Beckman Mill Guided Tours
DESCRIPTION:The mill\, gift shop\, and museum are open every Saturday and Sunday from 1-4 p.m.\, May-October\, for guided tours. Admission is $3 per person. Children 6 and under and members of Fridays of Beckman Mill are admitted free. Corn Grinding and Blacksmith Demonstrating will be featured on the first Saturday of every month.
URL:https://discoverwisconsin.com/event/beckman-mill-guided-tours-3/2026-07-19/
LOCATION:Beckman Mill\, 11600 S County Road H\, Beloit\, WI\, 53511\, United States
ATTACH;FMTTYPE=image/jpeg:https://discoverwisconsin.com/wp-content/uploads/2026/02/Beckman-Mill-Guided-Tours-scaled.jpg
END:VEVENT
END:VCALENDAR