BEGIN:VCALENDAR
VERSION:2.0
PRODID:-//Discover Wisconsin - ECPv6.15.17.1//NONSGML v1.0//EN
CALSCALE:GREGORIAN
METHOD:PUBLISH
X-ORIGINAL-URL:https://discoverwisconsin.com
X-WR-CALDESC:Events for Discover Wisconsin
REFRESH-INTERVAL;VALUE=DURATION:PT1H
X-Robots-Tag:noindex
X-PUBLISHED-TTL:PT1H
BEGIN:VTIMEZONE
TZID:America/Chicago
BEGIN:DAYLIGHT
TZOFFSETFROM:-0600
TZOFFSETTO:-0500
TZNAME:CDT
DTSTART:20250309T080000
END:DAYLIGHT
BEGIN:STANDARD
TZOFFSETFROM:-0500
TZOFFSETTO:-0600
TZNAME:CST
DTSTART:20251102T070000
END:STANDARD
BEGIN:DAYLIGHT
TZOFFSETFROM:-0600
TZOFFSETTO:-0500
TZNAME:CDT
DTSTART:20260308T080000
END:DAYLIGHT
BEGIN:STANDARD
TZOFFSETFROM:-0500
TZOFFSETTO:-0600
TZNAME:CST
DTSTART:20261101T070000
END:STANDARD
BEGIN:DAYLIGHT
TZOFFSETFROM:-0600
TZOFFSETTO:-0500
TZNAME:CDT
DTSTART:20270314T080000
END:DAYLIGHT
BEGIN:STANDARD
TZOFFSETFROM:-0500
TZOFFSETTO:-0600
TZNAME:CST
DTSTART:20271107T070000
END:STANDARD
END:VTIMEZONE
BEGIN:VEVENT
DTSTART;TZID=America/Chicago:20260822T080000
DTEND;TZID=America/Chicago:20260822T130000
DTSTAMP:20260423T192335
CREATED:20260205T225832Z
LAST-MODIFIED:20260205T225832Z
UID:10003808-1787385600-1787403600@discoverwisconsin.com
SUMMARY:Beloit Farmers' Market
DESCRIPTION:Every Saturday\, May through October\, from 8 a.m.-1 p.m.\, downtown Beloit draws over 4\,000 visitors each week on State Street and Grand Avenue. With over 130 vendors participating\, it’s the second-largest farmers’ market in Wisconsin\, right after Dane County. Rain or shine\, from May through October\, this award-winning tradition ensures an exciting experience for all.
URL:https://discoverwisconsin.com/event/beloit-farmers-market-3/2026-08-22/
LOCATION:Downtown Beloit\, 300 Block of State Street\, Beloit\, WI\, 53511\, United States
ATTACH;FMTTYPE=image/jpeg:https://discoverwisconsin.com/wp-content/uploads/2026/02/Beloit-Farmers-Market-scaled.jpg
END:VEVENT
BEGIN:VEVENT
DTSTART;TZID=America/Chicago:20260822T130000
DTEND;TZID=America/Chicago:20260822T160000
DTSTAMP:20260423T192335
CREATED:20260205T221947Z
LAST-MODIFIED:20260205T221947Z
UID:10003706-1787403600-1787414400@discoverwisconsin.com
SUMMARY:Beckman Mill Guided Tours
DESCRIPTION:The mill\, gift shop\, and museum are open every Saturday and Sunday from 1-4 p.m.\, May-October\, for guided tours. Admission is $3 per person. Children 6 and under and members of Fridays of Beckman Mill are admitted free. Corn Grinding and Blacksmith Demonstrating will be featured on the first Saturday of every month.
URL:https://discoverwisconsin.com/event/beckman-mill-guided-tours-3/2026-08-22/
LOCATION:Beckman Mill\, 11600 S County Road H\, Beloit\, WI\, 53511\, United States
ATTACH;FMTTYPE=image/jpeg:https://discoverwisconsin.com/wp-content/uploads/2026/02/Beckman-Mill-Guided-Tours-scaled.jpg
END:VEVENT
BEGIN:VEVENT
DTSTART;TZID=America/Chicago:20260822T183500
DTEND;TZID=America/Chicago:20260822T220000
DTSTAMP:20260423T192335
CREATED:20260205T224915Z
LAST-MODIFIED:20260205T224915Z
UID:10003784-1787423700-1787436000@discoverwisconsin.com
SUMMARY:Beloit Sky Carp Baseball
DESCRIPTION:Grab your hats\, jerseys\, and foam fingers for a great time at the ABC Supply Stadium with the Beloit Sky Carp! The Sky Carp is a High-A Affiliate of the Miami Marlins\, offering major-league fun at minor-league prices. Purchase tickets and find out more info about their fun theme nights and more on their website.
URL:https://discoverwisconsin.com/event/beloit-sky-carp-baseball-9/2026-08-22/
LOCATION:ABC Supply Stadium\, 217 Shirland Ave\, Beloit\, 53511\, United States
ATTACH;FMTTYPE=image/jpeg:https://discoverwisconsin.com/wp-content/uploads/2026/02/Beloit-Sky-Carp-Baseball.jpg
END:VEVENT
END:VCALENDAR