BEGIN:VCALENDAR
VERSION:2.0
PRODID:-//Discover Wisconsin - ECPv6.15.17.1//NONSGML v1.0//EN
CALSCALE:GREGORIAN
METHOD:PUBLISH
X-WR-CALNAME:Discover Wisconsin
X-ORIGINAL-URL:https://discoverwisconsin.com
X-WR-CALDESC:Events for Discover Wisconsin
REFRESH-INTERVAL;VALUE=DURATION:PT1H
X-Robots-Tag:noindex
X-PUBLISHED-TTL:PT1H
BEGIN:VTIMEZONE
TZID:America/Chicago
BEGIN:DAYLIGHT
TZOFFSETFROM:-0600
TZOFFSETTO:-0500
TZNAME:CDT
DTSTART:20250309T080000
END:DAYLIGHT
BEGIN:STANDARD
TZOFFSETFROM:-0500
TZOFFSETTO:-0600
TZNAME:CST
DTSTART:20251102T070000
END:STANDARD
BEGIN:DAYLIGHT
TZOFFSETFROM:-0600
TZOFFSETTO:-0500
TZNAME:CDT
DTSTART:20260308T080000
END:DAYLIGHT
BEGIN:STANDARD
TZOFFSETFROM:-0500
TZOFFSETTO:-0600
TZNAME:CST
DTSTART:20261101T070000
END:STANDARD
BEGIN:DAYLIGHT
TZOFFSETFROM:-0600
TZOFFSETTO:-0500
TZNAME:CDT
DTSTART:20270314T080000
END:DAYLIGHT
BEGIN:STANDARD
TZOFFSETFROM:-0500
TZOFFSETTO:-0600
TZNAME:CST
DTSTART:20271107T070000
END:STANDARD
END:VTIMEZONE
BEGIN:VEVENT
DTSTART;TZID=America/Chicago:20260919T080000
DTEND;TZID=America/Chicago:20260919T130000
DTSTAMP:20260423T205715
CREATED:20260205T225832Z
LAST-MODIFIED:20260205T225832Z
UID:10003812-1789804800-1789822800@discoverwisconsin.com
SUMMARY:Beloit Farmers' Market
DESCRIPTION:Every Saturday\, May through October\, from 8 a.m.-1 p.m.\, downtown Beloit draws over 4\,000 visitors each week on State Street and Grand Avenue. With over 130 vendors participating\, it’s the second-largest farmers’ market in Wisconsin\, right after Dane County. Rain or shine\, from May through October\, this award-winning tradition ensures an exciting experience for all.
URL:https://discoverwisconsin.com/event/beloit-farmers-market-3/2026-09-19/
LOCATION:Downtown Beloit\, 300 Block of State Street\, Beloit\, WI\, 53511\, United States
ATTACH;FMTTYPE=image/jpeg:https://discoverwisconsin.com/wp-content/uploads/2026/02/Beloit-Farmers-Market-scaled.jpg
END:VEVENT
BEGIN:VEVENT
DTSTART;TZID=America/Chicago:20260919T130000
DTEND;TZID=America/Chicago:20260919T160000
DTSTAMP:20260423T205715
CREATED:20260205T221947Z
LAST-MODIFIED:20260205T221947Z
UID:10003714-1789822800-1789833600@discoverwisconsin.com
SUMMARY:Beckman Mill Guided Tours
DESCRIPTION:The mill\, gift shop\, and museum are open every Saturday and Sunday from 1-4 p.m.\, May-October\, for guided tours. Admission is $3 per person. Children 6 and under and members of Fridays of Beckman Mill are admitted free. Corn Grinding and Blacksmith Demonstrating will be featured on the first Saturday of every month.
URL:https://discoverwisconsin.com/event/beckman-mill-guided-tours-3/2026-09-19/
LOCATION:Beckman Mill\, 11600 S County Road H\, Beloit\, WI\, 53511\, United States
ATTACH;FMTTYPE=image/jpeg:https://discoverwisconsin.com/wp-content/uploads/2026/02/Beckman-Mill-Guided-Tours-scaled.jpg
END:VEVENT
BEGIN:VEVENT
DTSTART;TZID=America/Chicago:20260919T150000
DTEND;TZID=America/Chicago:20260919T210000
DTSTAMP:20260423T205715
CREATED:20260205T185205Z
LAST-MODIFIED:20260205T185205Z
UID:10003662-1789830000-1789851600@discoverwisconsin.com
SUMMARY:Baraboo Oktoberfest
DESCRIPTION:Enjoy the sound of live music and the smells of beer and brats Saturday\, Sept. 19\, as Baraboo Oktoberfest returns to Circus World.\nEach September\, the community celebrates the Ringlings’ German heritage with this authentic ethnic festival. Local breweries pour Oktoberfest beer\, and food trucks serve dinner as three musical groups entertain. The Chamber’s Ambassadors will be on hand to serve bratwurst and pretzels.
URL:https://discoverwisconsin.com/event/baraboo-oktoberfest/
LOCATION:Circus World\, 550 Water St.\, Baraboo\, WI\, 53913\, United States
ATTACH;FMTTYPE=image/jpeg:https://discoverwisconsin.com/wp-content/uploads/2026/02/Baraboo-Oktoberfest.jpg
END:VEVENT
END:VCALENDAR