BEGIN:VCALENDAR
VERSION:2.0
PRODID:-//Discover Wisconsin - ECPv6.15.17.1//NONSGML v1.0//EN
CALSCALE:GREGORIAN
METHOD:PUBLISH
X-WR-CALNAME:Discover Wisconsin
X-ORIGINAL-URL:https://discoverwisconsin.com
X-WR-CALDESC:Events for Discover Wisconsin
REFRESH-INTERVAL;VALUE=DURATION:PT1H
X-Robots-Tag:noindex
X-PUBLISHED-TTL:PT1H
BEGIN:VTIMEZONE
TZID:America/Chicago
BEGIN:DAYLIGHT
TZOFFSETFROM:-0600
TZOFFSETTO:-0500
TZNAME:CDT
DTSTART:20230312T080000
END:DAYLIGHT
BEGIN:STANDARD
TZOFFSETFROM:-0500
TZOFFSETTO:-0600
TZNAME:CST
DTSTART:20231105T070000
END:STANDARD
BEGIN:DAYLIGHT
TZOFFSETFROM:-0600
TZOFFSETTO:-0500
TZNAME:CDT
DTSTART:20240310T080000
END:DAYLIGHT
BEGIN:STANDARD
TZOFFSETFROM:-0500
TZOFFSETTO:-0600
TZNAME:CST
DTSTART:20241103T070000
END:STANDARD
BEGIN:DAYLIGHT
TZOFFSETFROM:-0600
TZOFFSETTO:-0500
TZNAME:CDT
DTSTART:20250309T080000
END:DAYLIGHT
BEGIN:STANDARD
TZOFFSETFROM:-0500
TZOFFSETTO:-0600
TZNAME:CST
DTSTART:20251102T070000
END:STANDARD
END:VTIMEZONE
BEGIN:VTIMEZONE
TZID:UTC
BEGIN:STANDARD
TZOFFSETFROM:+0000
TZOFFSETTO:+0000
TZNAME:UTC
DTSTART:20230101T000000
END:STANDARD
END:VTIMEZONE
BEGIN:VEVENT
DTSTART;TZID=America/Chicago:20240420T140000
DTEND;TZID=America/Chicago:20240420T180000
DTSTAMP:20260425T222509
CREATED:20240308T163311Z
LAST-MODIFIED:20240308T163311Z
UID:10000533-1713621600-1713636000@discoverwisconsin.com
SUMMARY:Downtown Spring Wine Walk
DESCRIPTION:Taste a variety of wines at a multitude of venues!\n\nGeneral registration includes a commemorative wine glass and 2-ounce sips at 10 venues of your choice. Limited to 400 tickets. Must be 21 years of age or older. Check-in will be at Downtown Beloit Association\, 557 E. Grand Avenue.\n\nA Trolley is available to take you to all of our destinations\, so watch for it and be ready to hop on board!\n\nClick here for more event information. 
URL:https://discoverwisconsin.com/event/downtown-spring-wine-walk/
LOCATION:Downtown Beloit\, 300 Block of State Street\, Beloit\, WI\, 53511\, United States
ATTACH;FMTTYPE=image/jpeg:https://discoverwisconsin.com/wp-content/uploads/2024/03/6b5cbb18-8098-4a5e-b59e-1ef8f10fd807-add_your_photo_here-visit_beloit_wine_walk_2019-006-scaled.jpeg
END:VEVENT
BEGIN:VEVENT
DTSTART;TZID=America/Chicago:20240330T100000
DTEND;TZID=America/Chicago:20240330T120000
DTSTAMP:20260425T222509
CREATED:20240308T162458Z
LAST-MODIFIED:20240308T162458Z
UID:10000532-1711792800-1711800000@discoverwisconsin.com
SUMMARY:Easter Eggstravaganza
DESCRIPTION:Children of all ages are welcome to join us for a bunny hop!\n\nFun activities where children can enjoy photos with the Easter bunny\, games\, mascots\, and more!\n\nMaps of participating locations will be available at the Downtown Beloit Association\, 557 E. Grand Avenue and online. Small fee for photos with the Easter Bunny.
URL:https://discoverwisconsin.com/event/easter-eggstravaganza/
LOCATION:Downtown Beloit Association\, 557 E. Grand Ave\, Beloit\, WI\, 53711\, United States
ATTACH;FMTTYPE=image/png:https://discoverwisconsin.com/wp-content/uploads/2024/03/2024-03-08_10-24-25.png
END:VEVENT
BEGIN:VEVENT
DTSTART;TZID=America/Chicago:20240309T090000
DTEND;TZID=America/Chicago:20240309T150000
DTSTAMP:20260425T222509
CREATED:20240301T170018Z
LAST-MODIFIED:20240301T170018Z
UID:10000378-1709974800-1709996400@discoverwisconsin.com
SUMMARY:Fat Bike Birkie
DESCRIPTION:The Fat Bike Birkie is the world’s largest on-snow fat bike race. Riders test their skill and endurance on the snow-covered Birkie trail in the Big Fat 47K or the Half Fat 21K races. There is also an un-timed Fun Fat 10K ride. Join in the fun during this annual North Woods adventure.
URL:https://discoverwisconsin.com/event/fat-bike-birkie/
LOCATION:American Birkebeiner Trailhead\, 42225 Telemark Road\, Cable\, WI\, United States
ATTACH;FMTTYPE=image/jpeg:https://discoverwisconsin.com/wp-content/uploads/2024/03/c4222de4-92b2-4875-b8ed-60aaf4ec4003-add_your_photo_here-events_hayward_fatbikebirkie.jpeg
END:VEVENT
BEGIN:VEVENT
DTSTART;TZID=UTC:20240228T150000
DTEND;TZID=UTC:20240228T170000
DTSTAMP:20260425T222509
CREATED:20240221T055212Z
LAST-MODIFIED:20240221T055212Z
UID:10000007-1709132400-1709139600@discoverwisconsin.com
SUMMARY:Grandview Restaurant: Happy Hour
DESCRIPTION:Enjoy 25% off draft and bottled beers\, wines by the glass\, featured and specialty cocktails\, and select appetizers. Offered daily from 3pm – 5pm.
URL:https://discoverwisconsin.com/event/grandview-restaurant-happy-hour-7/
LOCATION:The Grandview Restaurant at The Geneva Inn\, N2009 S. Lakeshore Drive\, Lake Geneva\, WI\, 53147\, United States
CATEGORIES:Lake Geneva
ATTACH;FMTTYPE=image/jpeg:https://discoverwisconsin.com/wp-content/uploads/2024/01/Happy-Hour1_22650F53-DA0F-4D86-B7F8F246CFD317B9_3c90ae70-755d-4531-a3b42f7d5fda1590.jpg
END:VEVENT
BEGIN:VEVENT
DTSTART;TZID=UTC:20240228T150000
DTEND;TZID=UTC:20240228T170000
DTSTAMP:20260425T222509
CREATED:20240221T055204Z
LAST-MODIFIED:20240221T055204Z
UID:10000005-1709132400-1709139600@discoverwisconsin.com
SUMMARY:Grandview Restaurant: Happy Hour
DESCRIPTION:Enjoy 25% off draft and bottled beers\, wines by the glass\, featured and specialty cocktails\, and select appetizers. Offered daily from 3pm – 5pm.
URL:https://discoverwisconsin.com/event/grandview-restaurant-happy-hour-6/
LOCATION:The Grandview Restaurant at The Geneva Inn\, N2009 S. Lakeshore Drive\, Lake Geneva\, WI\, 53147\, United States
CATEGORIES:Lake Geneva
ATTACH;FMTTYPE=image/jpeg:https://discoverwisconsin.com/wp-content/uploads/2024/01/Happy-Hour1_22650F53-DA0F-4D86-B7F8F246CFD317B9_3c90ae70-755d-4531-a3b42f7d5fda1590.jpg
END:VEVENT
BEGIN:VEVENT
DTSTART;TZID=UTC:20240228T150000
DTEND;TZID=UTC:20240228T170000
DTSTAMP:20260425T222509
CREATED:20240221T055203Z
LAST-MODIFIED:20240221T055203Z
UID:10000004-1709132400-1709139600@discoverwisconsin.com
SUMMARY:Grandview Restaurant: Happy Hour
DESCRIPTION:Enjoy 25% off draft and bottled beers\, wines by the glass\, featured and specialty cocktails\, and select appetizers. Offered daily from 3pm – 5pm.
URL:https://discoverwisconsin.com/event/grandview-restaurant-happy-hour-5/
LOCATION:The Grandview Restaurant at The Geneva Inn\, N2009 S. Lakeshore Drive\, Lake Geneva\, WI\, 53147\, United States
CATEGORIES:Lake Geneva
ATTACH;FMTTYPE=image/jpeg:https://discoverwisconsin.com/wp-content/uploads/2024/01/Happy-Hour1_22650F53-DA0F-4D86-B7F8F246CFD317B9_3c90ae70-755d-4531-a3b42f7d5fda1590.jpg
END:VEVENT
BEGIN:VEVENT
DTSTART;TZID=UTC:20240228T150000
DTEND;TZID=UTC:20240228T170000
DTSTAMP:20260425T222509
CREATED:20240221T055159Z
LAST-MODIFIED:20240221T055159Z
UID:10000006-1709132400-1709139600@discoverwisconsin.com
SUMMARY:Grandview Restaurant: Happy Hour
DESCRIPTION:Enjoy 25% off draft and bottled beers\, wines by the glass\, featured and specialty cocktails\, and select appetizers. Offered daily from 3pm – 5pm.
URL:https://discoverwisconsin.com/event/grandview-restaurant-happy-hour-4/
LOCATION:The Grandview Restaurant at The Geneva Inn\, N2009 S. Lakeshore Drive\, Lake Geneva\, WI\, 53147\, United States
CATEGORIES:Lake Geneva
ATTACH;FMTTYPE=image/jpeg:https://discoverwisconsin.com/wp-content/uploads/2024/01/Happy-Hour1_22650F53-DA0F-4D86-B7F8F246CFD317B9_3c90ae70-755d-4531-a3b42f7d5fda1590.jpg
END:VEVENT
BEGIN:VEVENT
DTSTART;TZID=UTC:20240228T150000
DTEND;TZID=UTC:20240228T170000
DTSTAMP:20260425T222509
CREATED:20240221T055151Z
LAST-MODIFIED:20240221T055151Z
UID:10000003-1709132400-1709139600@discoverwisconsin.com
SUMMARY:Grandview Restaurant: Happy Hour
DESCRIPTION:Enjoy 25% off draft and bottled beers\, wines by the glass\, featured and specialty cocktails\, and select appetizers. Offered daily from 3pm – 5pm.
URL:https://discoverwisconsin.com/event/grandview-restaurant-happy-hour-3/
LOCATION:The Grandview Restaurant at The Geneva Inn\, N2009 S. Lakeshore Drive\, Lake Geneva\, WI\, 53147\, United States
CATEGORIES:Lake Geneva
ATTACH;FMTTYPE=image/jpeg:https://discoverwisconsin.com/wp-content/uploads/2024/01/Happy-Hour1_22650F53-DA0F-4D86-B7F8F246CFD317B9_3c90ae70-755d-4531-a3b42f7d5fda1590.jpg
END:VEVENT
BEGIN:VEVENT
DTSTART;TZID=UTC:20240228T150000
DTEND;TZID=UTC:20240228T170000
DTSTAMP:20260425T222509
CREATED:20240221T054958Z
LAST-MODIFIED:20240221T054958Z
UID:10000002-1709132400-1709139600@discoverwisconsin.com
SUMMARY:Grandview Restaurant: Happy Hour
DESCRIPTION:Enjoy 25% off draft and bottled beers\, wines by the glass\, featured and specialty cocktails\, and select appetizers. Offered daily from 3pm – 5pm.
URL:https://discoverwisconsin.com/event/grandview-restaurant-happy-hour-2/
LOCATION:The Grandview Restaurant at The Geneva Inn\, N2009 S. Lakeshore Drive\, Lake Geneva\, WI\, 53147\, United States
CATEGORIES:Lake Geneva
ATTACH;FMTTYPE=image/jpeg:https://discoverwisconsin.com/wp-content/uploads/2024/01/Happy-Hour1_22650F53-DA0F-4D86-B7F8F246CFD317B9_3c90ae70-755d-4531-a3b42f7d5fda1590.jpg
END:VEVENT
BEGIN:VEVENT
DTSTART;TZID=UTC:20240228T150000
DTEND;TZID=UTC:20240228T170000
DTSTAMP:20260425T222509
CREATED:20240131T015509Z
LAST-MODIFIED:20240221T052414Z
UID:10000001-1709132400-1709139600@discoverwisconsin.com
SUMMARY:Grandview Restaurant: Happy Hour
DESCRIPTION:Enjoy 25% off draft and bottled beers\, wines by the glass\, featured and specialty cocktails\, and select appetizers. Offered daily from 3pm – 5pm.
URL:https://discoverwisconsin.com/event/grandview-restaurant-happy-hour/
LOCATION:The Grandview Restaurant at The Geneva Inn\, N2009 S. Lakeshore Drive\, Lake Geneva\, WI\, 53147\, United States
CATEGORIES:Lake Geneva
ATTACH;FMTTYPE=image/jpeg:https://discoverwisconsin.com/wp-content/uploads/2024/01/Happy-Hour1_22650F53-DA0F-4D86-B7F8F246CFD317B9_3c90ae70-755d-4531-a3b42f7d5fda1590.jpg
END:VEVENT
END:VCALENDAR