BEGIN:VCALENDAR
VERSION:2.0
PRODID:-//Discover Wisconsin - ECPv6.15.17.1//NONSGML v1.0//EN
CALSCALE:GREGORIAN
METHOD:PUBLISH
X-WR-CALNAME:Discover Wisconsin
X-ORIGINAL-URL:https://discoverwisconsin.com
X-WR-CALDESC:Events for Discover Wisconsin
REFRESH-INTERVAL;VALUE=DURATION:PT1H
X-Robots-Tag:noindex
X-PUBLISHED-TTL:PT1H
BEGIN:VTIMEZONE
TZID:America/Chicago
BEGIN:DAYLIGHT
TZOFFSETFROM:-0600
TZOFFSETTO:-0500
TZNAME:CDT
DTSTART:20230312T080000
END:DAYLIGHT
BEGIN:STANDARD
TZOFFSETFROM:-0500
TZOFFSETTO:-0600
TZNAME:CST
DTSTART:20231105T070000
END:STANDARD
BEGIN:DAYLIGHT
TZOFFSETFROM:-0600
TZOFFSETTO:-0500
TZNAME:CDT
DTSTART:20240310T080000
END:DAYLIGHT
BEGIN:STANDARD
TZOFFSETFROM:-0500
TZOFFSETTO:-0600
TZNAME:CST
DTSTART:20241103T070000
END:STANDARD
BEGIN:DAYLIGHT
TZOFFSETFROM:-0600
TZOFFSETTO:-0500
TZNAME:CDT
DTSTART:20250309T080000
END:DAYLIGHT
BEGIN:STANDARD
TZOFFSETFROM:-0500
TZOFFSETTO:-0600
TZNAME:CST
DTSTART:20251102T070000
END:STANDARD
END:VTIMEZONE
BEGIN:VEVENT
DTSTART;TZID=America/Chicago:20241004T180000
DTEND;TZID=America/Chicago:20241004T220000
DTSTAMP:20260425T113048
CREATED:20240906T135631Z
LAST-MODIFIED:20240906T135916Z
UID:10002574-1728064800-1728079200@discoverwisconsin.com
SUMMARY:90s Throwback Night
DESCRIPTION:Flashback to the flannel! Dial up the nostalgia at our 90s Throwback Night. \nJoin us for a carefree evening\, packed with the greatest hits\, iconic moments\, and unforgettable pop culture of the 90s. Spread the word – and bring your crew – for a buggin’ time. Be sure to wear your butterfly clips and bucket hats – the best dressed wins a prize! \nWhat’s the 411? \n– 90s trivia \n– Cash bar with themed cocktails \n– Snacks that are all that and a bag of chips! \n– Polaroid kiosk \n– And more!
URL:https://discoverwisconsin.com/event/90s-throwback-night/
LOCATION:1889 Courthouse\, 320S 5th Avenue\, West Bend\, WI\, 53095\, United States
ATTACH;FMTTYPE=image/jpeg:https://discoverwisconsin.com/wp-content/uploads/2024/09/90s-Throwback-Night.jpeg
END:VEVENT
BEGIN:VEVENT
DTSTART;TZID=America/Chicago:20241004T180000
DTEND;TZID=America/Chicago:20241004T190000
DTSTAMP:20260425T113048
CREATED:20240918T194725Z
LAST-MODIFIED:20240918T194725Z
UID:10002599-1728064800-1728068400@discoverwisconsin.com
SUMMARY:Haunted Happy Hour
DESCRIPTION:Long day at work? Looking to enjoy the spooky season in a laid back fashion? Meet your friends at The Grand Lounge for some SPIRITED specialty drinks! \nThe Grand Lounge will open for Haunted Happy Hour at 6:00 p.m. on October 4 and 23. \nNo ticket required. First come\, first serve. Cash Bar.
URL:https://discoverwisconsin.com/event/haunted-happy-hour/2024-10-04/
LOCATION:The Grand Oshkosh\, 100 High Ave\, Oshkosh\, WI\, 54901\, United States
ATTACH;FMTTYPE=image/jpeg:https://discoverwisconsin.com/wp-content/uploads/2024/09/Haunted-Happy-Hour.jpg
END:VEVENT
BEGIN:VEVENT
DTSTART;TZID=America/Chicago:20241004T100000
DTEND;TZID=America/Chicago:20241004T170000
DTSTAMP:20260425T113048
CREATED:20240806T200142Z
LAST-MODIFIED:20240806T200142Z
UID:10002561-1728036000-1728061200@discoverwisconsin.com
SUMMARY:Bayfield Apple Festival
DESCRIPTION:It’s the best time of year for those seeking autumn beauty and fall festivals\, it’s Bayfield Apple Festival time! The Bayfield Chamber & Visitors Bureau and its stakeholders are excited to invite you to one of “Wisconsin’s Best Festivals\,” coined by Wisconsin Trails Magazine. Enjoy food and craft vendors all weekend long\, live music from Big Top Chautauqua’s Blue Canvas Orchestra and other area musicians at Memorial Park Gazebo for Concerts by the Lake. Don’t miss the crowning of the Apple Festival Queen and/or King\, the Spectrum Carnival and the Grand Parade down historic Rittenhouse Avenue on Sunday to wrap up the weekend’s events!
URL:https://discoverwisconsin.com/event/bayfield-apple-festival/2024-10-04/
LOCATION:Bayfield\, Bayfield\, WI\, 54814\, United States
ATTACH;FMTTYPE=image/png:https://discoverwisconsin.com/wp-content/uploads/2024/08/Bayfield-Apple-Festival.png
END:VEVENT
BEGIN:VEVENT
DTSTART;TZID=America/Chicago:20241003T180000
DTEND;TZID=America/Chicago:20241003T193000
DTSTAMP:20260425T113048
CREATED:20240911T191340Z
LAST-MODIFIED:20240911T191340Z
UID:10002592-1727978400-1727983800@discoverwisconsin.com
SUMMARY:Tarot Card Class
DESCRIPTION:Come learn more about the mystic art of tarot card reading with the help of Victoria from MysticKarma! \nJoin us in The Grand Lounge for an evening of education on tarot cards and how to read them + tarot card themed drinks (1 free included in ticket price). \nSpace is limited to 30 people.
URL:https://discoverwisconsin.com/event/tarot-card-class/
LOCATION:The Grand Oshkosh\, 100 High Ave\, Oshkosh\, WI\, 54901\, United States
ATTACH;FMTTYPE=image/jpeg:https://discoverwisconsin.com/wp-content/uploads/2024/09/Tarot-Card-Class.jpg
END:VEVENT
BEGIN:VEVENT
DTSTART;TZID=America/Chicago:20241001T180000
DTEND;TZID=America/Chicago:20241001T193000
DTSTAMP:20260425T113048
CREATED:20240918T212727Z
LAST-MODIFIED:20240918T212727Z
UID:10002608-1727805600-1727811000@discoverwisconsin.com
SUMMARY:Trick or Trivia
DESCRIPTION:Every Tuesday in October \nOctober 1 | 8 | 15 | 22 | 29\, 2024 | 6:00 p.m. \nThe Haunted Happenings Series is supported by Travel Wisconsin \nIt’s Trivia Tuesday– gone spooky! Join us every Tuesday for a night of TRICKY questions! \nThe Grand Lounge opens at 5:30 and trivia starts at 6:00. \nFirst place team: $25 gift certificate to The Grand Oshkosh \nSecond place team: $10 gift card to The Grand Lounge \nEach round’s winner: Free Drink Token \nNEW this year– a trivia tournament with the winning teams competing to win a GRAND PRIZE on October 30. \nNo ticket required. First come\, first serve.
URL:https://discoverwisconsin.com/event/trick-or-trivia/2024-10-01/
LOCATION:The Grand Oshkosh\, 100 High Ave\, Oshkosh\, WI\, 54901\, United States
ATTACH;FMTTYPE=image/jpeg:https://discoverwisconsin.com/wp-content/uploads/2024/09/Trick-or-Trivia.jpg
END:VEVENT
BEGIN:VEVENT
DTSTART;TZID=America/Chicago:20240929T130000
DTEND;TZID=America/Chicago:20240929T160000
DTSTAMP:20260425T113048
CREATED:20240308T153844Z
LAST-MODIFIED:20240308T153844Z
UID:10000479-1727614800-1727625600@discoverwisconsin.com
SUMMARY:Beckman Mill Guided Tours
DESCRIPTION:The Beckman Mill is open for public tours on Saturdays and Sundays\, 1-4 pm\, May-October. Corn Grinding and Blacksmithing Demonstrations take place on the first Saturday of each month. Beckman Mill is located at Beckman Mill County Park\, 6 miles west of Beloit\, Wisconsin. On the grounds of the 50-acre county park\, you will see an authentically restored 1868 grist mill\, a new dam\, mill pond\, fish ladder\, footbridge\, sawmill display\, 1840s cooperage\, visitor center\, gift shop\, creamery\, blacksmith shop\, picnic shelter\, vintage garden\, nature trail and more.
URL:https://discoverwisconsin.com/event/beckman-mill-guided-tours/2024-09-29/
LOCATION:Beckman Hill\, 11600 S. County Road H\, Beloit\, WI\, 53511\, United States
ATTACH;FMTTYPE=image/jpeg:https://discoverwisconsin.com/wp-content/uploads/2024/03/155819a7-31c5-4d74-ab53-692fd282923a-add_your_photo_here-beckman_mill_2019_0077-scaled.jpeg
END:VEVENT
BEGIN:VEVENT
DTSTART;VALUE=DATE:20240929
DTEND;VALUE=DATE:20240930
DTSTAMP:20260425T113048
CREATED:20240906T140913Z
LAST-MODIFIED:20240906T140913Z
UID:10002577-1727568000-1727654399@discoverwisconsin.com
SUMMARY:51st Annual Warrens Cranberry Festival
DESCRIPTION:The Warrens Cranberry Festival draws thousands of visitors from all over the world. Our event continues to grow in popularity every year. It’s a great place for you to immerse yourself in the rich culture and history of cranberry farming. Discover the story behind this unique fruit and join us in our Cranberry Celebration all weekend long!
URL:https://discoverwisconsin.com/event/51st-annual-warrens-cranberry-festival/2024-09-29/
LOCATION:Warrens Cranberry Festival\, 402 Pine Street\, Warrens\, WI\, 54666\, United States
ATTACH;FMTTYPE=image/jpeg:https://discoverwisconsin.com/wp-content/uploads/2024/09/Warrens-Cranberry-Festival.jpg
END:VEVENT
BEGIN:VEVENT
DTSTART;VALUE=DATE:20240929
DTEND;VALUE=DATE:20240930
DTSTAMP:20260425T113048
CREATED:20240308T152507Z
LAST-MODIFIED:20240308T152507Z
UID:10000409-1727568000-1727654399@discoverwisconsin.com
SUMMARY:Oktoberfest USA
DESCRIPTION:Willkommen to the longest-running Oktoberfest in the Midwest\nRaise a stein and prost to Gemutlichkeit and cheer since 1961! See website and event brochure for more information.
URL:https://discoverwisconsin.com/event/oktoberfest-usa/2024-09-29/
LOCATION:Oktoberfest Grounds\, 1 Oktoberfest Strasse\, La Crosse\, WI\, 54601\, United States
ATTACH;FMTTYPE=image/jpeg:https://discoverwisconsin.com/wp-content/uploads/2024/03/81db000d-7fdc-4a40-a06b-171b3fc5c1c3-add_your_photo_here-okt-thumb.jpeg
END:VEVENT
BEGIN:VEVENT
DTSTART;TZID=America/Chicago:20240928T190000
DTEND;TZID=America/Chicago:20240928T203000
DTSTAMP:20260425T113048
CREATED:20240911T174644Z
LAST-MODIFIED:20240911T185929Z
UID:10002579-1727550000-1727555400@discoverwisconsin.com
SUMMARY:Portrait of Aretha - CeCe Teneal Celebrates the Queen of Soul
DESCRIPTION:Celebrating 20 years of the Alberta S. Kimball Foundation Series \nJoin us for an AfterGlow Performance in The Grand Lounge! \nAretha Franklin taught us how to “Think” and demand “Respect…” all while ridin’ on the “Freeway of Love!” In PORTRAIT OF ARETHA\, CeCe Teneal honors the legacy of the Queen of Soul with personalized interpretations of both popular and lesser-known songs from this 18-time Grammy Award-winning icon’s 50-year career\, including “Chain of Fools\,” “(You Make Me Feel Like) A Natural Woman\,” “Rock Steady\,” and “Until You Come Back to Me (That’s What I’m Gonna Do).”
URL:https://discoverwisconsin.com/event/portrait-of-aretha-cece-teneal-celebrates-the-queen-of-soul/
LOCATION:The Grand Oshkosh\, 100 High Ave\, Oshkosh\, WI\, 54901\, United States
ATTACH;FMTTYPE=image/jpeg:https://discoverwisconsin.com/wp-content/uploads/2024/09/Portrait-of-Aretha.jpg
END:VEVENT
BEGIN:VEVENT
DTSTART;TZID=America/Chicago:20240928T180000
DTEND;TZID=America/Chicago:20240928T230000
DTSTAMP:20260425T113048
CREATED:20240619T133434Z
LAST-MODIFIED:20240619T133434Z
UID:10002513-1727546400-1727564400@discoverwisconsin.com
SUMMARY:DEVIATE
DESCRIPTION:DEVIATE is back and ready to blow your mind with a mind-bending fusion of art and music. We’re talking an electrifying art show\, an epic party\, and an interactive experience all rolled into one. Think cutting-edge contemporary art\, live music that will leave you begging for an encore\, and an industrial vibe that’s sure to get your blood pumping. And let’s not forget the mouth-watering food and drink that’ll keep you fueled all night long.
URL:https://discoverwisconsin.com/event/deviate/
LOCATION:Ironworks Campus\, 525 Third Street\, Suite 300\, Beloit\, WI\, 53511\, United States
ATTACH;FMTTYPE=image/jpeg:https://discoverwisconsin.com/wp-content/uploads/2024/06/DEVIATE.jpeg
END:VEVENT
BEGIN:VEVENT
DTSTART;TZID=America/Chicago:20240928T153300
DTEND;TZID=America/Chicago:20240928T170000
DTSTAMP:20260425T113048
CREATED:20240712T150256Z
LAST-MODIFIED:20240712T150256Z
UID:10002548-1727537580-1727542800@discoverwisconsin.com
SUMMARY:WFEM Final Alarm Ceremony
DESCRIPTION:20th Annual Final Alarm Ceremony honoring those that have made the ultimate sacrifice. There is no charge\, the event is open the the public and everyone is encouraged to pay their respects.
URL:https://discoverwisconsin.com/event/wfem-final-alarm-ceremony/
LOCATION:Ben Hansen Park\, 2031 2nd Avenue South\, Wisconsin Rapids\, WI\, 54495\, United States
ATTACH;FMTTYPE=image/png:https://discoverwisconsin.com/wp-content/uploads/2024/07/Screenshot-2024-07-12-at-10.02.08 AM.png
END:VEVENT
BEGIN:VEVENT
DTSTART;TZID=America/Chicago:20240928T130000
DTEND;TZID=America/Chicago:20240928T160000
DTSTAMP:20260425T113048
CREATED:20240308T153844Z
LAST-MODIFIED:20240308T153844Z
UID:10000478-1727528400-1727539200@discoverwisconsin.com
SUMMARY:Beckman Mill Guided Tours
DESCRIPTION:The Beckman Mill is open for public tours on Saturdays and Sundays\, 1-4 pm\, May-October. Corn Grinding and Blacksmithing Demonstrations take place on the first Saturday of each month. Beckman Mill is located at Beckman Mill County Park\, 6 miles west of Beloit\, Wisconsin. On the grounds of the 50-acre county park\, you will see an authentically restored 1868 grist mill\, a new dam\, mill pond\, fish ladder\, footbridge\, sawmill display\, 1840s cooperage\, visitor center\, gift shop\, creamery\, blacksmith shop\, picnic shelter\, vintage garden\, nature trail and more.
URL:https://discoverwisconsin.com/event/beckman-mill-guided-tours/2024-09-28/
LOCATION:Beckman Hill\, 11600 S. County Road H\, Beloit\, WI\, 53511\, United States
ATTACH;FMTTYPE=image/jpeg:https://discoverwisconsin.com/wp-content/uploads/2024/03/155819a7-31c5-4d74-ab53-692fd282923a-add_your_photo_here-beckman_mill_2019_0077-scaled.jpeg
END:VEVENT
BEGIN:VEVENT
DTSTART;TZID=America/Chicago:20240928T080000
DTEND;TZID=America/Chicago:20240928T130000
DTSTAMP:20260425T113048
CREATED:20240308T153413Z
LAST-MODIFIED:20240308T153413Z
UID:10000431-1727510400-1727528400@discoverwisconsin.com
SUMMARY:Beloit Farmers' Market
DESCRIPTION:Beloit Farmers’ Market has been drawing thousands of locals and visitors to the heart of Downtown Beloit since 1975! There will be more than 130 vendors this summer continuing to be the second largest farmers’ market in Wisconsin\, second to Dane County. Shop the wonderful open-air market in the heart of historic Downtown Beloit. The Market is an award-winning community tradition\, with vendors selling local produce\, organics\, baked goods\, honey\, jams & jellies\, bedding plants\, fish\, meat\, eggs & cheese\, fresh flowers\, and more. The market is open rain or shine\, and pets are not permitted.
URL:https://discoverwisconsin.com/event/beloit-farmers-market/2024-09-28/
LOCATION:Downtown Beloit\, 300 Block of State Street\, Beloit\, WI\, 53511\, United States
ATTACH;FMTTYPE=image/jpeg:https://discoverwisconsin.com/wp-content/uploads/2024/03/94943918-27e5-42a9-8c8f-e511a20d5dda-add_your_photo_here-VB-Farmers-Market-2023-0073-scaled.jpeg
END:VEVENT
BEGIN:VEVENT
DTSTART;VALUE=DATE:20240928
DTEND;VALUE=DATE:20240929
DTSTAMP:20260425T113048
CREATED:20240906T140913Z
LAST-MODIFIED:20240906T140913Z
UID:10002576-1727481600-1727567999@discoverwisconsin.com
SUMMARY:51st Annual Warrens Cranberry Festival
DESCRIPTION:The Warrens Cranberry Festival draws thousands of visitors from all over the world. Our event continues to grow in popularity every year. It’s a great place for you to immerse yourself in the rich culture and history of cranberry farming. Discover the story behind this unique fruit and join us in our Cranberry Celebration all weekend long!
URL:https://discoverwisconsin.com/event/51st-annual-warrens-cranberry-festival/2024-09-28/
LOCATION:Warrens Cranberry Festival\, 402 Pine Street\, Warrens\, WI\, 54666\, United States
ATTACH;FMTTYPE=image/jpeg:https://discoverwisconsin.com/wp-content/uploads/2024/09/Warrens-Cranberry-Festival.jpg
END:VEVENT
BEGIN:VEVENT
DTSTART;VALUE=DATE:20240928
DTEND;VALUE=DATE:20240929
DTSTAMP:20260425T113048
CREATED:20240308T152507Z
LAST-MODIFIED:20240308T152507Z
UID:10000408-1727481600-1727567999@discoverwisconsin.com
SUMMARY:Oktoberfest USA
DESCRIPTION:Willkommen to the longest-running Oktoberfest in the Midwest\nRaise a stein and prost to Gemutlichkeit and cheer since 1961! See website and event brochure for more information.
URL:https://discoverwisconsin.com/event/oktoberfest-usa/2024-09-28/
LOCATION:Oktoberfest Grounds\, 1 Oktoberfest Strasse\, La Crosse\, WI\, 54601\, United States
ATTACH;FMTTYPE=image/jpeg:https://discoverwisconsin.com/wp-content/uploads/2024/03/81db000d-7fdc-4a40-a06b-171b3fc5c1c3-add_your_photo_here-okt-thumb.jpeg
END:VEVENT
BEGIN:VEVENT
DTSTART;TZID=America/Chicago:20240927T193000
DTEND;TZID=America/Chicago:20240927T210000
DTSTAMP:20260425T113048
CREATED:20240911T174211Z
LAST-MODIFIED:20240911T185844Z
UID:10002578-1727465400-1727470800@discoverwisconsin.com
SUMMARY:The Prince Experience
DESCRIPTION:The look\, sound and essence of the Purple One explodes on stage when The Prince Experience delivers hits such as “Lets Go Crazy\,” “Purple Rain\,” “Kiss\,” as well as all the timeless classics. This show brings to life the Purple Rain Era of Prince. Complete with costumes\, props\, and a full band. The Prince Experience transports you back in time and gets you ready to party likes it’s 1999.
URL:https://discoverwisconsin.com/event/the-prince-experience/
LOCATION:The Grand Oshkosh\, 100 High Ave\, Oshkosh\, WI\, 54901\, United States
ATTACH;FMTTYPE=image/jpeg:https://discoverwisconsin.com/wp-content/uploads/2024/09/The-Prince-Experience.jpg
END:VEVENT
BEGIN:VEVENT
DTSTART;VALUE=DATE:20240927
DTEND;VALUE=DATE:20240928
DTSTAMP:20260425T113048
CREATED:20240906T140913Z
LAST-MODIFIED:20240906T140913Z
UID:10002575-1727395200-1727481599@discoverwisconsin.com
SUMMARY:51st Annual Warrens Cranberry Festival
DESCRIPTION:The Warrens Cranberry Festival draws thousands of visitors from all over the world. Our event continues to grow in popularity every year. It’s a great place for you to immerse yourself in the rich culture and history of cranberry farming. Discover the story behind this unique fruit and join us in our Cranberry Celebration all weekend long!
URL:https://discoverwisconsin.com/event/51st-annual-warrens-cranberry-festival/2024-09-27/
LOCATION:Warrens Cranberry Festival\, 402 Pine Street\, Warrens\, WI\, 54666\, United States
ATTACH;FMTTYPE=image/jpeg:https://discoverwisconsin.com/wp-content/uploads/2024/09/Warrens-Cranberry-Festival.jpg
END:VEVENT
BEGIN:VEVENT
DTSTART;VALUE=DATE:20240927
DTEND;VALUE=DATE:20240928
DTSTAMP:20260425T113048
CREATED:20240308T152507Z
LAST-MODIFIED:20240308T152507Z
UID:10000407-1727395200-1727481599@discoverwisconsin.com
SUMMARY:Oktoberfest USA
DESCRIPTION:Willkommen to the longest-running Oktoberfest in the Midwest\nRaise a stein and prost to Gemutlichkeit and cheer since 1961! See website and event brochure for more information.
URL:https://discoverwisconsin.com/event/oktoberfest-usa/2024-09-27/
LOCATION:Oktoberfest Grounds\, 1 Oktoberfest Strasse\, La Crosse\, WI\, 54601\, United States
ATTACH;FMTTYPE=image/jpeg:https://discoverwisconsin.com/wp-content/uploads/2024/03/81db000d-7fdc-4a40-a06b-171b3fc5c1c3-add_your_photo_here-okt-thumb.jpeg
END:VEVENT
BEGIN:VEVENT
DTSTART;VALUE=DATE:20240926
DTEND;VALUE=DATE:20240927
DTSTAMP:20260425T113048
CREATED:20240308T152507Z
LAST-MODIFIED:20240308T152507Z
UID:10000406-1727308800-1727395199@discoverwisconsin.com
SUMMARY:Oktoberfest USA
DESCRIPTION:Willkommen to the longest-running Oktoberfest in the Midwest\nRaise a stein and prost to Gemutlichkeit and cheer since 1961! See website and event brochure for more information.
URL:https://discoverwisconsin.com/event/oktoberfest-usa/2024-09-26/
LOCATION:Oktoberfest Grounds\, 1 Oktoberfest Strasse\, La Crosse\, WI\, 54601\, United States
ATTACH;FMTTYPE=image/jpeg:https://discoverwisconsin.com/wp-content/uploads/2024/03/81db000d-7fdc-4a40-a06b-171b3fc5c1c3-add_your_photo_here-okt-thumb.jpeg
END:VEVENT
BEGIN:VEVENT
DTSTART;TZID=America/Chicago:20240922T130000
DTEND;TZID=America/Chicago:20240922T160000
DTSTAMP:20260425T113048
CREATED:20240308T153844Z
LAST-MODIFIED:20240308T153844Z
UID:10000477-1727010000-1727020800@discoverwisconsin.com
SUMMARY:Beckman Mill Guided Tours
DESCRIPTION:The Beckman Mill is open for public tours on Saturdays and Sundays\, 1-4 pm\, May-October. Corn Grinding and Blacksmithing Demonstrations take place on the first Saturday of each month. Beckman Mill is located at Beckman Mill County Park\, 6 miles west of Beloit\, Wisconsin. On the grounds of the 50-acre county park\, you will see an authentically restored 1868 grist mill\, a new dam\, mill pond\, fish ladder\, footbridge\, sawmill display\, 1840s cooperage\, visitor center\, gift shop\, creamery\, blacksmith shop\, picnic shelter\, vintage garden\, nature trail and more.
URL:https://discoverwisconsin.com/event/beckman-mill-guided-tours/2024-09-22/
LOCATION:Beckman Hill\, 11600 S. County Road H\, Beloit\, WI\, 53511\, United States
ATTACH;FMTTYPE=image/jpeg:https://discoverwisconsin.com/wp-content/uploads/2024/03/155819a7-31c5-4d74-ab53-692fd282923a-add_your_photo_here-beckman_mill_2019_0077-scaled.jpeg
END:VEVENT
BEGIN:VEVENT
DTSTART;TZID=America/Chicago:20240922T090000
DTEND;TZID=America/Chicago:20240922T150000
DTSTAMP:20260425T113048
CREATED:20240812T182655Z
LAST-MODIFIED:20240812T182655Z
UID:10002572-1726995600-1727017200@discoverwisconsin.com
SUMMARY:Wide Open Wisconsin Presented by Polaris
DESCRIPTION:Wide Open Wisconsin is the ultimate Power Sports show\, featuring exciting events\, live demonstrations\, and a celebration of all things motorized.
URL:https://discoverwisconsin.com/event/wide-open-wisconsin-presented-by-polaris/2024-09-22/
LOCATION:Washington County Fair Park\, 3000 County Hwy PV\, West Bend\, WI\, 53095\, United States
ATTACH;FMTTYPE=image/jpeg:https://discoverwisconsin.com/wp-content/uploads/2024/08/Wide-Open-Wisconsin-scaled.jpg
END:VEVENT
BEGIN:VEVENT
DTSTART;TZID=America/Chicago:20240922T070000
DTEND;TZID=America/Chicago:20240922T150000
DTSTAMP:20260425T113048
CREATED:20240502T135401Z
LAST-MODIFIED:20240502T135607Z
UID:10001297-1726988400-1727017200@discoverwisconsin.com
SUMMARY:MLF BFL Super Tournament
DESCRIPTION:Pools 7\, 8 and 9 near La Crosse on the mighty Mississippi River
URL:https://discoverwisconsin.com/event/mlf-bfl-super-tournament/2024-09-22/
LOCATION:Mississippi River Pools 7\, 8 and 9
ATTACH;FMTTYPE=image/jpeg:https://discoverwisconsin.com/wp-content/uploads/2024/05/MLF.jpeg
END:VEVENT
BEGIN:VEVENT
DTSTART;TZID=America/Chicago:20240921T173000
DTEND;TZID=America/Chicago:20240921T230000
DTSTAMP:20260425T113048
CREATED:20240619T132954Z
LAST-MODIFIED:20240619T132954Z
UID:10002512-1726939800-1726959600@discoverwisconsin.com
SUMMARY:Oktoberfest
DESCRIPTION:Join us for our Annual Oktoberfest! Downtown Beloit will be the place to be. It’s our second largest fundraiser of the year supporting revitalization efforts in Beloit’s historic downtown district. Local eateries will be onsite and many businesses will be open late! \nMany German Beers will be featured as well as food vendors on site and performances by local bands. Admission is $10\, 13 under are free. \nAxe Throwing! Hammerschlagen!
URL:https://discoverwisconsin.com/event/oktoberfest/
LOCATION:Downtown Beloit\, 300 Block of State Street\, Beloit\, WI\, 53511\, United States
ATTACH;FMTTYPE=image/jpeg:https://discoverwisconsin.com/wp-content/uploads/2024/06/Oktoberfest-scaled.jpeg
END:VEVENT
BEGIN:VEVENT
DTSTART;TZID=America/Chicago:20240921T130000
DTEND;TZID=America/Chicago:20240921T160000
DTSTAMP:20260425T113048
CREATED:20240308T153844Z
LAST-MODIFIED:20240308T153844Z
UID:10000476-1726923600-1726934400@discoverwisconsin.com
SUMMARY:Beckman Mill Guided Tours
DESCRIPTION:The Beckman Mill is open for public tours on Saturdays and Sundays\, 1-4 pm\, May-October. Corn Grinding and Blacksmithing Demonstrations take place on the first Saturday of each month. Beckman Mill is located at Beckman Mill County Park\, 6 miles west of Beloit\, Wisconsin. On the grounds of the 50-acre county park\, you will see an authentically restored 1868 grist mill\, a new dam\, mill pond\, fish ladder\, footbridge\, sawmill display\, 1840s cooperage\, visitor center\, gift shop\, creamery\, blacksmith shop\, picnic shelter\, vintage garden\, nature trail and more.
URL:https://discoverwisconsin.com/event/beckman-mill-guided-tours/2024-09-21/
LOCATION:Beckman Hill\, 11600 S. County Road H\, Beloit\, WI\, 53511\, United States
ATTACH;FMTTYPE=image/jpeg:https://discoverwisconsin.com/wp-content/uploads/2024/03/155819a7-31c5-4d74-ab53-692fd282923a-add_your_photo_here-beckman_mill_2019_0077-scaled.jpeg
END:VEVENT
BEGIN:VEVENT
DTSTART;TZID=America/Chicago:20240921T090000
DTEND;TZID=America/Chicago:20240921T180000
DTSTAMP:20260425T113048
CREATED:20240812T182655Z
LAST-MODIFIED:20240812T182655Z
UID:10002571-1726909200-1726941600@discoverwisconsin.com
SUMMARY:Wide Open Wisconsin Presented by Polaris
DESCRIPTION:Wide Open Wisconsin is the ultimate Power Sports show\, featuring exciting events\, live demonstrations\, and a celebration of all things motorized.
URL:https://discoverwisconsin.com/event/wide-open-wisconsin-presented-by-polaris/2024-09-21/
LOCATION:Washington County Fair Park\, 3000 County Hwy PV\, West Bend\, WI\, 53095\, United States
ATTACH;FMTTYPE=image/jpeg:https://discoverwisconsin.com/wp-content/uploads/2024/08/Wide-Open-Wisconsin-scaled.jpg
END:VEVENT
BEGIN:VEVENT
DTSTART;TZID=America/Chicago:20240921T090000
DTEND;TZID=America/Chicago:20240921T170000
DTSTAMP:20260425T113048
CREATED:20240301T174542Z
LAST-MODIFIED:20240301T174542Z
UID:10000390-1726909200-1726938000@discoverwisconsin.com
SUMMARY:Hayward Fall Festival
DESCRIPTION:The Hayward Fall Festival is an annual tradition that celebrates the changing of the seasons with fine art & craft booths\, sidewalk sales\, wonderful food vendors\, a brat\, beer\, and wine tent\, kid’s activities\, and live music in downtown Hayward.
URL:https://discoverwisconsin.com/event/hayward-fall-festival/
LOCATION:Main Street\, Main Street\, Hayward\, WI\, 54843\, United States
ATTACH;FMTTYPE=image/jpeg:https://discoverwisconsin.com/wp-content/uploads/2024/03/8a3bfe71-4be9-4333-afe4-bc2eac5a7a3c-add_your_photo_here-events_hayward_fallfestival.jpeg
END:VEVENT
BEGIN:VEVENT
DTSTART;TZID=America/Chicago:20240921T080000
DTEND;TZID=America/Chicago:20240921T160000
DTSTAMP:20260425T113048
CREATED:20240619T132602Z
LAST-MODIFIED:20240619T132602Z
UID:10002511-1726905600-1726934400@discoverwisconsin.com
SUMMARY:Flying Circus Fun Fly
DESCRIPTION:RC plane flying\, helicopter flying\, and FPV quad races all on three dedicated flying sites. Free admission.
URL:https://discoverwisconsin.com/event/flying-circus-fun-fly/
LOCATION:Rock River Aero Modelers Flying Field\, 6806 South County Road J\, Beloit\, WI\, 53511\, United States
ATTACH;FMTTYPE=image/jpeg:https://discoverwisconsin.com/wp-content/uploads/2024/06/Flying-Circus-Fun-Fly.jpeg
END:VEVENT
BEGIN:VEVENT
DTSTART;TZID=America/Chicago:20240921T080000
DTEND;TZID=America/Chicago:20240921T130000
DTSTAMP:20260425T113048
CREATED:20240308T153413Z
LAST-MODIFIED:20240308T153413Z
UID:10000430-1726905600-1726923600@discoverwisconsin.com
SUMMARY:Beloit Farmers' Market
DESCRIPTION:Beloit Farmers’ Market has been drawing thousands of locals and visitors to the heart of Downtown Beloit since 1975! There will be more than 130 vendors this summer continuing to be the second largest farmers’ market in Wisconsin\, second to Dane County. Shop the wonderful open-air market in the heart of historic Downtown Beloit. The Market is an award-winning community tradition\, with vendors selling local produce\, organics\, baked goods\, honey\, jams & jellies\, bedding plants\, fish\, meat\, eggs & cheese\, fresh flowers\, and more. The market is open rain or shine\, and pets are not permitted.
URL:https://discoverwisconsin.com/event/beloit-farmers-market/2024-09-21/
LOCATION:Downtown Beloit\, 300 Block of State Street\, Beloit\, WI\, 53511\, United States
ATTACH;FMTTYPE=image/jpeg:https://discoverwisconsin.com/wp-content/uploads/2024/03/94943918-27e5-42a9-8c8f-e511a20d5dda-add_your_photo_here-VB-Farmers-Market-2023-0073-scaled.jpeg
END:VEVENT
BEGIN:VEVENT
DTSTART;TZID=America/Chicago:20240921T070000
DTEND;TZID=America/Chicago:20240921T150000
DTSTAMP:20260425T113048
CREATED:20240502T135401Z
LAST-MODIFIED:20240502T135607Z
UID:10000926-1726902000-1726930800@discoverwisconsin.com
SUMMARY:MLF BFL Super Tournament
DESCRIPTION:Pools 7\, 8 and 9 near La Crosse on the mighty Mississippi River
URL:https://discoverwisconsin.com/event/mlf-bfl-super-tournament/2024-09-21/
LOCATION:Mississippi River Pools 7\, 8 and 9
ATTACH;FMTTYPE=image/jpeg:https://discoverwisconsin.com/wp-content/uploads/2024/05/MLF.jpeg
END:VEVENT
BEGIN:VEVENT
DTSTART;TZID=America/Chicago:20240920T160000
DTEND;TZID=America/Chicago:20240920T210000
DTSTAMP:20260425T113048
CREATED:20240812T182655Z
LAST-MODIFIED:20240812T182655Z
UID:10002570-1726848000-1726866000@discoverwisconsin.com
SUMMARY:Wide Open Wisconsin Presented by Polaris
DESCRIPTION:Wide Open Wisconsin is the ultimate Power Sports show\, featuring exciting events\, live demonstrations\, and a celebration of all things motorized.
URL:https://discoverwisconsin.com/event/wide-open-wisconsin-presented-by-polaris/2024-09-20/
LOCATION:Washington County Fair Park\, 3000 County Hwy PV\, West Bend\, WI\, 53095\, United States
ATTACH;FMTTYPE=image/jpeg:https://discoverwisconsin.com/wp-content/uploads/2024/08/Wide-Open-Wisconsin-scaled.jpg
END:VEVENT
END:VCALENDAR