BEGIN:VCALENDAR
VERSION:2.0
PRODID:-//Discover Wisconsin - ECPv6.15.17.1//NONSGML v1.0//EN
CALSCALE:GREGORIAN
METHOD:PUBLISH
X-WR-CALNAME:Discover Wisconsin
X-ORIGINAL-URL:https://discoverwisconsin.com
X-WR-CALDESC:Events for Discover Wisconsin
REFRESH-INTERVAL;VALUE=DURATION:PT1H
X-Robots-Tag:noindex
X-PUBLISHED-TTL:PT1H
BEGIN:VTIMEZONE
TZID:America/Chicago
BEGIN:DAYLIGHT
TZOFFSETFROM:-0600
TZOFFSETTO:-0500
TZNAME:CDT
DTSTART:20240310T080000
END:DAYLIGHT
BEGIN:STANDARD
TZOFFSETFROM:-0500
TZOFFSETTO:-0600
TZNAME:CST
DTSTART:20241103T070000
END:STANDARD
BEGIN:DAYLIGHT
TZOFFSETFROM:-0600
TZOFFSETTO:-0500
TZNAME:CDT
DTSTART:20250309T080000
END:DAYLIGHT
BEGIN:STANDARD
TZOFFSETFROM:-0500
TZOFFSETTO:-0600
TZNAME:CST
DTSTART:20251102T070000
END:STANDARD
BEGIN:DAYLIGHT
TZOFFSETFROM:-0600
TZOFFSETTO:-0500
TZNAME:CDT
DTSTART:20260308T080000
END:DAYLIGHT
BEGIN:STANDARD
TZOFFSETFROM:-0500
TZOFFSETTO:-0600
TZNAME:CST
DTSTART:20261101T070000
END:STANDARD
END:VTIMEZONE
BEGIN:VEVENT
DTSTART;TZID=America/Chicago:20250627T193000
DTEND;TZID=America/Chicago:20250627T220000
DTSTAMP:20260425T102619
CREATED:20250304T164011Z
LAST-MODIFIED:20250304T164011Z
UID:10003338-1751052600-1751061600@discoverwisconsin.com
SUMMARY:Friday Bands at the Beach
DESCRIPTION:Buddy’s Beach Bungalow brings free outdoor concerts to the City Beach Bandshell stage on select summer nights. Grab your lawn chair or blanket and enjoy an outdoor show as popular area bands rock the dock at City Beach.
URL:https://discoverwisconsin.com/event/friday-bands-at-the-beach/2025-06-27/
LOCATION:City Beach Park\, 374 West Wisconsin Avenue\, Oconomowoc\, WI\, 53066\, United States
ATTACH;FMTTYPE=image/png:https://discoverwisconsin.com/wp-content/uploads/2025/03/Friday-Bands-at-the-Beach.png
END:VEVENT
BEGIN:VEVENT
DTSTART;TZID=America/Chicago:20250627T190000
DTEND;TZID=America/Chicago:20250627T210000
DTSTAMP:20260425T102619
CREATED:20250501T143118Z
LAST-MODIFIED:20250501T143118Z
UID:10003430-1751050800-1751058000@discoverwisconsin.com
SUMMARY:Music at Harry's Place
DESCRIPTION:Free concerts on the Beloit Riverfront most Friday evenings\, June through August. The series features jazz\, blues\, swing\, and big band. Bring your lawn chairs or blankets and relax under the stars! Food vendors on site. \nThere is no concert on August 1\, so visitors can attend the Downtown Beloit Street Dance!
URL:https://discoverwisconsin.com/event/music-at-harrys-place-2/2025-06-27/
LOCATION:Riverside Park\, 100 State Street\, La Crosse\, 54601\, United States
ATTACH;FMTTYPE=image/jpeg:https://discoverwisconsin.com/wp-content/uploads/2025/05/Music-at-Harrys-Place-scaled.jpg
END:VEVENT
BEGIN:VEVENT
DTSTART;TZID=America/Chicago:20250627T153000
DTEND;TZID=America/Chicago:20250627T183000
DTSTAMP:20260425T102619
CREATED:20250714T204146Z
LAST-MODIFIED:20250714T204146Z
UID:10003553-1751038200-1751049000@discoverwisconsin.com
SUMMARY:Burns Park Farmers Market
DESCRIPTION:The Friday night Farmers Market is located on Main Street between 7th and 8th Street in Burns Park.
URL:https://discoverwisconsin.com/event/burns-park-farmers-market/2025-06-27/
LOCATION:Burns Park\, 702 Main St\, La Crosse\, WI\, 54601\, United States
ATTACH;FMTTYPE=image/jpeg:https://discoverwisconsin.com/wp-content/uploads/2025/07/Burns-Park-Farmers-Market.jpeg
END:VEVENT
BEGIN:VEVENT
DTSTART;TZID=America/Chicago:20250627T113000
DTEND;TZID=America/Chicago:20250627T133000
DTSTAMP:20260425T102619
CREATED:20250501T142733Z
LAST-MODIFIED:20250501T142733Z
UID:10003418-1751023800-1751031000@discoverwisconsin.com
SUMMARY:Fridays In The Park
DESCRIPTION:Come lunch with us! Take a break from work\, meet up with friends. Listen to live music\, kick off your shoes\, and soak up the sun! Tasty selections served by local Downtown Beloit eateries. Only $10 for lunch and a cold drink! Lunch is served until 1:00 pm.
URL:https://discoverwisconsin.com/event/fridays-in-the-park-2/2025-06-27/
LOCATION:First National Bank & Trust Plaza\, 345 E Grand Ave\, Beloit\, WI\, 53511\, United States
ATTACH;FMTTYPE=image/jpeg:https://discoverwisconsin.com/wp-content/uploads/2025/05/Fridays-In-The-Park-scaled.jpg
END:VEVENT
BEGIN:VEVENT
DTSTART;VALUE=DATE:20250627
DTEND;VALUE=DATE:20250628
DTSTAMP:20260425T102619
CREATED:20250218T154455Z
LAST-MODIFIED:20250218T155810Z
UID:10003148-1750982400-1751068799@discoverwisconsin.com
SUMMARY:Beloit Sky Carp Baseball
DESCRIPTION:Beloit Sky Carp Minor League baseball games at ABC Supply Stadium are like hitting a home run! Our High-A Affiliate of the Miami Marlins always makes it a great time at the ballpark by offering major-league fun at minor-league prices. Whether it’s catching Poopsie\, the mascot\, for a picture\, the fireworks displays and theme nights\, or the variety of fantastic food and beverage options\, they have something for all ages to enjoy. The season runs from April through September\, so it’s the perfect time to get in on the action and experience a game.
URL:https://discoverwisconsin.com/event/beloit-sky-carp-baseball-8/2025-06-27/
LOCATION:ABC Supply Stadium\, 217 Shirland Ave\, Beloit\, 53511\, United States
ATTACH;FMTTYPE=image/jpeg:https://discoverwisconsin.com/wp-content/uploads/2025/02/Beloit-Sky-Carm.jpg
END:VEVENT
BEGIN:VEVENT
DTSTART;TZID=America/Chicago:20250626T190000
DTEND;TZID=America/Chicago:20250626T200000
DTSTAMP:20260425T102619
CREATED:20250304T165807Z
LAST-MODIFIED:20250304T165807Z
UID:10003345-1750964400-1750968000@discoverwisconsin.com
SUMMARY:Badgerland Waterski Show
DESCRIPTION:The Badgerland Waterski Team has been performing on area lakes since the 1980s. Each year they bring free shows to Fowler Park throughout summer.
URL:https://discoverwisconsin.com/event/badgerland-waterski-show/2025-06-26/
LOCATION:Fowler Park\, 500 Oakwood Ave\, Oconomowoc\, WI\, 53066\, United States
ATTACH;FMTTYPE=image/jpeg:https://discoverwisconsin.com/wp-content/uploads/2025/03/Badgerland-Waterski-Show-scaled.jpg
END:VEVENT
BEGIN:VEVENT
DTSTART;TZID=America/Chicago:20250626T160000
DTEND;TZID=America/Chicago:20250626T190000
DTSTAMP:20260425T102619
CREATED:20250529T171507Z
LAST-MODIFIED:20250529T171507Z
UID:10003488-1750953600-1750964400@discoverwisconsin.com
SUMMARY:HayMarket
DESCRIPTION:Get ready for a brand new summer tradition! The HayMarket is debuting on May 29. This family-friendly night market will take place every other Thursday from 4-7 pm on Monument Square\, offering a vibrant mix of local vendors\, live music\, food trucks\, and a beer garden in the heart of Downtown.
URL:https://discoverwisconsin.com/event/haymarket/2025-06-26/
LOCATION:Downtown Racine Corporation\, 425 Main Street\, Racine\, WI\, 53403\, United States
ATTACH;FMTTYPE=image/jpeg:https://discoverwisconsin.com/wp-content/uploads/2025/05/HayMarket.jpg
END:VEVENT
BEGIN:VEVENT
DTSTART;TZID=America/Chicago:20250626T150000
DTEND;TZID=America/Chicago:20250626T190000
DTSTAMP:20260425T102619
CREATED:20250714T203723Z
LAST-MODIFIED:20250714T203723Z
UID:10003531-1750950000-1750964400@discoverwisconsin.com
SUMMARY:Burlington's Farmers Market
DESCRIPTION:Burlington Farmers Market Wehmhoff Square Park Every Thursday 3 pm-7 pm May 8–Sept 27 (Night Market: 6/19\, 7/17\, 8/21: 3 pm-8 pm) A vibrant mid-week market with fruit and vegetables\, meat\, cheese bakery\, honey\, preserved and ready-to-eat foods\, live music\, artisans\, local craft beer\, and special events throughout the year. A vendor list is published on our Facebook Page weekly.
URL:https://discoverwisconsin.com/event/burlingtons-farmers-market/2025-06-26/
LOCATION:Wehmhoff Square Park\, 355 N. Pine St.\, Burlington\, WI\, 53105\, United States
ATTACH;FMTTYPE=image/webp:https://discoverwisconsin.com/wp-content/uploads/2025/07/Burlingtons-Farmers-Market.webp
END:VEVENT
BEGIN:VEVENT
DTSTART;VALUE=DATE:20250626
DTEND;VALUE=DATE:20250627
DTSTAMP:20260425T102619
CREATED:20250218T154455Z
LAST-MODIFIED:20250218T155810Z
UID:10003147-1750896000-1750982399@discoverwisconsin.com
SUMMARY:Beloit Sky Carp Baseball
DESCRIPTION:Beloit Sky Carp Minor League baseball games at ABC Supply Stadium are like hitting a home run! Our High-A Affiliate of the Miami Marlins always makes it a great time at the ballpark by offering major-league fun at minor-league prices. Whether it’s catching Poopsie\, the mascot\, for a picture\, the fireworks displays and theme nights\, or the variety of fantastic food and beverage options\, they have something for all ages to enjoy. The season runs from April through September\, so it’s the perfect time to get in on the action and experience a game.
URL:https://discoverwisconsin.com/event/beloit-sky-carp-baseball-8/2025-06-26/
LOCATION:ABC Supply Stadium\, 217 Shirland Ave\, Beloit\, 53511\, United States
ATTACH;FMTTYPE=image/jpeg:https://discoverwisconsin.com/wp-content/uploads/2025/02/Beloit-Sky-Carm.jpg
END:VEVENT
BEGIN:VEVENT
DTSTART;VALUE=DATE:20250625
DTEND;VALUE=DATE:20250626
DTSTAMP:20260425T102619
CREATED:20250218T154455Z
LAST-MODIFIED:20250218T155810Z
UID:10003146-1750809600-1750895999@discoverwisconsin.com
SUMMARY:Beloit Sky Carp Baseball
DESCRIPTION:Beloit Sky Carp Minor League baseball games at ABC Supply Stadium are like hitting a home run! Our High-A Affiliate of the Miami Marlins always makes it a great time at the ballpark by offering major-league fun at minor-league prices. Whether it’s catching Poopsie\, the mascot\, for a picture\, the fireworks displays and theme nights\, or the variety of fantastic food and beverage options\, they have something for all ages to enjoy. The season runs from April through September\, so it’s the perfect time to get in on the action and experience a game.
URL:https://discoverwisconsin.com/event/beloit-sky-carp-baseball-8/2025-06-25/
LOCATION:ABC Supply Stadium\, 217 Shirland Ave\, Beloit\, 53511\, United States
ATTACH;FMTTYPE=image/jpeg:https://discoverwisconsin.com/wp-content/uploads/2025/02/Beloit-Sky-Carm.jpg
END:VEVENT
BEGIN:VEVENT
DTSTART;TZID=America/Chicago:20250624T170000
DTEND;TZID=America/Chicago:20250624T200000
DTSTAMP:20260425T102619
CREATED:20250529T164557Z
LAST-MODIFIED:20250529T164557Z
UID:10003456-1750784400-1750795200@discoverwisconsin.com
SUMMARY:8th Streatery
DESCRIPTION:8th Streatery is a weekly outdoor festival featuring a multi-restaurant\, in-street dining experience that brings the community together in the heart of downtown Sheboygan. Now in its fifth year\, this beloved festival is a celebration of local businesses and community spirit\, offering an opportunity for residents and visitors to enjoy the city’s finest cuisines in a lively and social atmosphere.
URL:https://discoverwisconsin.com/event/8th-streatery/2025-06-24/
LOCATION:Downtown Sheboygan\, S 8th St & Pennsylvania Ave\, Sheboygan\, WI\, 53081\, United States
ATTACH;FMTTYPE=image/jpeg:https://discoverwisconsin.com/wp-content/uploads/2025/05/8th-Streatery-scaled.jpg
END:VEVENT
BEGIN:VEVENT
DTSTART;VALUE=DATE:20250624
DTEND;VALUE=DATE:20250625
DTSTAMP:20260425T102619
CREATED:20250218T154455Z
LAST-MODIFIED:20250218T155810Z
UID:10003145-1750723200-1750809599@discoverwisconsin.com
SUMMARY:Beloit Sky Carp Baseball
DESCRIPTION:Beloit Sky Carp Minor League baseball games at ABC Supply Stadium are like hitting a home run! Our High-A Affiliate of the Miami Marlins always makes it a great time at the ballpark by offering major-league fun at minor-league prices. Whether it’s catching Poopsie\, the mascot\, for a picture\, the fireworks displays and theme nights\, or the variety of fantastic food and beverage options\, they have something for all ages to enjoy. The season runs from April through September\, so it’s the perfect time to get in on the action and experience a game.
URL:https://discoverwisconsin.com/event/beloit-sky-carp-baseball-8/2025-06-24/
LOCATION:ABC Supply Stadium\, 217 Shirland Ave\, Beloit\, 53511\, United States
ATTACH;FMTTYPE=image/jpeg:https://discoverwisconsin.com/wp-content/uploads/2025/02/Beloit-Sky-Carm.jpg
END:VEVENT
BEGIN:VEVENT
DTSTART;TZID=America/Chicago:20250623T190000
DTEND;TZID=America/Chicago:20250623T210000
DTSTAMP:20260425T102619
CREATED:20250501T145630Z
LAST-MODIFIED:20250501T145630Z
UID:10003449-1750705200-1750712400@discoverwisconsin.com
SUMMARY:Dancing at Harry's Place
DESCRIPTION:Love to dance\, or just wish you could? Dancing at Harry’s Place is the spot to learn to Cha Cha\, Waltz. Polka and more with free lessons. When you’ve figured out the footwork\, try out your new talent during open dance time. Come with or without a partner.
URL:https://discoverwisconsin.com/event/dancing-at-harrys-place-2/2025-06-23/
LOCATION:Harry C. Moore Pavilion\, 1160 Riverside Drive\, Beloit\, WI\, 53511\, United States
ATTACH;FMTTYPE=image/jpeg:https://discoverwisconsin.com/wp-content/uploads/2025/05/Dancing-at-Harrys-Place-scaled.jpg
END:VEVENT
BEGIN:VEVENT
DTSTART;TZID=America/Chicago:20250623T170000
DTEND;TZID=America/Chicago:20250623T200000
DTSTAMP:20260425T102619
CREATED:20250529T165646Z
LAST-MODIFIED:20250529T165646Z
UID:10003469-1750698000-1750708800@discoverwisconsin.com
SUMMARY:Fun & Food on First
DESCRIPTION:Join us for the first Fun and Food on First taking place at Ten Club Park. \nBring your appetite for food as there will be a variety of food trucks and drinks available to purchase. \nThis event is Free and open to the public.
URL:https://discoverwisconsin.com/event/fun-food-on-first/2025-06-23/
LOCATION:Ten Club Park\, 100 S 1st St\, Waterford\, WI\, 53185\, United States
ATTACH;FMTTYPE=image/png:https://discoverwisconsin.com/wp-content/uploads/2025/05/Fun-Food-on-First.png
END:VEVENT
BEGIN:VEVENT
DTSTART;TZID=America/Chicago:20250622T130000
DTEND;TZID=America/Chicago:20250622T160000
DTSTAMP:20260425T102619
CREATED:20250218T155642Z
LAST-MODIFIED:20250218T155642Z
UID:10003240-1750597200-1750608000@discoverwisconsin.com
SUMMARY:Beckman Mill Guided Tours
DESCRIPTION:The mill\, gift shop\, and museum are open every Saturday and Sunday from 1-4 p.m.\, May 3rd through October 26th\, 2025. Corn Grinding and Blacksmith Demonstrating will be featured on the first Saturday of every month.
URL:https://discoverwisconsin.com/event/beckman-mill-guided-tours-2/2025-06-22/
LOCATION:Beckman Mill\, 11600 S County Road H\, Beloit\, WI\, 53511\, United States
ATTACH;FMTTYPE=image/jpeg:https://discoverwisconsin.com/wp-content/uploads/2025/02/Beckman-Mill-Guided-Tours-scaled.jpg
END:VEVENT
BEGIN:VEVENT
DTSTART;VALUE=DATE:20250622
DTEND;VALUE=DATE:20250623
DTSTAMP:20260425T102619
CREATED:20250218T154455Z
LAST-MODIFIED:20250218T155810Z
UID:10003143-1750550400-1750636799@discoverwisconsin.com
SUMMARY:Beloit Sky Carp Baseball
DESCRIPTION:Beloit Sky Carp Minor League baseball games at ABC Supply Stadium are like hitting a home run! Our High-A Affiliate of the Miami Marlins always makes it a great time at the ballpark by offering major-league fun at minor-league prices. Whether it’s catching Poopsie\, the mascot\, for a picture\, the fireworks displays and theme nights\, or the variety of fantastic food and beverage options\, they have something for all ages to enjoy. The season runs from April through September\, so it’s the perfect time to get in on the action and experience a game.
URL:https://discoverwisconsin.com/event/beloit-sky-carp-baseball-8/2025-06-22/
LOCATION:ABC Supply Stadium\, 217 Shirland Ave\, Beloit\, 53511\, United States
ATTACH;FMTTYPE=image/jpeg:https://discoverwisconsin.com/wp-content/uploads/2025/02/Beloit-Sky-Carm.jpg
END:VEVENT
BEGIN:VEVENT
DTSTART;TZID=America/Chicago:20250621T173000
DTEND;TZID=America/Chicago:20250621T213000
DTSTAMP:20260425T102619
CREATED:20250602T140118Z
LAST-MODIFIED:20250602T140118Z
UID:10003513-1750527000-1750541400@discoverwisconsin.com
SUMMARY:Pickin' in the Park
DESCRIPTION:Mount Pleasant is bringing the acoustic rhythms of bluegrass music to Campus Park\, with a new summer concert event called Pickin’ in the Park. This free celebration features four bluegrass bands with artists who have made crowds dance to stand-up bass rhythms from North Carolina to Madison\, including a little place in between called the Grand Ole Opry. Food Trucks will be on site with hot eats\, and Racine Founders Rotary will be serving cold drinks. \nThe event lineup includes music by \n? Bluegrass All Stars – 5:30 PM \n? KR Bluegrass – 6:30 PM \n? Soggy Prairie – 7:30 PM \n? The Milbillies – 8:30 PM \nGrab your favorite chair or cozy blanket and find a spot on the Great Lawn in front of the bandshell. See you there! \n? No carry-in beer\, wine or liquor\, glass containers\, or dogs are permitted.
URL:https://discoverwisconsin.com/event/pickin-in-the-park/
LOCATION:Campus Park\, 8500 Campus Drive\, Mount Pleasant\, WI\, 53406\, United States
ATTACH;FMTTYPE=image/jpeg:https://discoverwisconsin.com/wp-content/uploads/2025/06/Pickin-in-the-Park.jpg
END:VEVENT
BEGIN:VEVENT
DTSTART;TZID=America/Chicago:20250621T170000
DTEND;TZID=America/Chicago:20250621T210000
DTSTAMP:20260425T102619
CREATED:20250304T174858Z
LAST-MODIFIED:20250304T174858Z
UID:10003373-1750525200-1750539600@discoverwisconsin.com
SUMMARY:Summer Beer Gardens
DESCRIPTION:The Oconomowoc Area Chamber of Commerce hosts this outdoor summer event. Enjoy taps from a featured local brewery\, live music\, trivia\, food\, and more.
URL:https://discoverwisconsin.com/event/summer-beer-gardens-2/2025-06-21/
LOCATION:Village Green Park\, 104 East Wisconsin Avenue\, Oconomowoc\, WI\, 53066\, United States
ATTACH;FMTTYPE=image/jpeg:https://discoverwisconsin.com/wp-content/uploads/2025/03/Summer-Beer-Gardens.jpg
END:VEVENT
BEGIN:VEVENT
DTSTART;TZID=America/Chicago:20250621T130000
DTEND;TZID=America/Chicago:20250621T160000
DTSTAMP:20260425T102619
CREATED:20250218T155642Z
LAST-MODIFIED:20250218T155642Z
UID:10003239-1750510800-1750521600@discoverwisconsin.com
SUMMARY:Beckman Mill Guided Tours
DESCRIPTION:The mill\, gift shop\, and museum are open every Saturday and Sunday from 1-4 p.m.\, May 3rd through October 26th\, 2025. Corn Grinding and Blacksmith Demonstrating will be featured on the first Saturday of every month.
URL:https://discoverwisconsin.com/event/beckman-mill-guided-tours-2/2025-06-21/
LOCATION:Beckman Mill\, 11600 S County Road H\, Beloit\, WI\, 53511\, United States
ATTACH;FMTTYPE=image/jpeg:https://discoverwisconsin.com/wp-content/uploads/2025/02/Beckman-Mill-Guided-Tours-scaled.jpg
END:VEVENT
BEGIN:VEVENT
DTSTART;TZID=America/Chicago:20250621T080000
DTEND;TZID=America/Chicago:20250621T234500
DTSTAMP:20260425T102619
CREATED:20250304T173218Z
LAST-MODIFIED:20250304T173218Z
UID:10003367-1750492800-1750549500@discoverwisconsin.com
SUMMARY:Make Music Beloit
DESCRIPTION:In celebration of the summer solstice and to showcase the musical talent in Beloit while uplifting the community\, the third annual Make Music Day – Beloit will be held on Saturday\, June 21\, 2025\, as part of a free\, citywide\, and global event. Beloit will come alive with music in the streets\, parks\, offices\, schools\, and unique venues. Music will be performed by anyone and enjoyed by everyone. \nFirst originating in France in 1982 as the Fête de la Musique\, it has expanded to more than 1\,000 cities across 120 countries. Beloit is thrilled to participate in the music event as part of the lineup of cities across the world that offer performances. Wisconsin\, once again\, has more cities participating in Make Music Day than any other U.S. state. \nMusicians of all styles\, ages\, and talent levels are invited to register to perform. Venues can also offer their spaces at no cost. Just register and we’ll take care of the musician-venue matchmaking. \nMusicians and venues can register until May 28 at www.makemusicday.org/beloit. \nA full list of performances can be seen on/after June 4 at www.makemusicday.org/beloit.
URL:https://discoverwisconsin.com/event/make-music-beloit-2/
LOCATION:Various Beloit Venues
ATTACH;FMTTYPE=image/jpeg:https://discoverwisconsin.com/wp-content/uploads/2025/03/Make-Music-Beloit.jpg
END:VEVENT
BEGIN:VEVENT
DTSTART;TZID=America/Chicago:20250621T080000
DTEND;TZID=America/Chicago:20250621T130000
DTSTAMP:20260425T102619
CREATED:20250218T160508Z
LAST-MODIFIED:20250218T160508Z
UID:10003285-1750492800-1750510800@discoverwisconsin.com
SUMMARY:Beloit Farmers' Market
DESCRIPTION:Since 1975\, the Beloit Farmers’ Market in Downtown Beloit has drawn thousands of locals and visitors. With over 130 vendors\, it’s Wisconsin’s second largest Farmers’ Market\, after Dane County. Enjoy shopping in historic Downtown Beloit for local produce\, organics\, baked goods\, and more. Family-friendly activities like face painting\, balloon animals\, and live music enhance the experience every Saturday\, May through October\, from 8 a.m. to 1 p.m.\, rain or shine.
URL:https://discoverwisconsin.com/event/beloit-farmers-market-2/2025-06-21/
LOCATION:Downtown Beloit\, 300 Block of State Street\, Beloit\, WI\, 53511\, United States
ATTACH;FMTTYPE=image/jpeg:https://discoverwisconsin.com/wp-content/uploads/2025/02/Beloit-Farmers-Market-scaled.jpg
END:VEVENT
BEGIN:VEVENT
DTSTART;TZID=America/Chicago:20250621T080000
DTEND;TZID=America/Chicago:20250621T120000
DTSTAMP:20260425T102619
CREATED:20250304T162651Z
LAST-MODIFIED:20250304T162651Z
UID:10003315-1750492800-1750507200@discoverwisconsin.com
SUMMARY:Summer Farmers Market
DESCRIPTION:Market-goers can find a variety of goods including seasonal produce\, spices\, herbs\, soups\, handmade arts and crafts\, baked goods\, plants\, honey\, cheeses\, jams\, canned goods\, maple syrup\, breads\, and farm fresh eggs and meats. A full list of farmers and vendors participating in the market will be published each year prior to the first day of market\, and this page will be updated weekly with a map of vendors attending in the current week.
URL:https://discoverwisconsin.com/event/summer-farmers-market/2025-06-21/
LOCATION:Campus Parking Lot\, 155 West Wisconsin Avenue\, Oconomowoc\, WI\, 53066\, United States
ATTACH;FMTTYPE=image/jpeg:https://discoverwisconsin.com/wp-content/uploads/2025/03/Oconomowoc-Farmers-Market.jpg
END:VEVENT
BEGIN:VEVENT
DTSTART;TZID=America/Chicago:20250621T070000
DTEND;TZID=America/Chicago:20250621T130000
DTSTAMP:20260425T102619
CREATED:20250124T225411Z
LAST-MODIFIED:20250124T225658Z
UID:10003049-1750489200-1750510800@discoverwisconsin.com
SUMMARY:Great Northern Highland Paddle & Portage
DESCRIPTION:We will begin on Plum Lake in Sayner and end on Star Lake in Star Lake\, with a portage of woods connecting the two. This event will be a one-day event with registration starting at 7:00 am downtown Sayner at the Northern Highland Coffee Co.\, race starting at 10:00 am at the boat ramp located at 3230 State House Point Rd.\, Sayner\, WI\, and the finish of the race will be at the Star Lake Pavilion/Old Mill Site\, 7877 Statehouse Road\, Star Lake\, WI. The park will have food opportunities\, restrooms\, and a pavilion to guard us from any inclement weather.
URL:https://discoverwisconsin.com/event/great-northern-highland-paddle-portage/
LOCATION:Northern Highland Coffee Company\, 2965 WI-155\, Sayner\, 54560\, United States
ATTACH;FMTTYPE=image/png:https://discoverwisconsin.com/wp-content/uploads/2025/01/Great-Northern-Highland-Paddle-Portage.png
END:VEVENT
BEGIN:VEVENT
DTSTART;VALUE=DATE:20250621
DTEND;VALUE=DATE:20250622
DTSTAMP:20260425T102619
CREATED:20250218T154455Z
LAST-MODIFIED:20250218T155810Z
UID:10003142-1750464000-1750550399@discoverwisconsin.com
SUMMARY:Beloit Sky Carp Baseball
DESCRIPTION:Beloit Sky Carp Minor League baseball games at ABC Supply Stadium are like hitting a home run! Our High-A Affiliate of the Miami Marlins always makes it a great time at the ballpark by offering major-league fun at minor-league prices. Whether it’s catching Poopsie\, the mascot\, for a picture\, the fireworks displays and theme nights\, or the variety of fantastic food and beverage options\, they have something for all ages to enjoy. The season runs from April through September\, so it’s the perfect time to get in on the action and experience a game.
URL:https://discoverwisconsin.com/event/beloit-sky-carp-baseball-8/2025-06-21/
LOCATION:ABC Supply Stadium\, 217 Shirland Ave\, Beloit\, 53511\, United States
ATTACH;FMTTYPE=image/jpeg:https://discoverwisconsin.com/wp-content/uploads/2025/02/Beloit-Sky-Carm.jpg
END:VEVENT
BEGIN:VEVENT
DTSTART;TZID=America/Chicago:20250620T190000
DTEND;TZID=America/Chicago:20250620T210000
DTSTAMP:20260425T102619
CREATED:20250501T143118Z
LAST-MODIFIED:20250501T143118Z
UID:10003429-1750446000-1750453200@discoverwisconsin.com
SUMMARY:Music at Harry's Place
DESCRIPTION:Free concerts on the Beloit Riverfront most Friday evenings\, June through August. The series features jazz\, blues\, swing\, and big band. Bring your lawn chairs or blankets and relax under the stars! Food vendors on site. \nThere is no concert on August 1\, so visitors can attend the Downtown Beloit Street Dance!
URL:https://discoverwisconsin.com/event/music-at-harrys-place-2/2025-06-20/
LOCATION:Riverside Park\, 100 State Street\, La Crosse\, 54601\, United States
ATTACH;FMTTYPE=image/jpeg:https://discoverwisconsin.com/wp-content/uploads/2025/05/Music-at-Harrys-Place-scaled.jpg
END:VEVENT
BEGIN:VEVENT
DTSTART;TZID=America/Chicago:20250620T170000
DTEND;TZID=America/Chicago:20250620T210000
DTSTAMP:20260425T102619
CREATED:20250304T174858Z
LAST-MODIFIED:20250304T174858Z
UID:10003372-1750438800-1750453200@discoverwisconsin.com
SUMMARY:Summer Beer Gardens
DESCRIPTION:The Oconomowoc Area Chamber of Commerce hosts this outdoor summer event. Enjoy taps from a featured local brewery\, live music\, trivia\, food\, and more.
URL:https://discoverwisconsin.com/event/summer-beer-gardens-2/2025-06-20/
LOCATION:Village Green Park\, 104 East Wisconsin Avenue\, Oconomowoc\, WI\, 53066\, United States
ATTACH;FMTTYPE=image/jpeg:https://discoverwisconsin.com/wp-content/uploads/2025/03/Summer-Beer-Gardens.jpg
END:VEVENT
BEGIN:VEVENT
DTSTART;TZID=America/Chicago:20250620T153000
DTEND;TZID=America/Chicago:20250620T183000
DTSTAMP:20260425T102619
CREATED:20250714T204146Z
LAST-MODIFIED:20250714T204146Z
UID:10003552-1750433400-1750444200@discoverwisconsin.com
SUMMARY:Burns Park Farmers Market
DESCRIPTION:The Friday night Farmers Market is located on Main Street between 7th and 8th Street in Burns Park.
URL:https://discoverwisconsin.com/event/burns-park-farmers-market/2025-06-20/
LOCATION:Burns Park\, 702 Main St\, La Crosse\, WI\, 54601\, United States
ATTACH;FMTTYPE=image/jpeg:https://discoverwisconsin.com/wp-content/uploads/2025/07/Burns-Park-Farmers-Market.jpeg
END:VEVENT
BEGIN:VEVENT
DTSTART;TZID=America/Chicago:20250620T113000
DTEND;TZID=America/Chicago:20250620T133000
DTSTAMP:20260425T102619
CREATED:20250501T142733Z
LAST-MODIFIED:20250501T142733Z
UID:10003417-1750419000-1750426200@discoverwisconsin.com
SUMMARY:Fridays In The Park
DESCRIPTION:Come lunch with us! Take a break from work\, meet up with friends. Listen to live music\, kick off your shoes\, and soak up the sun! Tasty selections served by local Downtown Beloit eateries. Only $10 for lunch and a cold drink! Lunch is served until 1:00 pm.
URL:https://discoverwisconsin.com/event/fridays-in-the-park-2/2025-06-20/
LOCATION:First National Bank & Trust Plaza\, 345 E Grand Ave\, Beloit\, WI\, 53511\, United States
ATTACH;FMTTYPE=image/jpeg:https://discoverwisconsin.com/wp-content/uploads/2025/05/Fridays-In-The-Park-scaled.jpg
END:VEVENT
BEGIN:VEVENT
DTSTART;VALUE=DATE:20250620
DTEND;VALUE=DATE:20250621
DTSTAMP:20260425T102619
CREATED:20250218T154455Z
LAST-MODIFIED:20250218T155810Z
UID:10003141-1750377600-1750463999@discoverwisconsin.com
SUMMARY:Beloit Sky Carp Baseball
DESCRIPTION:Beloit Sky Carp Minor League baseball games at ABC Supply Stadium are like hitting a home run! Our High-A Affiliate of the Miami Marlins always makes it a great time at the ballpark by offering major-league fun at minor-league prices. Whether it’s catching Poopsie\, the mascot\, for a picture\, the fireworks displays and theme nights\, or the variety of fantastic food and beverage options\, they have something for all ages to enjoy. The season runs from April through September\, so it’s the perfect time to get in on the action and experience a game.
URL:https://discoverwisconsin.com/event/beloit-sky-carp-baseball-8/2025-06-20/
LOCATION:ABC Supply Stadium\, 217 Shirland Ave\, Beloit\, 53511\, United States
ATTACH;FMTTYPE=image/jpeg:https://discoverwisconsin.com/wp-content/uploads/2025/02/Beloit-Sky-Carm.jpg
END:VEVENT
BEGIN:VEVENT
DTSTART;TZID=America/Chicago:20250619T190000
DTEND;TZID=America/Chicago:20250619T200000
DTSTAMP:20260425T102619
CREATED:20250304T165807Z
LAST-MODIFIED:20250304T165807Z
UID:10003344-1750359600-1750363200@discoverwisconsin.com
SUMMARY:Badgerland Waterski Show
DESCRIPTION:The Badgerland Waterski Team has been performing on area lakes since the 1980s. Each year they bring free shows to Fowler Park throughout summer.
URL:https://discoverwisconsin.com/event/badgerland-waterski-show/2025-06-19/
LOCATION:Fowler Park\, 500 Oakwood Ave\, Oconomowoc\, WI\, 53066\, United States
ATTACH;FMTTYPE=image/jpeg:https://discoverwisconsin.com/wp-content/uploads/2025/03/Badgerland-Waterski-Show-scaled.jpg
END:VEVENT
END:VCALENDAR