BEGIN:VCALENDAR
VERSION:2.0
PRODID:-//Discover Wisconsin - ECPv6.15.17.1//NONSGML v1.0//EN
CALSCALE:GREGORIAN
METHOD:PUBLISH
X-WR-CALNAME:Discover Wisconsin
X-ORIGINAL-URL:https://discoverwisconsin.com
X-WR-CALDESC:Events for Discover Wisconsin
REFRESH-INTERVAL;VALUE=DURATION:PT1H
X-Robots-Tag:noindex
X-PUBLISHED-TTL:PT1H
BEGIN:VTIMEZONE
TZID:America/Chicago
BEGIN:DAYLIGHT
TZOFFSETFROM:-0600
TZOFFSETTO:-0500
TZNAME:CDT
DTSTART:20240310T080000
END:DAYLIGHT
BEGIN:STANDARD
TZOFFSETFROM:-0500
TZOFFSETTO:-0600
TZNAME:CST
DTSTART:20241103T070000
END:STANDARD
BEGIN:DAYLIGHT
TZOFFSETFROM:-0600
TZOFFSETTO:-0500
TZNAME:CDT
DTSTART:20250309T080000
END:DAYLIGHT
BEGIN:STANDARD
TZOFFSETFROM:-0500
TZOFFSETTO:-0600
TZNAME:CST
DTSTART:20251102T070000
END:STANDARD
BEGIN:DAYLIGHT
TZOFFSETFROM:-0600
TZOFFSETTO:-0500
TZNAME:CDT
DTSTART:20260308T080000
END:DAYLIGHT
BEGIN:STANDARD
TZOFFSETFROM:-0500
TZOFFSETTO:-0600
TZNAME:CST
DTSTART:20261101T070000
END:STANDARD
END:VTIMEZONE
BEGIN:VEVENT
DTSTART;TZID=America/Chicago:20250811T170000
DTEND;TZID=America/Chicago:20250811T200000
DTSTAMP:20260424T073830
CREATED:20250529T165646Z
LAST-MODIFIED:20250529T165646Z
UID:10003476-1754931600-1754942400@discoverwisconsin.com
SUMMARY:Fun & Food on First
DESCRIPTION:Join us for the first Fun and Food on First taking place at Ten Club Park. \nBring your appetite for food as there will be a variety of food trucks and drinks available to purchase. \nThis event is Free and open to the public.
URL:https://discoverwisconsin.com/event/fun-food-on-first/2025-08-11/
LOCATION:Ten Club Park\, 100 S 1st St\, Waterford\, WI\, 53185\, United States
ATTACH;FMTTYPE=image/png:https://discoverwisconsin.com/wp-content/uploads/2025/05/Fun-Food-on-First.png
END:VEVENT
BEGIN:VEVENT
DTSTART;TZID=America/Chicago:20250811T190000
DTEND;TZID=America/Chicago:20250811T210000
DTSTAMP:20260424T073830
CREATED:20250501T145630Z
LAST-MODIFIED:20250501T145630Z
UID:10003452-1754938800-1754946000@discoverwisconsin.com
SUMMARY:Dancing at Harry's Place
DESCRIPTION:Love to dance\, or just wish you could? Dancing at Harry’s Place is the spot to learn to Cha Cha\, Waltz. Polka and more with free lessons. When you’ve figured out the footwork\, try out your new talent during open dance time. Come with or without a partner.
URL:https://discoverwisconsin.com/event/dancing-at-harrys-place-2/2025-08-11/
LOCATION:Harry C. Moore Pavilion\, 1160 Riverside Drive\, Beloit\, WI\, 53511\, United States
ATTACH;FMTTYPE=image/jpeg:https://discoverwisconsin.com/wp-content/uploads/2025/05/Dancing-at-Harrys-Place-scaled.jpg
END:VEVENT
BEGIN:VEVENT
DTSTART;VALUE=DATE:20250812
DTEND;VALUE=DATE:20250813
DTSTAMP:20260424T073830
CREATED:20250218T154455Z
LAST-MODIFIED:20250218T155810Z
UID:10003194-1754956800-1755043199@discoverwisconsin.com
SUMMARY:Beloit Sky Carp Baseball
DESCRIPTION:Beloit Sky Carp Minor League baseball games at ABC Supply Stadium are like hitting a home run! Our High-A Affiliate of the Miami Marlins always makes it a great time at the ballpark by offering major-league fun at minor-league prices. Whether it’s catching Poopsie\, the mascot\, for a picture\, the fireworks displays and theme nights\, or the variety of fantastic food and beverage options\, they have something for all ages to enjoy. The season runs from April through September\, so it’s the perfect time to get in on the action and experience a game.
URL:https://discoverwisconsin.com/event/beloit-sky-carp-baseball-8/2025-08-12/
LOCATION:ABC Supply Stadium\, 217 Shirland Ave\, Beloit\, 53511\, United States
ATTACH;FMTTYPE=image/jpeg:https://discoverwisconsin.com/wp-content/uploads/2025/02/Beloit-Sky-Carm.jpg
END:VEVENT
BEGIN:VEVENT
DTSTART;TZID=America/Chicago:20250812T170000
DTEND;TZID=America/Chicago:20250812T200000
DTSTAMP:20260424T073830
CREATED:20250529T164557Z
LAST-MODIFIED:20250529T164557Z
UID:10003463-1755018000-1755028800@discoverwisconsin.com
SUMMARY:8th Streatery
DESCRIPTION:8th Streatery is a weekly outdoor festival featuring a multi-restaurant\, in-street dining experience that brings the community together in the heart of downtown Sheboygan. Now in its fifth year\, this beloved festival is a celebration of local businesses and community spirit\, offering an opportunity for residents and visitors to enjoy the city’s finest cuisines in a lively and social atmosphere.
URL:https://discoverwisconsin.com/event/8th-streatery/2025-08-12/
LOCATION:Downtown Sheboygan\, S 8th St & Pennsylvania Ave\, Sheboygan\, WI\, 53081\, United States
ATTACH;FMTTYPE=image/jpeg:https://discoverwisconsin.com/wp-content/uploads/2025/05/8th-Streatery-scaled.jpg
END:VEVENT
BEGIN:VEVENT
DTSTART;VALUE=DATE:20250813
DTEND;VALUE=DATE:20250814
DTSTAMP:20260424T073830
CREATED:20250218T154455Z
LAST-MODIFIED:20250218T155810Z
UID:10003195-1755043200-1755129599@discoverwisconsin.com
SUMMARY:Beloit Sky Carp Baseball
DESCRIPTION:Beloit Sky Carp Minor League baseball games at ABC Supply Stadium are like hitting a home run! Our High-A Affiliate of the Miami Marlins always makes it a great time at the ballpark by offering major-league fun at minor-league prices. Whether it’s catching Poopsie\, the mascot\, for a picture\, the fireworks displays and theme nights\, or the variety of fantastic food and beverage options\, they have something for all ages to enjoy. The season runs from April through September\, so it’s the perfect time to get in on the action and experience a game.
URL:https://discoverwisconsin.com/event/beloit-sky-carp-baseball-8/2025-08-13/
LOCATION:ABC Supply Stadium\, 217 Shirland Ave\, Beloit\, 53511\, United States
ATTACH;FMTTYPE=image/jpeg:https://discoverwisconsin.com/wp-content/uploads/2025/02/Beloit-Sky-Carm.jpg
END:VEVENT
BEGIN:VEVENT
DTSTART;VALUE=DATE:20250814
DTEND;VALUE=DATE:20250815
DTSTAMP:20260424T073830
CREATED:20250218T154455Z
LAST-MODIFIED:20250218T155810Z
UID:10003196-1755129600-1755215999@discoverwisconsin.com
SUMMARY:Beloit Sky Carp Baseball
DESCRIPTION:Beloit Sky Carp Minor League baseball games at ABC Supply Stadium are like hitting a home run! Our High-A Affiliate of the Miami Marlins always makes it a great time at the ballpark by offering major-league fun at minor-league prices. Whether it’s catching Poopsie\, the mascot\, for a picture\, the fireworks displays and theme nights\, or the variety of fantastic food and beverage options\, they have something for all ages to enjoy. The season runs from April through September\, so it’s the perfect time to get in on the action and experience a game.
URL:https://discoverwisconsin.com/event/beloit-sky-carp-baseball-8/2025-08-14/
LOCATION:ABC Supply Stadium\, 217 Shirland Ave\, Beloit\, 53511\, United States
ATTACH;FMTTYPE=image/jpeg:https://discoverwisconsin.com/wp-content/uploads/2025/02/Beloit-Sky-Carm.jpg
END:VEVENT
BEGIN:VEVENT
DTSTART;TZID=America/Chicago:20250814T150000
DTEND;TZID=America/Chicago:20250814T190000
DTSTAMP:20260424T073830
CREATED:20250714T203723Z
LAST-MODIFIED:20250714T203723Z
UID:10003538-1755183600-1755198000@discoverwisconsin.com
SUMMARY:Burlington's Farmers Market
DESCRIPTION:Burlington Farmers Market Wehmhoff Square Park Every Thursday 3 pm-7 pm May 8–Sept 27 (Night Market: 6/19\, 7/17\, 8/21: 3 pm-8 pm) A vibrant mid-week market with fruit and vegetables\, meat\, cheese bakery\, honey\, preserved and ready-to-eat foods\, live music\, artisans\, local craft beer\, and special events throughout the year. A vendor list is published on our Facebook Page weekly.
URL:https://discoverwisconsin.com/event/burlingtons-farmers-market/2025-08-14/
LOCATION:Wehmhoff Square Park\, 355 N. Pine St.\, Burlington\, WI\, 53105\, United States
ATTACH;FMTTYPE=image/webp:https://discoverwisconsin.com/wp-content/uploads/2025/07/Burlingtons-Farmers-Market.webp
END:VEVENT
BEGIN:VEVENT
DTSTART;TZID=America/Chicago:20250814T170000
DTEND;TZID=America/Chicago:20250814T210000
DTSTAMP:20260424T073830
CREATED:20250304T174858Z
LAST-MODIFIED:20250304T174858Z
UID:10003377-1755190800-1755205200@discoverwisconsin.com
SUMMARY:Summer Beer Gardens
DESCRIPTION:The Oconomowoc Area Chamber of Commerce hosts this outdoor summer event. Enjoy taps from a featured local brewery\, live music\, trivia\, food\, and more.
URL:https://discoverwisconsin.com/event/summer-beer-gardens-2/2025-08-14/
LOCATION:Village Green Park\, 104 East Wisconsin Avenue\, Oconomowoc\, WI\, 53066\, United States
ATTACH;FMTTYPE=image/jpeg:https://discoverwisconsin.com/wp-content/uploads/2025/03/Summer-Beer-Gardens.jpg
END:VEVENT
BEGIN:VEVENT
DTSTART;TZID=America/Chicago:20250814T170000
DTEND;TZID=America/Chicago:20250814T233000
DTSTAMP:20260424T073830
CREATED:20250304T174446Z
LAST-MODIFIED:20250304T174446Z
UID:10003370-1755190800-1755214200@discoverwisconsin.com
SUMMARY:Moonlit Movies
DESCRIPTION:Since 2006\, Moonlit Movies has produced movie nights at Fowler Park and on the streets of downtown Oconomowoc that have truly set the benchmark for classic community events – live music\, costumed characters\, Badgerland Water Ski Show\, giant bounce houses\, contests\, games\, celebrity appearances\, superheroes\, the list goes on and on.
URL:https://discoverwisconsin.com/event/moonlit-movies/2025-08-14/
LOCATION:Fowler Park\, 500 Oakwood Ave\, Oconomowoc\, WI\, 53066\, United States
ATTACH;FMTTYPE=image/jpeg:https://discoverwisconsin.com/wp-content/uploads/2025/03/Moonlit-Movies.jpg
END:VEVENT
BEGIN:VEVENT
DTSTART;TZID=America/Chicago:20250814T190000
DTEND;TZID=America/Chicago:20250814T200000
DTSTAMP:20260424T073830
CREATED:20250304T165807Z
LAST-MODIFIED:20250304T165807Z
UID:10003349-1755198000-1755201600@discoverwisconsin.com
SUMMARY:Badgerland Waterski Show
DESCRIPTION:The Badgerland Waterski Team has been performing on area lakes since the 1980s. Each year they bring free shows to Fowler Park throughout summer.
URL:https://discoverwisconsin.com/event/badgerland-waterski-show/2025-08-14/
LOCATION:Fowler Park\, 500 Oakwood Ave\, Oconomowoc\, WI\, 53066\, United States
ATTACH;FMTTYPE=image/jpeg:https://discoverwisconsin.com/wp-content/uploads/2025/03/Badgerland-Waterski-Show-scaled.jpg
END:VEVENT
BEGIN:VEVENT
DTSTART;VALUE=DATE:20250815
DTEND;VALUE=DATE:20250816
DTSTAMP:20260424T073830
CREATED:20250218T154455Z
LAST-MODIFIED:20250218T155810Z
UID:10003197-1755216000-1755302399@discoverwisconsin.com
SUMMARY:Beloit Sky Carp Baseball
DESCRIPTION:Beloit Sky Carp Minor League baseball games at ABC Supply Stadium are like hitting a home run! Our High-A Affiliate of the Miami Marlins always makes it a great time at the ballpark by offering major-league fun at minor-league prices. Whether it’s catching Poopsie\, the mascot\, for a picture\, the fireworks displays and theme nights\, or the variety of fantastic food and beverage options\, they have something for all ages to enjoy. The season runs from April through September\, so it’s the perfect time to get in on the action and experience a game.
URL:https://discoverwisconsin.com/event/beloit-sky-carp-baseball-8/2025-08-15/
LOCATION:ABC Supply Stadium\, 217 Shirland Ave\, Beloit\, 53511\, United States
ATTACH;FMTTYPE=image/jpeg:https://discoverwisconsin.com/wp-content/uploads/2025/02/Beloit-Sky-Carm.jpg
END:VEVENT
BEGIN:VEVENT
DTSTART;TZID=America/Chicago:20250815T113000
DTEND;TZID=America/Chicago:20250815T133000
DTSTAMP:20260424T073830
CREATED:20250501T142733Z
LAST-MODIFIED:20250501T142733Z
UID:10003425-1755257400-1755264600@discoverwisconsin.com
SUMMARY:Fridays In The Park
DESCRIPTION:Come lunch with us! Take a break from work\, meet up with friends. Listen to live music\, kick off your shoes\, and soak up the sun! Tasty selections served by local Downtown Beloit eateries. Only $10 for lunch and a cold drink! Lunch is served until 1:00 pm.
URL:https://discoverwisconsin.com/event/fridays-in-the-park-2/2025-08-15/
LOCATION:First National Bank & Trust Plaza\, 345 E Grand Ave\, Beloit\, WI\, 53511\, United States
ATTACH;FMTTYPE=image/jpeg:https://discoverwisconsin.com/wp-content/uploads/2025/05/Fridays-In-The-Park-scaled.jpg
END:VEVENT
BEGIN:VEVENT
DTSTART;TZID=America/Chicago:20250815T153000
DTEND;TZID=America/Chicago:20250815T183000
DTSTAMP:20260424T073830
CREATED:20250714T204146Z
LAST-MODIFIED:20250714T204146Z
UID:10003560-1755271800-1755282600@discoverwisconsin.com
SUMMARY:Burns Park Farmers Market
DESCRIPTION:The Friday night Farmers Market is located on Main Street between 7th and 8th Street in Burns Park.
URL:https://discoverwisconsin.com/event/burns-park-farmers-market/2025-08-15/
LOCATION:Burns Park\, 702 Main St\, La Crosse\, WI\, 54601\, United States
ATTACH;FMTTYPE=image/jpeg:https://discoverwisconsin.com/wp-content/uploads/2025/07/Burns-Park-Farmers-Market.jpeg
END:VEVENT
BEGIN:VEVENT
DTSTART;TZID=America/Chicago:20250815T170000
DTEND;TZID=America/Chicago:20250815T210000
DTSTAMP:20260424T073830
CREATED:20250304T174858Z
LAST-MODIFIED:20250304T174858Z
UID:10003378-1755277200-1755291600@discoverwisconsin.com
SUMMARY:Summer Beer Gardens
DESCRIPTION:The Oconomowoc Area Chamber of Commerce hosts this outdoor summer event. Enjoy taps from a featured local brewery\, live music\, trivia\, food\, and more.
URL:https://discoverwisconsin.com/event/summer-beer-gardens-2/2025-08-15/
LOCATION:Village Green Park\, 104 East Wisconsin Avenue\, Oconomowoc\, WI\, 53066\, United States
ATTACH;FMTTYPE=image/jpeg:https://discoverwisconsin.com/wp-content/uploads/2025/03/Summer-Beer-Gardens.jpg
END:VEVENT
BEGIN:VEVENT
DTSTART;TZID=America/Chicago:20250815T190000
DTEND;TZID=America/Chicago:20250815T210000
DTSTAMP:20260424T073830
CREATED:20250501T143118Z
LAST-MODIFIED:20250501T143118Z
UID:10003436-1755284400-1755291600@discoverwisconsin.com
SUMMARY:Music at Harry's Place
DESCRIPTION:Free concerts on the Beloit Riverfront most Friday evenings\, June through August. The series features jazz\, blues\, swing\, and big band. Bring your lawn chairs or blankets and relax under the stars! Food vendors on site. \nThere is no concert on August 1\, so visitors can attend the Downtown Beloit Street Dance!
URL:https://discoverwisconsin.com/event/music-at-harrys-place-2/2025-08-15/
LOCATION:Riverside Park\, 100 State Street\, La Crosse\, 54601\, United States
ATTACH;FMTTYPE=image/jpeg:https://discoverwisconsin.com/wp-content/uploads/2025/05/Music-at-Harrys-Place-scaled.jpg
END:VEVENT
BEGIN:VEVENT
DTSTART;TZID=America/Chicago:20250815T193000
DTEND;TZID=America/Chicago:20250815T220000
DTSTAMP:20260424T073830
CREATED:20250304T164011Z
LAST-MODIFIED:20250304T164011Z
UID:10003341-1755286200-1755295200@discoverwisconsin.com
SUMMARY:Friday Bands at the Beach
DESCRIPTION:Buddy’s Beach Bungalow brings free outdoor concerts to the City Beach Bandshell stage on select summer nights. Grab your lawn chair or blanket and enjoy an outdoor show as popular area bands rock the dock at City Beach.
URL:https://discoverwisconsin.com/event/friday-bands-at-the-beach/2025-08-15/
LOCATION:City Beach Park\, 374 West Wisconsin Avenue\, Oconomowoc\, WI\, 53066\, United States
ATTACH;FMTTYPE=image/png:https://discoverwisconsin.com/wp-content/uploads/2025/03/Friday-Bands-at-the-Beach.png
END:VEVENT
BEGIN:VEVENT
DTSTART;VALUE=DATE:20250816
DTEND;VALUE=DATE:20250817
DTSTAMP:20260424T073830
CREATED:20250218T154455Z
LAST-MODIFIED:20250218T155810Z
UID:10003198-1755302400-1755388799@discoverwisconsin.com
SUMMARY:Beloit Sky Carp Baseball
DESCRIPTION:Beloit Sky Carp Minor League baseball games at ABC Supply Stadium are like hitting a home run! Our High-A Affiliate of the Miami Marlins always makes it a great time at the ballpark by offering major-league fun at minor-league prices. Whether it’s catching Poopsie\, the mascot\, for a picture\, the fireworks displays and theme nights\, or the variety of fantastic food and beverage options\, they have something for all ages to enjoy. The season runs from April through September\, so it’s the perfect time to get in on the action and experience a game.
URL:https://discoverwisconsin.com/event/beloit-sky-carp-baseball-8/2025-08-16/
LOCATION:ABC Supply Stadium\, 217 Shirland Ave\, Beloit\, 53511\, United States
ATTACH;FMTTYPE=image/jpeg:https://discoverwisconsin.com/wp-content/uploads/2025/02/Beloit-Sky-Carm.jpg
END:VEVENT
BEGIN:VEVENT
DTSTART;TZID=America/Chicago:20250816T080000
DTEND;TZID=America/Chicago:20250816T120000
DTSTAMP:20260424T073830
CREATED:20250304T162651Z
LAST-MODIFIED:20250304T162651Z
UID:10003323-1755331200-1755345600@discoverwisconsin.com
SUMMARY:Summer Farmers Market
DESCRIPTION:Market-goers can find a variety of goods including seasonal produce\, spices\, herbs\, soups\, handmade arts and crafts\, baked goods\, plants\, honey\, cheeses\, jams\, canned goods\, maple syrup\, breads\, and farm fresh eggs and meats. A full list of farmers and vendors participating in the market will be published each year prior to the first day of market\, and this page will be updated weekly with a map of vendors attending in the current week.
URL:https://discoverwisconsin.com/event/summer-farmers-market/2025-08-16/
LOCATION:Campus Parking Lot\, 155 West Wisconsin Avenue\, Oconomowoc\, WI\, 53066\, United States
ATTACH;FMTTYPE=image/jpeg:https://discoverwisconsin.com/wp-content/uploads/2025/03/Oconomowoc-Farmers-Market.jpg
END:VEVENT
BEGIN:VEVENT
DTSTART;TZID=America/Chicago:20250816T080000
DTEND;TZID=America/Chicago:20250816T130000
DTSTAMP:20260424T073830
CREATED:20250218T160508Z
LAST-MODIFIED:20250218T160508Z
UID:10003293-1755331200-1755349200@discoverwisconsin.com
SUMMARY:Beloit Farmers' Market
DESCRIPTION:Since 1975\, the Beloit Farmers’ Market in Downtown Beloit has drawn thousands of locals and visitors. With over 130 vendors\, it’s Wisconsin’s second largest Farmers’ Market\, after Dane County. Enjoy shopping in historic Downtown Beloit for local produce\, organics\, baked goods\, and more. Family-friendly activities like face painting\, balloon animals\, and live music enhance the experience every Saturday\, May through October\, from 8 a.m. to 1 p.m.\, rain or shine.
URL:https://discoverwisconsin.com/event/beloit-farmers-market-2/2025-08-16/
LOCATION:Downtown Beloit\, 300 Block of State Street\, Beloit\, WI\, 53511\, United States
ATTACH;FMTTYPE=image/jpeg:https://discoverwisconsin.com/wp-content/uploads/2025/02/Beloit-Farmers-Market-scaled.jpg
END:VEVENT
BEGIN:VEVENT
DTSTART;TZID=America/Chicago:20250816T090000
DTEND;TZID=America/Chicago:20250816T110000
DTSTAMP:20260424T073830
CREATED:20250501T145254Z
LAST-MODIFIED:20250501T145254Z
UID:10003447-1755334800-1755342000@discoverwisconsin.com
SUMMARY:Beloit Dirty Dash
DESCRIPTION:Get ready for the Dirty Dash\, a muddy\, messy\, and incredibly fun event that will challenge your limits while having a blast! Whether you’re running solo or with a team\, this exciting obstacle course features mud\, water\, and plenty of fun challenges that will leave you covered in dirt but smiling from ear to ear.
URL:https://discoverwisconsin.com/event/beloit-dirty-dash-2/
LOCATION:Big Hill Park\, 1201 Big Hill Ct.\, Beloit\, WI\, 53511\, United States
ATTACH;FMTTYPE=image/jpeg:https://discoverwisconsin.com/wp-content/uploads/2025/05/Beloit-Dirty-Dash.jpg
END:VEVENT
BEGIN:VEVENT
DTSTART;TZID=America/Chicago:20250816T100000
DTEND;TZID=America/Chicago:20250816T170000
DTSTAMP:20260424T073830
CREATED:20250304T171425Z
LAST-MODIFIED:20250304T171425Z
UID:10003358-1755338400-1755363600@discoverwisconsin.com
SUMMARY:Oconomowoc Festival of the Arts
DESCRIPTION:The Oconomowoc Festival of the Arts is considered one of the top outdoor fine art festivals in the Midwest and boasts a juried art exhibition featuring 110 artists from all over the United States\, in Ceramics (Functional or Decorative)\, Drawing/Pastels/Printmaking\, Fiber/Leather\, Glass\, Jewelry\, 2D Mixed Media\, 3D Mixed Media\, Painting (watercolor\, oil or acrylic)\, Photography\, Sculpture and Wood. In addition to the art exhibition\, visitors can look forward to a silent art auction\, interactive children’s area\, various musical and entertainment groups\, and – of course – delicious food!
URL:https://discoverwisconsin.com/event/oconomowoc-festival-of-the-arts/2025-08-16/
LOCATION:Fowler Park\, 500 Oakwood Ave\, Oconomowoc\, WI\, 53066\, United States
ATTACH;FMTTYPE=image/jpeg:https://discoverwisconsin.com/wp-content/uploads/2025/03/Oconomowoc-Festival-of-the-Arts.jpg
END:VEVENT
BEGIN:VEVENT
DTSTART;TZID=America/Chicago:20250816T130000
DTEND;TZID=America/Chicago:20250816T160000
DTSTAMP:20260424T073830
CREATED:20250218T155642Z
LAST-MODIFIED:20250218T155642Z
UID:10003255-1755349200-1755360000@discoverwisconsin.com
SUMMARY:Beckman Mill Guided Tours
DESCRIPTION:The mill\, gift shop\, and museum are open every Saturday and Sunday from 1-4 p.m.\, May 3rd through October 26th\, 2025. Corn Grinding and Blacksmith Demonstrating will be featured on the first Saturday of every month.
URL:https://discoverwisconsin.com/event/beckman-mill-guided-tours-2/2025-08-16/
LOCATION:Beckman Mill\, 11600 S County Road H\, Beloit\, WI\, 53511\, United States
ATTACH;FMTTYPE=image/jpeg:https://discoverwisconsin.com/wp-content/uploads/2025/02/Beckman-Mill-Guided-Tours-scaled.jpg
END:VEVENT
BEGIN:VEVENT
DTSTART;TZID=America/Chicago:20250816T170000
DTEND;TZID=America/Chicago:20250816T210000
DTSTAMP:20260424T073830
CREATED:20250304T174858Z
LAST-MODIFIED:20250304T174858Z
UID:10003379-1755363600-1755378000@discoverwisconsin.com
SUMMARY:Summer Beer Gardens
DESCRIPTION:The Oconomowoc Area Chamber of Commerce hosts this outdoor summer event. Enjoy taps from a featured local brewery\, live music\, trivia\, food\, and more.
URL:https://discoverwisconsin.com/event/summer-beer-gardens-2/2025-08-16/
LOCATION:Village Green Park\, 104 East Wisconsin Avenue\, Oconomowoc\, WI\, 53066\, United States
ATTACH;FMTTYPE=image/jpeg:https://discoverwisconsin.com/wp-content/uploads/2025/03/Summer-Beer-Gardens.jpg
END:VEVENT
BEGIN:VEVENT
DTSTART;TZID=America/Chicago:20250816T193000
DTEND;TZID=America/Chicago:20250816T233000
DTSTAMP:20260424T073830
CREATED:20250304T175338Z
LAST-MODIFIED:20250304T175338Z
UID:10003380-1755372600-1755387000@discoverwisconsin.com
SUMMARY:Light Up Lac La Belle
DESCRIPTION:Join us as we celebrate Oconomowoc’s art festival weekend. This annual event is a great summer night on the lake. Enjoy a concert by the Oconomowoc American Legion Band and settle in as you get a special treat – a lighted boat parade. Evening ends with a fireworks show over Lac La Belle.
URL:https://discoverwisconsin.com/event/light-up-lac-la-belle/
LOCATION:City Beach Park\, 374 West Wisconsin Avenue\, Oconomowoc\, WI\, 53066\, United States
ATTACH;FMTTYPE=image/jpeg:https://discoverwisconsin.com/wp-content/uploads/2025/03/Light-Up-Lac-La-Belle.jpg
END:VEVENT
BEGIN:VEVENT
DTSTART;VALUE=DATE:20250817
DTEND;VALUE=DATE:20250818
DTSTAMP:20260424T073830
CREATED:20250218T154455Z
LAST-MODIFIED:20250218T155810Z
UID:10003199-1755388800-1755475199@discoverwisconsin.com
SUMMARY:Beloit Sky Carp Baseball
DESCRIPTION:Beloit Sky Carp Minor League baseball games at ABC Supply Stadium are like hitting a home run! Our High-A Affiliate of the Miami Marlins always makes it a great time at the ballpark by offering major-league fun at minor-league prices. Whether it’s catching Poopsie\, the mascot\, for a picture\, the fireworks displays and theme nights\, or the variety of fantastic food and beverage options\, they have something for all ages to enjoy. The season runs from April through September\, so it’s the perfect time to get in on the action and experience a game.
URL:https://discoverwisconsin.com/event/beloit-sky-carp-baseball-8/2025-08-17/
LOCATION:ABC Supply Stadium\, 217 Shirland Ave\, Beloit\, 53511\, United States
ATTACH;FMTTYPE=image/jpeg:https://discoverwisconsin.com/wp-content/uploads/2025/02/Beloit-Sky-Carm.jpg
END:VEVENT
BEGIN:VEVENT
DTSTART;TZID=America/Chicago:20250817T100000
DTEND;TZID=America/Chicago:20250817T170000
DTSTAMP:20260424T073830
CREATED:20250304T171425Z
LAST-MODIFIED:20250304T171425Z
UID:10003359-1755424800-1755450000@discoverwisconsin.com
SUMMARY:Oconomowoc Festival of the Arts
DESCRIPTION:The Oconomowoc Festival of the Arts is considered one of the top outdoor fine art festivals in the Midwest and boasts a juried art exhibition featuring 110 artists from all over the United States\, in Ceramics (Functional or Decorative)\, Drawing/Pastels/Printmaking\, Fiber/Leather\, Glass\, Jewelry\, 2D Mixed Media\, 3D Mixed Media\, Painting (watercolor\, oil or acrylic)\, Photography\, Sculpture and Wood. In addition to the art exhibition\, visitors can look forward to a silent art auction\, interactive children’s area\, various musical and entertainment groups\, and – of course – delicious food!
URL:https://discoverwisconsin.com/event/oconomowoc-festival-of-the-arts/2025-08-17/
LOCATION:Fowler Park\, 500 Oakwood Ave\, Oconomowoc\, WI\, 53066\, United States
ATTACH;FMTTYPE=image/jpeg:https://discoverwisconsin.com/wp-content/uploads/2025/03/Oconomowoc-Festival-of-the-Arts.jpg
END:VEVENT
BEGIN:VEVENT
DTSTART;TZID=America/Chicago:20250817T130000
DTEND;TZID=America/Chicago:20250817T160000
DTSTAMP:20260424T073830
CREATED:20250218T155642Z
LAST-MODIFIED:20250218T155642Z
UID:10003256-1755435600-1755446400@discoverwisconsin.com
SUMMARY:Beckman Mill Guided Tours
DESCRIPTION:The mill\, gift shop\, and museum are open every Saturday and Sunday from 1-4 p.m.\, May 3rd through October 26th\, 2025. Corn Grinding and Blacksmith Demonstrating will be featured on the first Saturday of every month.
URL:https://discoverwisconsin.com/event/beckman-mill-guided-tours-2/2025-08-17/
LOCATION:Beckman Mill\, 11600 S County Road H\, Beloit\, WI\, 53511\, United States
ATTACH;FMTTYPE=image/jpeg:https://discoverwisconsin.com/wp-content/uploads/2025/02/Beckman-Mill-Guided-Tours-scaled.jpg
END:VEVENT
BEGIN:VEVENT
DTSTART;TZID=America/Chicago:20250818T170000
DTEND;TZID=America/Chicago:20250818T200000
DTSTAMP:20260424T073830
CREATED:20250529T165646Z
LAST-MODIFIED:20250529T165646Z
UID:10003477-1755536400-1755547200@discoverwisconsin.com
SUMMARY:Fun & Food on First
DESCRIPTION:Join us for the first Fun and Food on First taking place at Ten Club Park. \nBring your appetite for food as there will be a variety of food trucks and drinks available to purchase. \nThis event is Free and open to the public.
URL:https://discoverwisconsin.com/event/fun-food-on-first/2025-08-18/
LOCATION:Ten Club Park\, 100 S 1st St\, Waterford\, WI\, 53185\, United States
ATTACH;FMTTYPE=image/png:https://discoverwisconsin.com/wp-content/uploads/2025/05/Fun-Food-on-First.png
END:VEVENT
BEGIN:VEVENT
DTSTART;VALUE=DATE:20250819
DTEND;VALUE=DATE:20250820
DTSTAMP:20260424T073830
CREATED:20250218T154455Z
LAST-MODIFIED:20250218T155810Z
UID:10003201-1755561600-1755647999@discoverwisconsin.com
SUMMARY:Beloit Sky Carp Baseball
DESCRIPTION:Beloit Sky Carp Minor League baseball games at ABC Supply Stadium are like hitting a home run! Our High-A Affiliate of the Miami Marlins always makes it a great time at the ballpark by offering major-league fun at minor-league prices. Whether it’s catching Poopsie\, the mascot\, for a picture\, the fireworks displays and theme nights\, or the variety of fantastic food and beverage options\, they have something for all ages to enjoy. The season runs from April through September\, so it’s the perfect time to get in on the action and experience a game.
URL:https://discoverwisconsin.com/event/beloit-sky-carp-baseball-8/2025-08-19/
LOCATION:ABC Supply Stadium\, 217 Shirland Ave\, Beloit\, 53511\, United States
ATTACH;FMTTYPE=image/jpeg:https://discoverwisconsin.com/wp-content/uploads/2025/02/Beloit-Sky-Carm.jpg
END:VEVENT
BEGIN:VEVENT
DTSTART;TZID=America/Chicago:20250819T183000
DTEND;TZID=America/Chicago:20250819T223000
DTSTAMP:20260424T073830
CREATED:20250602T135803Z
LAST-MODIFIED:20250602T135803Z
UID:10003512-1755628200-1755642600@discoverwisconsin.com
SUMMARY:Mount Pleasant Sounds at Sunset
DESCRIPTION:The great lawn is calling\, and the music is hot as the Sounds at Sunset is back! \nJoin us for unforgettable Tuesday nights at Campus Park filled with live music\, awesome food truck eats\, and an amazing time. From local blues and ABBA tributes to alt-rock and reggae-pop fusion\, Mount Pleasant has your summer soundtrack covered. \nFree admission + Free parking \nRotating food trucks & cold drinks for purchase \nGrab your lawn chair\, bring a friend\, and get ready to vibe at Sounds of Sunset! Check out our events page for more details.
URL:https://discoverwisconsin.com/event/mount-pleasant-sounds-at-sunset/2025-08-19/
LOCATION:Campus Park\, 8500 Campus Drive\, Mount Pleasant\, WI\, 53406\, United States
ATTACH;FMTTYPE=image/jpeg:https://discoverwisconsin.com/wp-content/uploads/2025/06/Mount-Pleasant-Sounds-at-Sunset.jpg
END:VEVENT
END:VCALENDAR