BEGIN:VCALENDAR
VERSION:2.0
PRODID:-//Discover Wisconsin - ECPv6.15.17.1//NONSGML v1.0//EN
CALSCALE:GREGORIAN
METHOD:PUBLISH
X-ORIGINAL-URL:https://discoverwisconsin.com
X-WR-CALDESC:Events for Discover Wisconsin
REFRESH-INTERVAL;VALUE=DURATION:PT1H
X-Robots-Tag:noindex
X-PUBLISHED-TTL:PT1H
BEGIN:VTIMEZONE
TZID:America/Chicago
BEGIN:DAYLIGHT
TZOFFSETFROM:-0600
TZOFFSETTO:-0500
TZNAME:CDT
DTSTART:20240310T080000
END:DAYLIGHT
BEGIN:STANDARD
TZOFFSETFROM:-0500
TZOFFSETTO:-0600
TZNAME:CST
DTSTART:20241103T070000
END:STANDARD
BEGIN:DAYLIGHT
TZOFFSETFROM:-0600
TZOFFSETTO:-0500
TZNAME:CDT
DTSTART:20250309T080000
END:DAYLIGHT
BEGIN:STANDARD
TZOFFSETFROM:-0500
TZOFFSETTO:-0600
TZNAME:CST
DTSTART:20251102T070000
END:STANDARD
BEGIN:DAYLIGHT
TZOFFSETFROM:-0600
TZOFFSETTO:-0500
TZNAME:CDT
DTSTART:20260308T080000
END:DAYLIGHT
BEGIN:STANDARD
TZOFFSETFROM:-0500
TZOFFSETTO:-0600
TZNAME:CST
DTSTART:20261101T070000
END:STANDARD
END:VTIMEZONE
BEGIN:VEVENT
DTSTART;VALUE=DATE:20250602
DTEND;VALUE=DATE:20250603
DTSTAMP:20260425T220654
CREATED:20250408T193239Z
LAST-MODIFIED:20250408T193239Z
UID:10003399-1748822400-1748908799@discoverwisconsin.com
SUMMARY:Aquafest
DESCRIPTION:Rice Lake Aquafest is a beloved annual festival held every June in Rice Lake\, Wisconsin\, celebrating community\, music\, and summer fun. The 10-day event features live concerts with national and regional artists\, a huge Grand Parade\, craft fairs\, delicious food vendors\, and plenty of family-friendly attractions. Locals and visitors alike gather to enjoy the welcoming small-town atmosphere and create lasting memories. Aquafest has been a cherished tradition since the 1960s\, drawing thousands of people to Rice Lake year after year.
URL:https://discoverwisconsin.com/event/aquafest/2025-06-02/
LOCATION:Rice Lake\, Rice Lake\, WI\, 54868\, United States
ATTACH;FMTTYPE=image/jpeg:https://discoverwisconsin.com/wp-content/uploads/2025/04/Aquafest.jpg
END:VEVENT
BEGIN:VEVENT
DTSTART;TZID=America/Chicago:20250602T170000
DTEND;TZID=America/Chicago:20250602T200000
DTSTAMP:20260425T220654
CREATED:20250529T165646Z
LAST-MODIFIED:20250529T165646Z
UID:10003466-1748883600-1748894400@discoverwisconsin.com
SUMMARY:Fun & Food on First
DESCRIPTION:Join us for the first Fun and Food on First taking place at Ten Club Park. \nBring your appetite for food as there will be a variety of food trucks and drinks available to purchase. \nThis event is Free and open to the public.
URL:https://discoverwisconsin.com/event/fun-food-on-first/2025-06-02/
LOCATION:Ten Club Park\, 100 S 1st St\, Waterford\, WI\, 53185\, United States
ATTACH;FMTTYPE=image/png:https://discoverwisconsin.com/wp-content/uploads/2025/05/Fun-Food-on-First.png
END:VEVENT
BEGIN:VEVENT
DTSTART;VALUE=DATE:20250603
DTEND;VALUE=DATE:20250604
DTSTAMP:20260425T220654
CREATED:20250218T154455Z
LAST-MODIFIED:20250218T155810Z
UID:10003124-1748908800-1748995199@discoverwisconsin.com
SUMMARY:Beloit Sky Carp Baseball
DESCRIPTION:Beloit Sky Carp Minor League baseball games at ABC Supply Stadium are like hitting a home run! Our High-A Affiliate of the Miami Marlins always makes it a great time at the ballpark by offering major-league fun at minor-league prices. Whether it’s catching Poopsie\, the mascot\, for a picture\, the fireworks displays and theme nights\, or the variety of fantastic food and beverage options\, they have something for all ages to enjoy. The season runs from April through September\, so it’s the perfect time to get in on the action and experience a game.
URL:https://discoverwisconsin.com/event/beloit-sky-carp-baseball-8/2025-06-03/
LOCATION:ABC Supply Stadium\, 217 Shirland Ave\, Beloit\, 53511\, United States
ATTACH;FMTTYPE=image/jpeg:https://discoverwisconsin.com/wp-content/uploads/2025/02/Beloit-Sky-Carm.jpg
END:VEVENT
BEGIN:VEVENT
DTSTART;VALUE=DATE:20250603
DTEND;VALUE=DATE:20250604
DTSTAMP:20260425T220654
CREATED:20250408T193239Z
LAST-MODIFIED:20250408T193239Z
UID:10003400-1748908800-1748995199@discoverwisconsin.com
SUMMARY:Aquafest
DESCRIPTION:Rice Lake Aquafest is a beloved annual festival held every June in Rice Lake\, Wisconsin\, celebrating community\, music\, and summer fun. The 10-day event features live concerts with national and regional artists\, a huge Grand Parade\, craft fairs\, delicious food vendors\, and plenty of family-friendly attractions. Locals and visitors alike gather to enjoy the welcoming small-town atmosphere and create lasting memories. Aquafest has been a cherished tradition since the 1960s\, drawing thousands of people to Rice Lake year after year.
URL:https://discoverwisconsin.com/event/aquafest/2025-06-03/
LOCATION:Rice Lake\, Rice Lake\, WI\, 54868\, United States
ATTACH;FMTTYPE=image/jpeg:https://discoverwisconsin.com/wp-content/uploads/2025/04/Aquafest.jpg
END:VEVENT
BEGIN:VEVENT
DTSTART;VALUE=DATE:20250604
DTEND;VALUE=DATE:20250605
DTSTAMP:20260425T220654
CREATED:20250218T154455Z
LAST-MODIFIED:20250218T155810Z
UID:10003125-1748995200-1749081599@discoverwisconsin.com
SUMMARY:Beloit Sky Carp Baseball
DESCRIPTION:Beloit Sky Carp Minor League baseball games at ABC Supply Stadium are like hitting a home run! Our High-A Affiliate of the Miami Marlins always makes it a great time at the ballpark by offering major-league fun at minor-league prices. Whether it’s catching Poopsie\, the mascot\, for a picture\, the fireworks displays and theme nights\, or the variety of fantastic food and beverage options\, they have something for all ages to enjoy. The season runs from April through September\, so it’s the perfect time to get in on the action and experience a game.
URL:https://discoverwisconsin.com/event/beloit-sky-carp-baseball-8/2025-06-04/
LOCATION:ABC Supply Stadium\, 217 Shirland Ave\, Beloit\, 53511\, United States
ATTACH;FMTTYPE=image/jpeg:https://discoverwisconsin.com/wp-content/uploads/2025/02/Beloit-Sky-Carm.jpg
END:VEVENT
BEGIN:VEVENT
DTSTART;VALUE=DATE:20250604
DTEND;VALUE=DATE:20250605
DTSTAMP:20260425T220654
CREATED:20250408T193239Z
LAST-MODIFIED:20250408T193239Z
UID:10003401-1748995200-1749081599@discoverwisconsin.com
SUMMARY:Aquafest
DESCRIPTION:Rice Lake Aquafest is a beloved annual festival held every June in Rice Lake\, Wisconsin\, celebrating community\, music\, and summer fun. The 10-day event features live concerts with national and regional artists\, a huge Grand Parade\, craft fairs\, delicious food vendors\, and plenty of family-friendly attractions. Locals and visitors alike gather to enjoy the welcoming small-town atmosphere and create lasting memories. Aquafest has been a cherished tradition since the 1960s\, drawing thousands of people to Rice Lake year after year.
URL:https://discoverwisconsin.com/event/aquafest/2025-06-04/
LOCATION:Rice Lake\, Rice Lake\, WI\, 54868\, United States
ATTACH;FMTTYPE=image/jpeg:https://discoverwisconsin.com/wp-content/uploads/2025/04/Aquafest.jpg
END:VEVENT
BEGIN:VEVENT
DTSTART;VALUE=DATE:20250605
DTEND;VALUE=DATE:20250606
DTSTAMP:20260425T220654
CREATED:20250218T154455Z
LAST-MODIFIED:20250218T155810Z
UID:10003126-1749081600-1749167999@discoverwisconsin.com
SUMMARY:Beloit Sky Carp Baseball
DESCRIPTION:Beloit Sky Carp Minor League baseball games at ABC Supply Stadium are like hitting a home run! Our High-A Affiliate of the Miami Marlins always makes it a great time at the ballpark by offering major-league fun at minor-league prices. Whether it’s catching Poopsie\, the mascot\, for a picture\, the fireworks displays and theme nights\, or the variety of fantastic food and beverage options\, they have something for all ages to enjoy. The season runs from April through September\, so it’s the perfect time to get in on the action and experience a game.
URL:https://discoverwisconsin.com/event/beloit-sky-carp-baseball-8/2025-06-05/
LOCATION:ABC Supply Stadium\, 217 Shirland Ave\, Beloit\, 53511\, United States
ATTACH;FMTTYPE=image/jpeg:https://discoverwisconsin.com/wp-content/uploads/2025/02/Beloit-Sky-Carm.jpg
END:VEVENT
BEGIN:VEVENT
DTSTART;VALUE=DATE:20250605
DTEND;VALUE=DATE:20250606
DTSTAMP:20260425T220654
CREATED:20250408T193239Z
LAST-MODIFIED:20250408T193239Z
UID:10003402-1749081600-1749167999@discoverwisconsin.com
SUMMARY:Aquafest
DESCRIPTION:Rice Lake Aquafest is a beloved annual festival held every June in Rice Lake\, Wisconsin\, celebrating community\, music\, and summer fun. The 10-day event features live concerts with national and regional artists\, a huge Grand Parade\, craft fairs\, delicious food vendors\, and plenty of family-friendly attractions. Locals and visitors alike gather to enjoy the welcoming small-town atmosphere and create lasting memories. Aquafest has been a cherished tradition since the 1960s\, drawing thousands of people to Rice Lake year after year.
URL:https://discoverwisconsin.com/event/aquafest/2025-06-05/
LOCATION:Rice Lake\, Rice Lake\, WI\, 54868\, United States
ATTACH;FMTTYPE=image/jpeg:https://discoverwisconsin.com/wp-content/uploads/2025/04/Aquafest.jpg
END:VEVENT
BEGIN:VEVENT
DTSTART;TZID=America/Chicago:20250605T150000
DTEND;TZID=America/Chicago:20250605T190000
DTSTAMP:20260425T220654
CREATED:20250714T203723Z
LAST-MODIFIED:20250714T203723Z
UID:10003528-1749135600-1749150000@discoverwisconsin.com
SUMMARY:Burlington's Farmers Market
DESCRIPTION:Burlington Farmers Market Wehmhoff Square Park Every Thursday 3 pm-7 pm May 8–Sept 27 (Night Market: 6/19\, 7/17\, 8/21: 3 pm-8 pm) A vibrant mid-week market with fruit and vegetables\, meat\, cheese bakery\, honey\, preserved and ready-to-eat foods\, live music\, artisans\, local craft beer\, and special events throughout the year. A vendor list is published on our Facebook Page weekly.
URL:https://discoverwisconsin.com/event/burlingtons-farmers-market/2025-06-05/
LOCATION:Wehmhoff Square Park\, 355 N. Pine St.\, Burlington\, WI\, 53105\, United States
ATTACH;FMTTYPE=image/webp:https://discoverwisconsin.com/wp-content/uploads/2025/07/Burlingtons-Farmers-Market.webp
END:VEVENT
BEGIN:VEVENT
DTSTART;VALUE=DATE:20250606
DTEND;VALUE=DATE:20250607
DTSTAMP:20260425T220654
CREATED:20250218T154455Z
LAST-MODIFIED:20250218T155810Z
UID:10003127-1749168000-1749254399@discoverwisconsin.com
SUMMARY:Beloit Sky Carp Baseball
DESCRIPTION:Beloit Sky Carp Minor League baseball games at ABC Supply Stadium are like hitting a home run! Our High-A Affiliate of the Miami Marlins always makes it a great time at the ballpark by offering major-league fun at minor-league prices. Whether it’s catching Poopsie\, the mascot\, for a picture\, the fireworks displays and theme nights\, or the variety of fantastic food and beverage options\, they have something for all ages to enjoy. The season runs from April through September\, so it’s the perfect time to get in on the action and experience a game.
URL:https://discoverwisconsin.com/event/beloit-sky-carp-baseball-8/2025-06-06/
LOCATION:ABC Supply Stadium\, 217 Shirland Ave\, Beloit\, 53511\, United States
ATTACH;FMTTYPE=image/jpeg:https://discoverwisconsin.com/wp-content/uploads/2025/02/Beloit-Sky-Carm.jpg
END:VEVENT
BEGIN:VEVENT
DTSTART;VALUE=DATE:20250606
DTEND;VALUE=DATE:20250607
DTSTAMP:20260425T220654
CREATED:20250408T193239Z
LAST-MODIFIED:20250408T193239Z
UID:10003403-1749168000-1749254399@discoverwisconsin.com
SUMMARY:Aquafest
DESCRIPTION:Rice Lake Aquafest is a beloved annual festival held every June in Rice Lake\, Wisconsin\, celebrating community\, music\, and summer fun. The 10-day event features live concerts with national and regional artists\, a huge Grand Parade\, craft fairs\, delicious food vendors\, and plenty of family-friendly attractions. Locals and visitors alike gather to enjoy the welcoming small-town atmosphere and create lasting memories. Aquafest has been a cherished tradition since the 1960s\, drawing thousands of people to Rice Lake year after year.
URL:https://discoverwisconsin.com/event/aquafest/2025-06-06/
LOCATION:Rice Lake\, Rice Lake\, WI\, 54868\, United States
ATTACH;FMTTYPE=image/jpeg:https://discoverwisconsin.com/wp-content/uploads/2025/04/Aquafest.jpg
END:VEVENT
BEGIN:VEVENT
DTSTART;TZID=America/Chicago:20250606T113000
DTEND;TZID=America/Chicago:20250606T133000
DTSTAMP:20260425T220654
CREATED:20250501T142733Z
LAST-MODIFIED:20250501T142733Z
UID:10003415-1749209400-1749216600@discoverwisconsin.com
SUMMARY:Fridays In The Park
DESCRIPTION:Come lunch with us! Take a break from work\, meet up with friends. Listen to live music\, kick off your shoes\, and soak up the sun! Tasty selections served by local Downtown Beloit eateries. Only $10 for lunch and a cold drink! Lunch is served until 1:00 pm.
URL:https://discoverwisconsin.com/event/fridays-in-the-park-2/2025-06-06/
LOCATION:First National Bank & Trust Plaza\, 345 E Grand Ave\, Beloit\, WI\, 53511\, United States
ATTACH;FMTTYPE=image/jpeg:https://discoverwisconsin.com/wp-content/uploads/2025/05/Fridays-In-The-Park-scaled.jpg
END:VEVENT
BEGIN:VEVENT
DTSTART;TZID=America/Chicago:20250606T153000
DTEND;TZID=America/Chicago:20250606T183000
DTSTAMP:20260425T220654
CREATED:20250714T204146Z
LAST-MODIFIED:20250714T204146Z
UID:10003550-1749223800-1749234600@discoverwisconsin.com
SUMMARY:Burns Park Farmers Market
DESCRIPTION:The Friday night Farmers Market is located on Main Street between 7th and 8th Street in Burns Park.
URL:https://discoverwisconsin.com/event/burns-park-farmers-market/2025-06-06/
LOCATION:Burns Park\, 702 Main St\, La Crosse\, WI\, 54601\, United States
ATTACH;FMTTYPE=image/jpeg:https://discoverwisconsin.com/wp-content/uploads/2025/07/Burns-Park-Farmers-Market.jpeg
END:VEVENT
BEGIN:VEVENT
DTSTART;TZID=America/Chicago:20250606T180000
DTEND;TZID=America/Chicago:20250606T210000
DTSTAMP:20260425T220654
CREATED:20250602T140835Z
LAST-MODIFIED:20250602T140835Z
UID:10003514-1749232800-1749243600@discoverwisconsin.com
SUMMARY:Loop Day
DESCRIPTION:Outdoor family kick-off to summer. Live music\, food & drink\, climbing wall\, vendors\, games\, contests\, etc.
URL:https://discoverwisconsin.com/event/loop-day/2025-06-06/
LOCATION:The Loop\, 100 E Chestnut St\, Burlington\, WI\, 53105\, United States
ATTACH;FMTTYPE=image/png:https://discoverwisconsin.com/wp-content/uploads/2025/06/Loop-Day.png
END:VEVENT
BEGIN:VEVENT
DTSTART;TZID=America/Chicago:20250606T193000
DTEND;TZID=America/Chicago:20250606T220000
DTSTAMP:20260425T220654
CREATED:20250304T164011Z
LAST-MODIFIED:20250304T164011Z
UID:10003337-1749238200-1749247200@discoverwisconsin.com
SUMMARY:Friday Bands at the Beach
DESCRIPTION:Buddy’s Beach Bungalow brings free outdoor concerts to the City Beach Bandshell stage on select summer nights. Grab your lawn chair or blanket and enjoy an outdoor show as popular area bands rock the dock at City Beach.
URL:https://discoverwisconsin.com/event/friday-bands-at-the-beach/2025-06-06/
LOCATION:City Beach Park\, 374 West Wisconsin Avenue\, Oconomowoc\, WI\, 53066\, United States
ATTACH;FMTTYPE=image/png:https://discoverwisconsin.com/wp-content/uploads/2025/03/Friday-Bands-at-the-Beach.png
END:VEVENT
BEGIN:VEVENT
DTSTART;VALUE=DATE:20250607
DTEND;VALUE=DATE:20250608
DTSTAMP:20260425T220654
CREATED:20250218T154455Z
LAST-MODIFIED:20250218T155810Z
UID:10003128-1749254400-1749340799@discoverwisconsin.com
SUMMARY:Beloit Sky Carp Baseball
DESCRIPTION:Beloit Sky Carp Minor League baseball games at ABC Supply Stadium are like hitting a home run! Our High-A Affiliate of the Miami Marlins always makes it a great time at the ballpark by offering major-league fun at minor-league prices. Whether it’s catching Poopsie\, the mascot\, for a picture\, the fireworks displays and theme nights\, or the variety of fantastic food and beverage options\, they have something for all ages to enjoy. The season runs from April through September\, so it’s the perfect time to get in on the action and experience a game.
URL:https://discoverwisconsin.com/event/beloit-sky-carp-baseball-8/2025-06-07/
LOCATION:ABC Supply Stadium\, 217 Shirland Ave\, Beloit\, 53511\, United States
ATTACH;FMTTYPE=image/jpeg:https://discoverwisconsin.com/wp-content/uploads/2025/02/Beloit-Sky-Carm.jpg
END:VEVENT
BEGIN:VEVENT
DTSTART;VALUE=DATE:20250607
DTEND;VALUE=DATE:20250608
DTSTAMP:20260425T220654
CREATED:20250408T193239Z
LAST-MODIFIED:20250408T193239Z
UID:10003404-1749254400-1749340799@discoverwisconsin.com
SUMMARY:Aquafest
DESCRIPTION:Rice Lake Aquafest is a beloved annual festival held every June in Rice Lake\, Wisconsin\, celebrating community\, music\, and summer fun. The 10-day event features live concerts with national and regional artists\, a huge Grand Parade\, craft fairs\, delicious food vendors\, and plenty of family-friendly attractions. Locals and visitors alike gather to enjoy the welcoming small-town atmosphere and create lasting memories. Aquafest has been a cherished tradition since the 1960s\, drawing thousands of people to Rice Lake year after year.
URL:https://discoverwisconsin.com/event/aquafest/2025-06-07/
LOCATION:Rice Lake\, Rice Lake\, WI\, 54868\, United States
ATTACH;FMTTYPE=image/jpeg:https://discoverwisconsin.com/wp-content/uploads/2025/04/Aquafest.jpg
END:VEVENT
BEGIN:VEVENT
DTSTART;TZID=America/Chicago:20250607T074500
DTEND;TZID=America/Chicago:20250607T100000
DTSTAMP:20260425T220654
CREATED:20250304T164501Z
LAST-MODIFIED:20250304T164501Z
UID:10003342-1749282300-1749290400@discoverwisconsin.com
SUMMARY:Yellow Brick Road Run & Walk
DESCRIPTION:Inspired by the historic premiere of the Yellow Brick Road in 1939\, this scenic run will start and finish at City Hall\, overlooking the brand-new Oz Plaza. Join us as we celebrate the 86th Anniversary of The Wizard of Oz! With exciting events planned throughout Oconomowoc\, this is your chance to be part of the magic. The Kids’ Fun Run is free when a parent is registered for the 5K or 2-mile walk. We can’t wait to cheer on your little runners—see you there!
URL:https://discoverwisconsin.com/event/yellow-brick-road-run-walk/
LOCATION:Oz Plaza\, 174 East Wisconsin Avenue\, Oconomowoc\, WI\, 53066\, United States
ATTACH;FMTTYPE=image/jpeg:https://discoverwisconsin.com/wp-content/uploads/2025/03/Yellow-Brick-Road-Run-Walk.jpg
END:VEVENT
BEGIN:VEVENT
DTSTART;TZID=America/Chicago:20250607T080000
DTEND;TZID=America/Chicago:20250607T120000
DTSTAMP:20260425T220654
CREATED:20250304T162651Z
LAST-MODIFIED:20250304T162651Z
UID:10003313-1749283200-1749297600@discoverwisconsin.com
SUMMARY:Summer Farmers Market
DESCRIPTION:Market-goers can find a variety of goods including seasonal produce\, spices\, herbs\, soups\, handmade arts and crafts\, baked goods\, plants\, honey\, cheeses\, jams\, canned goods\, maple syrup\, breads\, and farm fresh eggs and meats. A full list of farmers and vendors participating in the market will be published each year prior to the first day of market\, and this page will be updated weekly with a map of vendors attending in the current week.
URL:https://discoverwisconsin.com/event/summer-farmers-market/2025-06-07/
LOCATION:Campus Parking Lot\, 155 West Wisconsin Avenue\, Oconomowoc\, WI\, 53066\, United States
ATTACH;FMTTYPE=image/jpeg:https://discoverwisconsin.com/wp-content/uploads/2025/03/Oconomowoc-Farmers-Market.jpg
END:VEVENT
BEGIN:VEVENT
DTSTART;TZID=America/Chicago:20250607T080000
DTEND;TZID=America/Chicago:20250607T130000
DTSTAMP:20260425T220654
CREATED:20250218T160508Z
LAST-MODIFIED:20250218T160508Z
UID:10003283-1749283200-1749301200@discoverwisconsin.com
SUMMARY:Beloit Farmers' Market
DESCRIPTION:Since 1975\, the Beloit Farmers’ Market in Downtown Beloit has drawn thousands of locals and visitors. With over 130 vendors\, it’s Wisconsin’s second largest Farmers’ Market\, after Dane County. Enjoy shopping in historic Downtown Beloit for local produce\, organics\, baked goods\, and more. Family-friendly activities like face painting\, balloon animals\, and live music enhance the experience every Saturday\, May through October\, from 8 a.m. to 1 p.m.\, rain or shine.
URL:https://discoverwisconsin.com/event/beloit-farmers-market-2/2025-06-07/
LOCATION:Downtown Beloit\, 300 Block of State Street\, Beloit\, WI\, 53511\, United States
ATTACH;FMTTYPE=image/jpeg:https://discoverwisconsin.com/wp-content/uploads/2025/02/Beloit-Farmers-Market-scaled.jpg
END:VEVENT
BEGIN:VEVENT
DTSTART;TZID=America/Chicago:20250607T090000
DTEND;TZID=America/Chicago:20250607T220000
DTSTAMP:20260425T220654
CREATED:20250602T140835Z
LAST-MODIFIED:20250602T140835Z
UID:10003515-1749286800-1749333600@discoverwisconsin.com
SUMMARY:Loop Day
DESCRIPTION:Outdoor family kick-off to summer. Live music\, food & drink\, climbing wall\, vendors\, games\, contests\, etc.
URL:https://discoverwisconsin.com/event/loop-day/2025-06-07/
LOCATION:The Loop\, 100 E Chestnut St\, Burlington\, WI\, 53105\, United States
ATTACH;FMTTYPE=image/png:https://discoverwisconsin.com/wp-content/uploads/2025/06/Loop-Day.png
END:VEVENT
BEGIN:VEVENT
DTSTART;TZID=America/Chicago:20250607T130000
DTEND;TZID=America/Chicago:20250607T160000
DTSTAMP:20260425T220654
CREATED:20250218T155642Z
LAST-MODIFIED:20250218T155642Z
UID:10003235-1749301200-1749312000@discoverwisconsin.com
SUMMARY:Beckman Mill Guided Tours
DESCRIPTION:The mill\, gift shop\, and museum are open every Saturday and Sunday from 1-4 p.m.\, May 3rd through October 26th\, 2025. Corn Grinding and Blacksmith Demonstrating will be featured on the first Saturday of every month.
URL:https://discoverwisconsin.com/event/beckman-mill-guided-tours-2/2025-06-07/
LOCATION:Beckman Mill\, 11600 S County Road H\, Beloit\, WI\, 53511\, United States
ATTACH;FMTTYPE=image/jpeg:https://discoverwisconsin.com/wp-content/uploads/2025/02/Beckman-Mill-Guided-Tours-scaled.jpg
END:VEVENT
BEGIN:VEVENT
DTSTART;TZID=America/Chicago:20250607T130000
DTEND;TZID=America/Chicago:20250607T180000
DTSTAMP:20260425T220654
CREATED:20250602T143052Z
LAST-MODIFIED:20250602T143052Z
UID:10003521-1749301200-1749319200@discoverwisconsin.com
SUMMARY:Mini-Golf Pub Crawl
DESCRIPTION:?️‍♂️ Get ready to swing into a world of fun at our 5th annual Mini-Golf Crawl! Embark on a thrilling adventure across unique locations\, each boasting a mini-golf masterpiece. Whether you’re a golf pro or just looking for a good time\, golf all 20 holes or take it easy and choose your favorites – the choice is yours! \nFor just $15 per pair (2 people) or $30 per foursome (4 people)\, your journey begins with registration\, where each participant receives a golf ball and scorecard. Feel free to bring your lucky putter\, or fear not – there’s one waiting for you at each location.
URL:https://discoverwisconsin.com/event/mini-golf-pub-crawl/
LOCATION:Downtown Racine Corporation\, 425 Main Street\, Racine\, WI\, 53403\, United States
ATTACH;FMTTYPE=image/jpeg:https://discoverwisconsin.com/wp-content/uploads/2025/06/Mini-Golf-Pub-Crawl.jpg
END:VEVENT
BEGIN:VEVENT
DTSTART;VALUE=DATE:20250608
DTEND;VALUE=DATE:20250609
DTSTAMP:20260425T220654
CREATED:20250218T154455Z
LAST-MODIFIED:20250218T155810Z
UID:10003129-1749340800-1749427199@discoverwisconsin.com
SUMMARY:Beloit Sky Carp Baseball
DESCRIPTION:Beloit Sky Carp Minor League baseball games at ABC Supply Stadium are like hitting a home run! Our High-A Affiliate of the Miami Marlins always makes it a great time at the ballpark by offering major-league fun at minor-league prices. Whether it’s catching Poopsie\, the mascot\, for a picture\, the fireworks displays and theme nights\, or the variety of fantastic food and beverage options\, they have something for all ages to enjoy. The season runs from April through September\, so it’s the perfect time to get in on the action and experience a game.
URL:https://discoverwisconsin.com/event/beloit-sky-carp-baseball-8/2025-06-08/
LOCATION:ABC Supply Stadium\, 217 Shirland Ave\, Beloit\, 53511\, United States
ATTACH;FMTTYPE=image/jpeg:https://discoverwisconsin.com/wp-content/uploads/2025/02/Beloit-Sky-Carm.jpg
END:VEVENT
BEGIN:VEVENT
DTSTART;VALUE=DATE:20250608
DTEND;VALUE=DATE:20250609
DTSTAMP:20260425T220654
CREATED:20250408T193239Z
LAST-MODIFIED:20250408T193239Z
UID:10003405-1749340800-1749427199@discoverwisconsin.com
SUMMARY:Aquafest
DESCRIPTION:Rice Lake Aquafest is a beloved annual festival held every June in Rice Lake\, Wisconsin\, celebrating community\, music\, and summer fun. The 10-day event features live concerts with national and regional artists\, a huge Grand Parade\, craft fairs\, delicious food vendors\, and plenty of family-friendly attractions. Locals and visitors alike gather to enjoy the welcoming small-town atmosphere and create lasting memories. Aquafest has been a cherished tradition since the 1960s\, drawing thousands of people to Rice Lake year after year.
URL:https://discoverwisconsin.com/event/aquafest/2025-06-08/
LOCATION:Rice Lake\, Rice Lake\, WI\, 54868\, United States
ATTACH;FMTTYPE=image/jpeg:https://discoverwisconsin.com/wp-content/uploads/2025/04/Aquafest.jpg
END:VEVENT
BEGIN:VEVENT
DTSTART;TZID=America/Chicago:20250608T130000
DTEND;TZID=America/Chicago:20250608T160000
DTSTAMP:20260425T220654
CREATED:20250218T155642Z
LAST-MODIFIED:20250218T155642Z
UID:10003236-1749387600-1749398400@discoverwisconsin.com
SUMMARY:Beckman Mill Guided Tours
DESCRIPTION:The mill\, gift shop\, and museum are open every Saturday and Sunday from 1-4 p.m.\, May 3rd through October 26th\, 2025. Corn Grinding and Blacksmith Demonstrating will be featured on the first Saturday of every month.
URL:https://discoverwisconsin.com/event/beckman-mill-guided-tours-2/2025-06-08/
LOCATION:Beckman Mill\, 11600 S County Road H\, Beloit\, WI\, 53511\, United States
ATTACH;FMTTYPE=image/jpeg:https://discoverwisconsin.com/wp-content/uploads/2025/02/Beckman-Mill-Guided-Tours-scaled.jpg
END:VEVENT
BEGIN:VEVENT
DTSTART;TZID=America/Chicago:20250609T170000
DTEND;TZID=America/Chicago:20250609T200000
DTSTAMP:20260425T220654
CREATED:20250529T165646Z
LAST-MODIFIED:20250529T165646Z
UID:10003467-1749488400-1749499200@discoverwisconsin.com
SUMMARY:Fun & Food on First
DESCRIPTION:Join us for the first Fun and Food on First taking place at Ten Club Park. \nBring your appetite for food as there will be a variety of food trucks and drinks available to purchase. \nThis event is Free and open to the public.
URL:https://discoverwisconsin.com/event/fun-food-on-first/2025-06-09/
LOCATION:Ten Club Park\, 100 S 1st St\, Waterford\, WI\, 53185\, United States
ATTACH;FMTTYPE=image/png:https://discoverwisconsin.com/wp-content/uploads/2025/05/Fun-Food-on-First.png
END:VEVENT
BEGIN:VEVENT
DTSTART;TZID=America/Chicago:20250609T190000
DTEND;TZID=America/Chicago:20250609T210000
DTSTAMP:20260425T220654
CREATED:20250501T145630Z
LAST-MODIFIED:20250501T145630Z
UID:10003448-1749495600-1749502800@discoverwisconsin.com
SUMMARY:Dancing at Harry's Place
DESCRIPTION:Love to dance\, or just wish you could? Dancing at Harry’s Place is the spot to learn to Cha Cha\, Waltz. Polka and more with free lessons. When you’ve figured out the footwork\, try out your new talent during open dance time. Come with or without a partner.
URL:https://discoverwisconsin.com/event/dancing-at-harrys-place-2/2025-06-09/
LOCATION:Harry C. Moore Pavilion\, 1160 Riverside Drive\, Beloit\, WI\, 53511\, United States
ATTACH;FMTTYPE=image/jpeg:https://discoverwisconsin.com/wp-content/uploads/2025/05/Dancing-at-Harrys-Place-scaled.jpg
END:VEVENT
BEGIN:VEVENT
DTSTART;VALUE=DATE:20250610
DTEND;VALUE=DATE:20250611
DTSTAMP:20260425T220654
CREATED:20250218T154455Z
LAST-MODIFIED:20250218T155810Z
UID:10003131-1749513600-1749599999@discoverwisconsin.com
SUMMARY:Beloit Sky Carp Baseball
DESCRIPTION:Beloit Sky Carp Minor League baseball games at ABC Supply Stadium are like hitting a home run! Our High-A Affiliate of the Miami Marlins always makes it a great time at the ballpark by offering major-league fun at minor-league prices. Whether it’s catching Poopsie\, the mascot\, for a picture\, the fireworks displays and theme nights\, or the variety of fantastic food and beverage options\, they have something for all ages to enjoy. The season runs from April through September\, so it’s the perfect time to get in on the action and experience a game.
URL:https://discoverwisconsin.com/event/beloit-sky-carp-baseball-8/2025-06-10/
LOCATION:ABC Supply Stadium\, 217 Shirland Ave\, Beloit\, 53511\, United States
ATTACH;FMTTYPE=image/jpeg:https://discoverwisconsin.com/wp-content/uploads/2025/02/Beloit-Sky-Carm.jpg
END:VEVENT
BEGIN:VEVENT
DTSTART;TZID=America/Chicago:20250610T170000
DTEND;TZID=America/Chicago:20250610T200000
DTSTAMP:20260425T220654
CREATED:20250529T164557Z
LAST-MODIFIED:20250529T164557Z
UID:10003454-1749574800-1749585600@discoverwisconsin.com
SUMMARY:8th Streatery
DESCRIPTION:8th Streatery is a weekly outdoor festival featuring a multi-restaurant\, in-street dining experience that brings the community together in the heart of downtown Sheboygan. Now in its fifth year\, this beloved festival is a celebration of local businesses and community spirit\, offering an opportunity for residents and visitors to enjoy the city’s finest cuisines in a lively and social atmosphere.
URL:https://discoverwisconsin.com/event/8th-streatery/2025-06-10/
LOCATION:Downtown Sheboygan\, S 8th St & Pennsylvania Ave\, Sheboygan\, WI\, 53081\, United States
ATTACH;FMTTYPE=image/jpeg:https://discoverwisconsin.com/wp-content/uploads/2025/05/8th-Streatery-scaled.jpg
END:VEVENT
END:VCALENDAR