BEGIN:VCALENDAR
VERSION:2.0
PRODID:-//Discover Wisconsin - ECPv6.15.17.1//NONSGML v1.0//EN
CALSCALE:GREGORIAN
METHOD:PUBLISH
X-ORIGINAL-URL:https://discoverwisconsin.com
X-WR-CALDESC:Events for Discover Wisconsin
REFRESH-INTERVAL;VALUE=DURATION:PT1H
X-Robots-Tag:noindex
X-PUBLISHED-TTL:PT1H
BEGIN:VTIMEZONE
TZID:America/Chicago
BEGIN:DAYLIGHT
TZOFFSETFROM:-0600
TZOFFSETTO:-0500
TZNAME:CDT
DTSTART:20240310T080000
END:DAYLIGHT
BEGIN:STANDARD
TZOFFSETFROM:-0500
TZOFFSETTO:-0600
TZNAME:CST
DTSTART:20241103T070000
END:STANDARD
BEGIN:DAYLIGHT
TZOFFSETFROM:-0600
TZOFFSETTO:-0500
TZNAME:CDT
DTSTART:20250309T080000
END:DAYLIGHT
BEGIN:STANDARD
TZOFFSETFROM:-0500
TZOFFSETTO:-0600
TZNAME:CST
DTSTART:20251102T070000
END:STANDARD
BEGIN:DAYLIGHT
TZOFFSETFROM:-0600
TZOFFSETTO:-0500
TZNAME:CDT
DTSTART:20260308T080000
END:DAYLIGHT
BEGIN:STANDARD
TZOFFSETFROM:-0500
TZOFFSETTO:-0600
TZNAME:CST
DTSTART:20261101T070000
END:STANDARD
END:VTIMEZONE
BEGIN:VEVENT
DTSTART;VALUE=DATE:20250101
DTEND;VALUE=DATE:20250321
DTSTAMP:20260424T132158
CREATED:20250110T185250Z
LAST-MODIFIED:20250110T185250Z
UID:10002671-1735689600-1742515199@discoverwisconsin.com
SUMMARY:Whitetail Ridge Ski Area
DESCRIPTION:Whitetail Ridge Ski Area \nWhitetail Ridge is located near scenic Fort McCoy and is open to the public. \nCome enjoy fantastic winter fun with us! \nSki Hill – Downhill Skiing & Snowboarding – Whitetail Ridge challenges skiers of all ages\, from the novice to the experienced on the slopes supported by the National Ski Patrol. Enjoy downhill slopes with a vertical drop of over 185 feet. A self-loading T-bar serves the slopes where the longest run is 1\,300 feet. \nSnowboarding your thing? Come check out the terrain park! \nSnow Tubing – Grab a tube and head down one of the 5 runs! The 800′ long slope\, it’s sure to be a thrill! The tubing area has a Magic Carpet lift\, so the ride up is just as fun! \nCross Country Skiing – Ski over 5 miles of scenic country on our groomed trails. The abundant wildlife often make appearances on the beautiful trails! Trail use is free;equipment rental available. \nChalet & Ten Point Pub – Need a break from skiing or tubing? Come inside the Chalet to warm-up\, relax and enjoy some food and drinks. \nCheck days and times\, mccoy.armymwr.com or 1-502-898-4498;group pricing available\, call 1-608-388-3517 for details
URL:https://discoverwisconsin.com/event/whitetail-ridge-ski-area/
LOCATION:Whitetail Ridge Ski Area\, 8061 South F Street\, Fort McCoy\, WI\, 54656\, United States
ATTACH;FMTTYPE=image/jpeg:https://discoverwisconsin.com/wp-content/uploads/2025/01/Whitetail-Ridge-Ski-Area.jpg
END:VEVENT
BEGIN:VEVENT
DTSTART;TZID=America/Chicago:20250301T090000
DTEND;TZID=America/Chicago:20250301T120000
DTSTAMP:20260424T132158
CREATED:20240308T162241Z
LAST-MODIFIED:20240308T162241Z
UID:10000523-1740819600-1740830400@discoverwisconsin.com
SUMMARY:Winter Crafter and Farmers' Market
DESCRIPTION:The Beloit Farmers’ Market is year-round! Downtown Beloit Association is hosting the Beloit Winter Crafter & Farmers’ Market in their office/event space in Downtown Beloit. There will be local vendors selling their wares every Saturday\, November through April. Look for produce\, eggs\, cheese\, honey\, baked goods\, seafood\, meat\, poultry\, soaps\, and crafts.\n\nNew this year! Look for food trucks and free family-friendly activities each week.
URL:https://discoverwisconsin.com/event/winter-crafter-and-farmers-market/2025-03-01/
LOCATION:Winter Crafter & Farmers’ Market\, 557 E. Grand Avenue\, Beloit\, WI\, 53511\, United States
ATTACH;FMTTYPE=image/jpeg:https://discoverwisconsin.com/wp-content/uploads/2024/03/43c73beb-b084-4ef4-8440-11a70964c940-add_your_photo_here-Winter-Market.jpeg
END:VEVENT
BEGIN:VEVENT
DTSTART;TZID=America/Chicago:20250305T093000
DTEND;TZID=America/Chicago:20250305T101500
DTSTAMP:20260424T132158
CREATED:20241023T140317Z
LAST-MODIFIED:20241023T140317Z
UID:10002635-1741167000-1741169700@discoverwisconsin.com
SUMMARY:Aesop Bops!
DESCRIPTION:Part of the 2024-2025 Amcor Student Discovery Series \nNEW this year- The Amcor Student Discovery Series is open to the general public! \nPart of the 2024-2025 Community First Credit Union ArtREACH Series \nDavid Gonzalez’s residency is supported in part by a grant from The Oshkosh Area Community Foundation and The Wisconsin Arts Board \nFast-paced\, funny\, and packed with audience participation\, Aesop Bops! features a potpourri of Aesop’s classic stories including The Lion and the Mouse\, The Fisherman and His Wife\, and The Turtle’s Shell. This feast of funky\, physical storytelling leaves young audiences feeling like they had just performed the show too! Aesop Bops! rocks\, and rolls out the red carpet – inviting kids to join in the fun.
URL:https://discoverwisconsin.com/event/aesop-bops/2025-03-05/1/
LOCATION:The Grand Oshkosh\, 100 High Ave\, Oshkosh\, WI\, 54901\, United States
ATTACH;FMTTYPE=image/jpeg:https://discoverwisconsin.com/wp-content/uploads/2024/10/Aesop-Bops.jpg
END:VEVENT
BEGIN:VEVENT
DTSTART;TZID=America/Chicago:20250305T123000
DTEND;TZID=America/Chicago:20250305T131500
DTSTAMP:20260424T132158
CREATED:20241023T140317Z
LAST-MODIFIED:20241023T140317Z
UID:10002636-1741177800-1741180500@discoverwisconsin.com
SUMMARY:Aesop Bops!
DESCRIPTION:Part of the 2024-2025 Amcor Student Discovery Series \nNEW this year- The Amcor Student Discovery Series is open to the general public! \nPart of the 2024-2025 Community First Credit Union ArtREACH Series \nDavid Gonzalez’s residency is supported in part by a grant from The Oshkosh Area Community Foundation and The Wisconsin Arts Board \nFast-paced\, funny\, and packed with audience participation\, Aesop Bops! features a potpourri of Aesop’s classic stories including The Lion and the Mouse\, The Fisherman and His Wife\, and The Turtle’s Shell. This feast of funky\, physical storytelling leaves young audiences feeling like they had just performed the show too! Aesop Bops! rocks\, and rolls out the red carpet – inviting kids to join in the fun.
URL:https://discoverwisconsin.com/event/aesop-bops/2025-03-05/2/
LOCATION:The Grand Oshkosh\, 100 High Ave\, Oshkosh\, WI\, 54901\, United States
ATTACH;FMTTYPE=image/jpeg:https://discoverwisconsin.com/wp-content/uploads/2024/10/Aesop-Bops.jpg
END:VEVENT
BEGIN:VEVENT
DTSTART;TZID=America/Chicago:20250306T093000
DTEND;TZID=America/Chicago:20250306T102500
DTSTAMP:20260424T132158
CREATED:20241023T141230Z
LAST-MODIFIED:20241023T141230Z
UID:10002639-1741253400-1741256700@discoverwisconsin.com
SUMMARY:Maddog & Me: Bullying and the Power of Kindness
DESCRIPTION:Part of the 2024-2025 Amcor Student Discovery Series (NEW this year- The Amcor Student Discovery Series is open to the general public) \nPart of the 2024-2025 Community First Credit Union ArtREACH Series \nDavid Gonzalez’s residency is supported in part by a grant from The Oshkosh Area Community Foundation and The Wisconsin Arts Board \nThis inspiring mix of world tales/fables and personal stories addresses the culture of cruelty in our society. Through fables\, myths\, and stories from his own life growing up in a rough neighborhood\, David Gonzalez looks at the roles of bully\, victim\, and bystander and offers insights for cultivating compassionate relationships and communities.
URL:https://discoverwisconsin.com/event/maddog-me-bullying-and-the-power-of-kindness/2025-03-06/1/
LOCATION:The Grand Oshkosh\, 100 High Ave\, Oshkosh\, WI\, 54901\, United States
ATTACH;FMTTYPE=image/jpeg:https://discoverwisconsin.com/wp-content/uploads/2024/10/Maddog-Me-Bullying-and-the-Power-of-Kindness.jpg
END:VEVENT
BEGIN:VEVENT
DTSTART;TZID=America/Chicago:20250306T123000
DTEND;TZID=America/Chicago:20250306T132500
DTSTAMP:20260424T132158
CREATED:20241023T141230Z
LAST-MODIFIED:20241023T141230Z
UID:10002640-1741264200-1741267500@discoverwisconsin.com
SUMMARY:Maddog & Me: Bullying and the Power of Kindness
DESCRIPTION:Part of the 2024-2025 Amcor Student Discovery Series (NEW this year- The Amcor Student Discovery Series is open to the general public) \nPart of the 2024-2025 Community First Credit Union ArtREACH Series \nDavid Gonzalez’s residency is supported in part by a grant from The Oshkosh Area Community Foundation and The Wisconsin Arts Board \nThis inspiring mix of world tales/fables and personal stories addresses the culture of cruelty in our society. Through fables\, myths\, and stories from his own life growing up in a rough neighborhood\, David Gonzalez looks at the roles of bully\, victim\, and bystander and offers insights for cultivating compassionate relationships and communities.
URL:https://discoverwisconsin.com/event/maddog-me-bullying-and-the-power-of-kindness/2025-03-06/2/
LOCATION:The Grand Oshkosh\, 100 High Ave\, Oshkosh\, WI\, 54901\, United States
ATTACH;FMTTYPE=image/jpeg:https://discoverwisconsin.com/wp-content/uploads/2024/10/Maddog-Me-Bullying-and-the-Power-of-Kindness.jpg
END:VEVENT
BEGIN:VEVENT
DTSTART;TZID=America/Chicago:20250307T190000
DTEND;TZID=America/Chicago:20250307T203000
DTSTAMP:20260424T132158
CREATED:20250110T190207Z
LAST-MODIFIED:20250110T190207Z
UID:10002676-1741374000-1741379400@discoverwisconsin.com
SUMMARY:Rhythm of the Dance
DESCRIPTION:26th Anniversary Touring World-Wide! \nRated #1 as among the most popular Irish Dance productions touring the world\, RHYTHM OF THE DANCE creates a new era in Irish entertainment\, containing a wealth of talent\, featuring World and Irish champion dancers and the finest traditional musicians and singers. \nCombining Irish dance and Celtic music with the most up-to-date stage technology\, this two-hour dance and music extravaganza takes audiences on an exhilarating\, energy-packed time trip through the ages. Rhythm of the Dance is one of the most popular and busiest Irish step dance shows in the world; a success with critics and audiences worldwide. \nRhythm of the Dance continues to evolve thanks to the constant striving for perfection by its Director/Producer\, choreographer and composer to keep the show fresh and interesting. Audiences continue to return again and again as each year RHYTHM OF THE DANCE features new costumes\, step dance routines and musical numbers\, and staging. 7 million plus tickets and counting have been sold world-wide.
URL:https://discoverwisconsin.com/event/rhythm-of-the-dance/
LOCATION:The Grand Oshkosh\, 100 High Ave\, Oshkosh\, WI\, 54901\, United States
ATTACH;FMTTYPE=image/jpeg:https://discoverwisconsin.com/wp-content/uploads/2025/01/Rhythm-of-the-Dance.jpg
END:VEVENT
BEGIN:VEVENT
DTSTART;TZID=America/Chicago:20250308T090000
DTEND;TZID=America/Chicago:20250308T120000
DTSTAMP:20260424T132158
CREATED:20240308T162241Z
LAST-MODIFIED:20240308T162241Z
UID:10000524-1741424400-1741435200@discoverwisconsin.com
SUMMARY:Winter Crafter and Farmers' Market
DESCRIPTION:The Beloit Farmers’ Market is year-round! Downtown Beloit Association is hosting the Beloit Winter Crafter & Farmers’ Market in their office/event space in Downtown Beloit. There will be local vendors selling their wares every Saturday\, November through April. Look for produce\, eggs\, cheese\, honey\, baked goods\, seafood\, meat\, poultry\, soaps\, and crafts.\n\nNew this year! Look for food trucks and free family-friendly activities each week.
URL:https://discoverwisconsin.com/event/winter-crafter-and-farmers-market/2025-03-08/
LOCATION:Winter Crafter & Farmers’ Market\, 557 E. Grand Avenue\, Beloit\, WI\, 53511\, United States
ATTACH;FMTTYPE=image/jpeg:https://discoverwisconsin.com/wp-content/uploads/2024/03/43c73beb-b084-4ef4-8440-11a70964c940-add_your_photo_here-Winter-Market.jpeg
END:VEVENT
BEGIN:VEVENT
DTSTART;TZID=America/Chicago:20250315T090000
DTEND;TZID=America/Chicago:20250315T120000
DTSTAMP:20260424T132158
CREATED:20240308T162241Z
LAST-MODIFIED:20240308T162241Z
UID:10000525-1742029200-1742040000@discoverwisconsin.com
SUMMARY:Winter Crafter and Farmers' Market
DESCRIPTION:The Beloit Farmers’ Market is year-round! Downtown Beloit Association is hosting the Beloit Winter Crafter & Farmers’ Market in their office/event space in Downtown Beloit. There will be local vendors selling their wares every Saturday\, November through April. Look for produce\, eggs\, cheese\, honey\, baked goods\, seafood\, meat\, poultry\, soaps\, and crafts.\n\nNew this year! Look for food trucks and free family-friendly activities each week.
URL:https://discoverwisconsin.com/event/winter-crafter-and-farmers-market/2025-03-15/
LOCATION:Winter Crafter & Farmers’ Market\, 557 E. Grand Avenue\, Beloit\, WI\, 53511\, United States
ATTACH;FMTTYPE=image/jpeg:https://discoverwisconsin.com/wp-content/uploads/2024/03/43c73beb-b084-4ef4-8440-11a70964c940-add_your_photo_here-Winter-Market.jpeg
END:VEVENT
BEGIN:VEVENT
DTSTART;TZID=America/Chicago:20250321T193000
DTEND;TZID=America/Chicago:20250321T210000
DTSTAMP:20260424T132158
CREATED:20241023T140934Z
LAST-MODIFIED:20241023T140934Z
UID:10002638-1742585400-1742590800@discoverwisconsin.com
SUMMARY:Ladies of Country
DESCRIPTION:Ladies of Country is a star-studded tribute to Dolly Parton\, Shania Twain\, Reba McEntire\, and Martina McBride! This special production features all your favorite country hits live on stage from some of the world’s best celebrity impersonators. Karen Hester as Dolly Parton (Winner of Jimmy Fallon’s “Clash of the Cover Bands”) Corrie Sachs as Reba McEntire (Honored five times as “Las Vegas Singer of the Year”) Stacey Whitton Summers as Shania Twain & Martina McBride (Starred on TV shows such as ABC’s “The Next Best Thing & E! Television’s “Country’s Most Shocking”) Don’t miss this breathtaking celebration to the Ladies of Country!
URL:https://discoverwisconsin.com/event/ladies-of-country/
LOCATION:The Grand Oshkosh\, 100 High Ave\, Oshkosh\, WI\, 54901\, United States
ATTACH;FMTTYPE=image/jpeg:https://discoverwisconsin.com/wp-content/uploads/2024/10/Ladies-of-Country.jpg
END:VEVENT
BEGIN:VEVENT
DTSTART;TZID=America/Chicago:20250322T090000
DTEND;TZID=America/Chicago:20250322T120000
DTSTAMP:20260424T132158
CREATED:20240308T162241Z
LAST-MODIFIED:20240308T162241Z
UID:10000526-1742634000-1742644800@discoverwisconsin.com
SUMMARY:Winter Crafter and Farmers' Market
DESCRIPTION:The Beloit Farmers’ Market is year-round! Downtown Beloit Association is hosting the Beloit Winter Crafter & Farmers’ Market in their office/event space in Downtown Beloit. There will be local vendors selling their wares every Saturday\, November through April. Look for produce\, eggs\, cheese\, honey\, baked goods\, seafood\, meat\, poultry\, soaps\, and crafts.\n\nNew this year! Look for food trucks and free family-friendly activities each week.
URL:https://discoverwisconsin.com/event/winter-crafter-and-farmers-market/2025-03-22/
LOCATION:Winter Crafter & Farmers’ Market\, 557 E. Grand Avenue\, Beloit\, WI\, 53511\, United States
ATTACH;FMTTYPE=image/jpeg:https://discoverwisconsin.com/wp-content/uploads/2024/03/43c73beb-b084-4ef4-8440-11a70964c940-add_your_photo_here-Winter-Market.jpeg
END:VEVENT
BEGIN:VEVENT
DTSTART;TZID=America/Chicago:20250322T190000
DTEND;TZID=America/Chicago:20250322T203000
DTSTAMP:20260424T132158
CREATED:20241023T140639Z
LAST-MODIFIED:20241023T140639Z
UID:10002637-1742670000-1742675400@discoverwisconsin.com
SUMMARY:Supertramp Tribute Show
DESCRIPTION:Meet The Supertramp Tribute\, a crafty\, slightly eccentric\, and wildly passionate ensemble of multi-instrumentalists who have united to pay homage to one of the most endearing Progressive Rock bands the world has ever known. With an arsenal that includes three keyboard players\, a stable of reeds\, and a rhythmic backbone\, this tribute band delivers a sonic experience that transports you through time. Their performances are more than just a collection of cover songs; they are a musical odyssey that invites you to take the long way home\, immersing yourself in the iconic sounds and intricate melodies that made Supertramp a household name. Get ready to embark on a musical journey like no other\, only with The Supertramp Tribute.
URL:https://discoverwisconsin.com/event/supertramp-tribute-show/
LOCATION:The Grand Oshkosh\, 100 High Ave\, Oshkosh\, WI\, 54901\, United States
ATTACH;FMTTYPE=image/jpeg:https://discoverwisconsin.com/wp-content/uploads/2024/10/Supertramp-Tribute-Show.jpg
END:VEVENT
BEGIN:VEVENT
DTSTART;VALUE=DATE:20250328
DTEND;VALUE=DATE:20250329
DTSTAMP:20260424T132158
CREATED:20250218T153742Z
LAST-MODIFIED:20250218T153742Z
UID:10003053-1743120000-1743206399@discoverwisconsin.com
SUMMARY:Beloit International Film Festival
DESCRIPTION:The Beloit International Film Festival (BIFF)—is an annual ten-day film festival that celebrates the power of independent film from around the globe. Local residents and visitors from all over the U.S. experience the diversity and impact of international film each year. Venues\, ranging in size from 40-400 seats\, showcase 100 incredible films. In addition\, festival attendees meet scores of filmmakers from all around the U.S. and the entire world. The Hendricks Center for the Arts at Beloit College (409 Pleasant Street) will serve as both a screening venue\, and as the new official BIFF Box Office throughout the ten days of BIFF 2025.
URL:https://discoverwisconsin.com/event/beloit-international-film-festival-2/2025-03-28/
LOCATION:Beloit\, Beloit\, WI\, 53511\, United States
ATTACH;FMTTYPE=image/jpeg:https://discoverwisconsin.com/wp-content/uploads/2025/02/BIFF-scaled.jpg
END:VEVENT
BEGIN:VEVENT
DTSTART;VALUE=DATE:20250329
DTEND;VALUE=DATE:20250330
DTSTAMP:20260424T132158
CREATED:20250218T153742Z
LAST-MODIFIED:20250218T153742Z
UID:10003054-1743206400-1743292799@discoverwisconsin.com
SUMMARY:Beloit International Film Festival
DESCRIPTION:The Beloit International Film Festival (BIFF)—is an annual ten-day film festival that celebrates the power of independent film from around the globe. Local residents and visitors from all over the U.S. experience the diversity and impact of international film each year. Venues\, ranging in size from 40-400 seats\, showcase 100 incredible films. In addition\, festival attendees meet scores of filmmakers from all around the U.S. and the entire world. The Hendricks Center for the Arts at Beloit College (409 Pleasant Street) will serve as both a screening venue\, and as the new official BIFF Box Office throughout the ten days of BIFF 2025.
URL:https://discoverwisconsin.com/event/beloit-international-film-festival-2/2025-03-29/
LOCATION:Beloit\, Beloit\, WI\, 53511\, United States
ATTACH;FMTTYPE=image/jpeg:https://discoverwisconsin.com/wp-content/uploads/2025/02/BIFF-scaled.jpg
END:VEVENT
BEGIN:VEVENT
DTSTART;TZID=America/Chicago:20250329T090000
DTEND;TZID=America/Chicago:20250329T120000
DTSTAMP:20260424T132158
CREATED:20240308T162241Z
LAST-MODIFIED:20240308T162241Z
UID:10000527-1743238800-1743249600@discoverwisconsin.com
SUMMARY:Winter Crafter and Farmers' Market
DESCRIPTION:The Beloit Farmers’ Market is year-round! Downtown Beloit Association is hosting the Beloit Winter Crafter & Farmers’ Market in their office/event space in Downtown Beloit. There will be local vendors selling their wares every Saturday\, November through April. Look for produce\, eggs\, cheese\, honey\, baked goods\, seafood\, meat\, poultry\, soaps\, and crafts.\n\nNew this year! Look for food trucks and free family-friendly activities each week.
URL:https://discoverwisconsin.com/event/winter-crafter-and-farmers-market/2025-03-29/
LOCATION:Winter Crafter & Farmers’ Market\, 557 E. Grand Avenue\, Beloit\, WI\, 53511\, United States
ATTACH;FMTTYPE=image/jpeg:https://discoverwisconsin.com/wp-content/uploads/2024/03/43c73beb-b084-4ef4-8440-11a70964c940-add_your_photo_here-Winter-Market.jpeg
END:VEVENT
BEGIN:VEVENT
DTSTART;VALUE=DATE:20250330
DTEND;VALUE=DATE:20250331
DTSTAMP:20260424T132158
CREATED:20250218T153742Z
LAST-MODIFIED:20250218T153742Z
UID:10003055-1743292800-1743379199@discoverwisconsin.com
SUMMARY:Beloit International Film Festival
DESCRIPTION:The Beloit International Film Festival (BIFF)—is an annual ten-day film festival that celebrates the power of independent film from around the globe. Local residents and visitors from all over the U.S. experience the diversity and impact of international film each year. Venues\, ranging in size from 40-400 seats\, showcase 100 incredible films. In addition\, festival attendees meet scores of filmmakers from all around the U.S. and the entire world. The Hendricks Center for the Arts at Beloit College (409 Pleasant Street) will serve as both a screening venue\, and as the new official BIFF Box Office throughout the ten days of BIFF 2025.
URL:https://discoverwisconsin.com/event/beloit-international-film-festival-2/2025-03-30/
LOCATION:Beloit\, Beloit\, WI\, 53511\, United States
ATTACH;FMTTYPE=image/jpeg:https://discoverwisconsin.com/wp-content/uploads/2025/02/BIFF-scaled.jpg
END:VEVENT
BEGIN:VEVENT
DTSTART;VALUE=DATE:20250331
DTEND;VALUE=DATE:20250401
DTSTAMP:20260424T132158
CREATED:20250218T153742Z
LAST-MODIFIED:20250218T153742Z
UID:10003056-1743379200-1743465599@discoverwisconsin.com
SUMMARY:Beloit International Film Festival
DESCRIPTION:The Beloit International Film Festival (BIFF)—is an annual ten-day film festival that celebrates the power of independent film from around the globe. Local residents and visitors from all over the U.S. experience the diversity and impact of international film each year. Venues\, ranging in size from 40-400 seats\, showcase 100 incredible films. In addition\, festival attendees meet scores of filmmakers from all around the U.S. and the entire world. The Hendricks Center for the Arts at Beloit College (409 Pleasant Street) will serve as both a screening venue\, and as the new official BIFF Box Office throughout the ten days of BIFF 2025.
URL:https://discoverwisconsin.com/event/beloit-international-film-festival-2/2025-03-31/
LOCATION:Beloit\, Beloit\, WI\, 53511\, United States
ATTACH;FMTTYPE=image/jpeg:https://discoverwisconsin.com/wp-content/uploads/2025/02/BIFF-scaled.jpg
END:VEVENT
END:VCALENDAR