BEGIN:VCALENDAR
VERSION:2.0
PRODID:-//Discover Wisconsin - ECPv6.15.17.1//NONSGML v1.0//EN
CALSCALE:GREGORIAN
METHOD:PUBLISH
X-WR-CALNAME:Discover Wisconsin
X-ORIGINAL-URL:https://discoverwisconsin.com
X-WR-CALDESC:Events for Discover Wisconsin
REFRESH-INTERVAL;VALUE=DURATION:PT1H
X-Robots-Tag:noindex
X-PUBLISHED-TTL:PT1H
BEGIN:VTIMEZONE
TZID:America/Chicago
BEGIN:DAYLIGHT
TZOFFSETFROM:-0600
TZOFFSETTO:-0500
TZNAME:CDT
DTSTART:20250309T080000
END:DAYLIGHT
BEGIN:STANDARD
TZOFFSETFROM:-0500
TZOFFSETTO:-0600
TZNAME:CST
DTSTART:20251102T070000
END:STANDARD
BEGIN:DAYLIGHT
TZOFFSETFROM:-0600
TZOFFSETTO:-0500
TZNAME:CDT
DTSTART:20260308T080000
END:DAYLIGHT
BEGIN:STANDARD
TZOFFSETFROM:-0500
TZOFFSETTO:-0600
TZNAME:CST
DTSTART:20261101T070000
END:STANDARD
BEGIN:DAYLIGHT
TZOFFSETFROM:-0600
TZOFFSETTO:-0500
TZNAME:CDT
DTSTART:20270314T080000
END:DAYLIGHT
BEGIN:STANDARD
TZOFFSETFROM:-0500
TZOFFSETTO:-0600
TZNAME:CST
DTSTART:20271107T070000
END:STANDARD
END:VTIMEZONE
BEGIN:VEVENT
DTSTART;TZID=America/Chicago:20260307T090000
DTEND;TZID=America/Chicago:20260307T120000
DTSTAMP:20260423T114345
CREATED:20251029T153514Z
LAST-MODIFIED:20251029T153514Z
UID:10003593-1772874000-1772884800@discoverwisconsin.com
SUMMARY:Winter Crafter & Farmers' Market
DESCRIPTION:The Beloit Farmers’ Market is year-round! Downtown Beloit Association is hosting the Beloit Winter Crafter & Farmers’ Market in their office/event space in Downtown Beloit. There will be local vendors selling their goods every Saturday\, November through April. Look for produce\, eggs\, cheese\, honey\, baked goods\, seafood\, meat\, poultry\, soaps\, and crafts. There will be food trucks and free family-friendly activities each week.
URL:https://discoverwisconsin.com/event/winter-crafter-farmers-market/2026-03-07/
LOCATION:Downtown Beloit Association\, 557 E. Grand Ave\, Beloit\, WI\, 53711\, United States
ATTACH;FMTTYPE=image/jpeg:https://discoverwisconsin.com/wp-content/uploads/2025/10/Winter-Crafter-Farmers-Market.jpg
END:VEVENT
BEGIN:VEVENT
DTSTART;TZID=America/Chicago:20260307T090000
DTEND;TZID=America/Chicago:20260307T120000
DTSTAMP:20260423T114345
CREATED:20260205T230329Z
LAST-MODIFIED:20260205T230329Z
UID:10003837-1772874000-1772884800@discoverwisconsin.com
SUMMARY:Winter Crafter & Farmers' Market
DESCRIPTION:The Beloit Farmers’ Market is year round! Downtown Beloit Association is hosting the Beloit Winter Crafter & Farmers’ Market in their office/event space in Downtown Beloit. There will be local vendors selling their goods every Saturday November through April. Look for produce\, eggs\, cheese\, honey\, baked goods\, seafood\, meat\, poultry\, soaps\, and crafts. Look for food trucks and free family-friendly activities each week.
URL:https://discoverwisconsin.com/event/winter-crafter-farmers-market-2/2026-03-07/
LOCATION:Downtown Beloit Association\, 557 E. Grand Ave\, Beloit\, WI\, 53711\, United States
ATTACH;FMTTYPE=image/jpeg:https://discoverwisconsin.com/wp-content/uploads/2026/02/Winter-Crafter-Farmers-Market.jpg
END:VEVENT
BEGIN:VEVENT
DTSTART;TZID=America/Chicago:20260314T090000
DTEND;TZID=America/Chicago:20260314T120000
DTSTAMP:20260423T114345
CREATED:20251029T153514Z
LAST-MODIFIED:20251029T153514Z
UID:10003594-1773478800-1773489600@discoverwisconsin.com
SUMMARY:Winter Crafter & Farmers' Market
DESCRIPTION:The Beloit Farmers’ Market is year-round! Downtown Beloit Association is hosting the Beloit Winter Crafter & Farmers’ Market in their office/event space in Downtown Beloit. There will be local vendors selling their goods every Saturday\, November through April. Look for produce\, eggs\, cheese\, honey\, baked goods\, seafood\, meat\, poultry\, soaps\, and crafts. There will be food trucks and free family-friendly activities each week.
URL:https://discoverwisconsin.com/event/winter-crafter-farmers-market/2026-03-14/
LOCATION:Downtown Beloit Association\, 557 E. Grand Ave\, Beloit\, WI\, 53711\, United States
ATTACH;FMTTYPE=image/jpeg:https://discoverwisconsin.com/wp-content/uploads/2025/10/Winter-Crafter-Farmers-Market.jpg
END:VEVENT
BEGIN:VEVENT
DTSTART;TZID=America/Chicago:20260314T090000
DTEND;TZID=America/Chicago:20260314T120000
DTSTAMP:20260423T114345
CREATED:20260205T230329Z
LAST-MODIFIED:20260205T230329Z
UID:10003838-1773478800-1773489600@discoverwisconsin.com
SUMMARY:Winter Crafter & Farmers' Market
DESCRIPTION:The Beloit Farmers’ Market is year round! Downtown Beloit Association is hosting the Beloit Winter Crafter & Farmers’ Market in their office/event space in Downtown Beloit. There will be local vendors selling their goods every Saturday November through April. Look for produce\, eggs\, cheese\, honey\, baked goods\, seafood\, meat\, poultry\, soaps\, and crafts. Look for food trucks and free family-friendly activities each week.
URL:https://discoverwisconsin.com/event/winter-crafter-farmers-market-2/2026-03-14/
LOCATION:Downtown Beloit Association\, 557 E. Grand Ave\, Beloit\, WI\, 53711\, United States
ATTACH;FMTTYPE=image/jpeg:https://discoverwisconsin.com/wp-content/uploads/2026/02/Winter-Crafter-Farmers-Market.jpg
END:VEVENT
BEGIN:VEVENT
DTSTART;TZID=America/Chicago:20260321T090000
DTEND;TZID=America/Chicago:20260321T120000
DTSTAMP:20260423T114345
CREATED:20251029T153514Z
LAST-MODIFIED:20251029T153514Z
UID:10003595-1774083600-1774094400@discoverwisconsin.com
SUMMARY:Winter Crafter & Farmers' Market
DESCRIPTION:The Beloit Farmers’ Market is year-round! Downtown Beloit Association is hosting the Beloit Winter Crafter & Farmers’ Market in their office/event space in Downtown Beloit. There will be local vendors selling their goods every Saturday\, November through April. Look for produce\, eggs\, cheese\, honey\, baked goods\, seafood\, meat\, poultry\, soaps\, and crafts. There will be food trucks and free family-friendly activities each week.
URL:https://discoverwisconsin.com/event/winter-crafter-farmers-market/2026-03-21/
LOCATION:Downtown Beloit Association\, 557 E. Grand Ave\, Beloit\, WI\, 53711\, United States
ATTACH;FMTTYPE=image/jpeg:https://discoverwisconsin.com/wp-content/uploads/2025/10/Winter-Crafter-Farmers-Market.jpg
END:VEVENT
BEGIN:VEVENT
DTSTART;TZID=America/Chicago:20260321T090000
DTEND;TZID=America/Chicago:20260321T120000
DTSTAMP:20260423T114345
CREATED:20260205T230329Z
LAST-MODIFIED:20260205T230329Z
UID:10003839-1774083600-1774094400@discoverwisconsin.com
SUMMARY:Winter Crafter & Farmers' Market
DESCRIPTION:The Beloit Farmers’ Market is year round! Downtown Beloit Association is hosting the Beloit Winter Crafter & Farmers’ Market in their office/event space in Downtown Beloit. There will be local vendors selling their goods every Saturday November through April. Look for produce\, eggs\, cheese\, honey\, baked goods\, seafood\, meat\, poultry\, soaps\, and crafts. Look for food trucks and free family-friendly activities each week.
URL:https://discoverwisconsin.com/event/winter-crafter-farmers-market-2/2026-03-21/
LOCATION:Downtown Beloit Association\, 557 E. Grand Ave\, Beloit\, WI\, 53711\, United States
ATTACH;FMTTYPE=image/jpeg:https://discoverwisconsin.com/wp-content/uploads/2026/02/Winter-Crafter-Farmers-Market.jpg
END:VEVENT
BEGIN:VEVENT
DTSTART;VALUE=DATE:20260325
DTEND;VALUE=DATE:20260326
DTSTAMP:20260423T114345
CREATED:20260205T221321Z
LAST-MODIFIED:20260205T221321Z
UID:10003668-1774396800-1774483199@discoverwisconsin.com
SUMMARY:Beloit International Film Festival
DESCRIPTION:The 21st Annual Beloit International Film Festival is coming March 25–29\, 2026!\nMark your calendars for four unforgettable days of independent film\, filmmaker Q&As\, special events\, and community fun in downtown Beloit.
URL:https://discoverwisconsin.com/event/beloit-international-film-festival-3/2026-03-25/
LOCATION:Downtown Beloit\, 300 Block of State Street\, Beloit\, WI\, 53511\, United States
ATTACH;FMTTYPE=image/jpeg:https://discoverwisconsin.com/wp-content/uploads/2026/02/Beloit-International-Film-Festival-scaled.jpg
END:VEVENT
BEGIN:VEVENT
DTSTART;VALUE=DATE:20260326
DTEND;VALUE=DATE:20260327
DTSTAMP:20260423T114345
CREATED:20260205T221321Z
LAST-MODIFIED:20260205T221321Z
UID:10003669-1774483200-1774569599@discoverwisconsin.com
SUMMARY:Beloit International Film Festival
DESCRIPTION:The 21st Annual Beloit International Film Festival is coming March 25–29\, 2026!\nMark your calendars for four unforgettable days of independent film\, filmmaker Q&As\, special events\, and community fun in downtown Beloit.
URL:https://discoverwisconsin.com/event/beloit-international-film-festival-3/2026-03-26/
LOCATION:Downtown Beloit\, 300 Block of State Street\, Beloit\, WI\, 53511\, United States
ATTACH;FMTTYPE=image/jpeg:https://discoverwisconsin.com/wp-content/uploads/2026/02/Beloit-International-Film-Festival-scaled.jpg
END:VEVENT
BEGIN:VEVENT
DTSTART;VALUE=DATE:20260327
DTEND;VALUE=DATE:20260328
DTSTAMP:20260423T114345
CREATED:20260205T221321Z
LAST-MODIFIED:20260205T221321Z
UID:10003670-1774569600-1774655999@discoverwisconsin.com
SUMMARY:Beloit International Film Festival
DESCRIPTION:The 21st Annual Beloit International Film Festival is coming March 25–29\, 2026!\nMark your calendars for four unforgettable days of independent film\, filmmaker Q&As\, special events\, and community fun in downtown Beloit.
URL:https://discoverwisconsin.com/event/beloit-international-film-festival-3/2026-03-27/
LOCATION:Downtown Beloit\, 300 Block of State Street\, Beloit\, WI\, 53511\, United States
ATTACH;FMTTYPE=image/jpeg:https://discoverwisconsin.com/wp-content/uploads/2026/02/Beloit-International-Film-Festival-scaled.jpg
END:VEVENT
BEGIN:VEVENT
DTSTART;VALUE=DATE:20260328
DTEND;VALUE=DATE:20260329
DTSTAMP:20260423T114345
CREATED:20260205T221321Z
LAST-MODIFIED:20260205T221321Z
UID:10003671-1774656000-1774742399@discoverwisconsin.com
SUMMARY:Beloit International Film Festival
DESCRIPTION:The 21st Annual Beloit International Film Festival is coming March 25–29\, 2026!\nMark your calendars for four unforgettable days of independent film\, filmmaker Q&As\, special events\, and community fun in downtown Beloit.
URL:https://discoverwisconsin.com/event/beloit-international-film-festival-3/2026-03-28/
LOCATION:Downtown Beloit\, 300 Block of State Street\, Beloit\, WI\, 53511\, United States
ATTACH;FMTTYPE=image/jpeg:https://discoverwisconsin.com/wp-content/uploads/2026/02/Beloit-International-Film-Festival-scaled.jpg
END:VEVENT
BEGIN:VEVENT
DTSTART;TZID=America/Chicago:20260328T090000
DTEND;TZID=America/Chicago:20260328T120000
DTSTAMP:20260423T114345
CREATED:20251029T153514Z
LAST-MODIFIED:20251029T153514Z
UID:10003596-1774688400-1774699200@discoverwisconsin.com
SUMMARY:Winter Crafter & Farmers' Market
DESCRIPTION:The Beloit Farmers’ Market is year-round! Downtown Beloit Association is hosting the Beloit Winter Crafter & Farmers’ Market in their office/event space in Downtown Beloit. There will be local vendors selling their goods every Saturday\, November through April. Look for produce\, eggs\, cheese\, honey\, baked goods\, seafood\, meat\, poultry\, soaps\, and crafts. There will be food trucks and free family-friendly activities each week.
URL:https://discoverwisconsin.com/event/winter-crafter-farmers-market/2026-03-28/
LOCATION:Downtown Beloit Association\, 557 E. Grand Ave\, Beloit\, WI\, 53711\, United States
ATTACH;FMTTYPE=image/jpeg:https://discoverwisconsin.com/wp-content/uploads/2025/10/Winter-Crafter-Farmers-Market.jpg
END:VEVENT
BEGIN:VEVENT
DTSTART;TZID=America/Chicago:20260328T090000
DTEND;TZID=America/Chicago:20260328T120000
DTSTAMP:20260423T114345
CREATED:20260205T230329Z
LAST-MODIFIED:20260205T230329Z
UID:10003840-1774688400-1774699200@discoverwisconsin.com
SUMMARY:Winter Crafter & Farmers' Market
DESCRIPTION:The Beloit Farmers’ Market is year round! Downtown Beloit Association is hosting the Beloit Winter Crafter & Farmers’ Market in their office/event space in Downtown Beloit. There will be local vendors selling their goods every Saturday November through April. Look for produce\, eggs\, cheese\, honey\, baked goods\, seafood\, meat\, poultry\, soaps\, and crafts. Look for food trucks and free family-friendly activities each week.
URL:https://discoverwisconsin.com/event/winter-crafter-farmers-market-2/2026-03-28/
LOCATION:Downtown Beloit Association\, 557 E. Grand Ave\, Beloit\, WI\, 53711\, United States
ATTACH;FMTTYPE=image/jpeg:https://discoverwisconsin.com/wp-content/uploads/2026/02/Winter-Crafter-Farmers-Market.jpg
END:VEVENT
BEGIN:VEVENT
DTSTART;VALUE=DATE:20260329
DTEND;VALUE=DATE:20260330
DTSTAMP:20260423T114345
CREATED:20260205T221321Z
LAST-MODIFIED:20260205T221321Z
UID:10003672-1774742400-1774828799@discoverwisconsin.com
SUMMARY:Beloit International Film Festival
DESCRIPTION:The 21st Annual Beloit International Film Festival is coming March 25–29\, 2026!\nMark your calendars for four unforgettable days of independent film\, filmmaker Q&As\, special events\, and community fun in downtown Beloit.
URL:https://discoverwisconsin.com/event/beloit-international-film-festival-3/2026-03-29/
LOCATION:Downtown Beloit\, 300 Block of State Street\, Beloit\, WI\, 53511\, United States
ATTACH;FMTTYPE=image/jpeg:https://discoverwisconsin.com/wp-content/uploads/2026/02/Beloit-International-Film-Festival-scaled.jpg
END:VEVENT
END:VCALENDAR