BEGIN:VCALENDAR
VERSION:2.0
PRODID:-//Discover Wisconsin - ECPv6.15.17.1//NONSGML v1.0//EN
CALSCALE:GREGORIAN
METHOD:PUBLISH
X-ORIGINAL-URL:https://discoverwisconsin.com
X-WR-CALDESC:Events for Discover Wisconsin
REFRESH-INTERVAL;VALUE=DURATION:PT1H
X-Robots-Tag:noindex
X-PUBLISHED-TTL:PT1H
BEGIN:VTIMEZONE
TZID:America/Chicago
BEGIN:DAYLIGHT
TZOFFSETFROM:-0600
TZOFFSETTO:-0500
TZNAME:CDT
DTSTART:20230312T080000
END:DAYLIGHT
BEGIN:STANDARD
TZOFFSETFROM:-0500
TZOFFSETTO:-0600
TZNAME:CST
DTSTART:20231105T070000
END:STANDARD
BEGIN:DAYLIGHT
TZOFFSETFROM:-0600
TZOFFSETTO:-0500
TZNAME:CDT
DTSTART:20240310T080000
END:DAYLIGHT
BEGIN:STANDARD
TZOFFSETFROM:-0500
TZOFFSETTO:-0600
TZNAME:CST
DTSTART:20241103T070000
END:STANDARD
BEGIN:DAYLIGHT
TZOFFSETFROM:-0600
TZOFFSETTO:-0500
TZNAME:CDT
DTSTART:20250309T080000
END:DAYLIGHT
BEGIN:STANDARD
TZOFFSETFROM:-0500
TZOFFSETTO:-0600
TZNAME:CST
DTSTART:20251102T070000
END:STANDARD
END:VTIMEZONE
BEGIN:VEVENT
DTSTART;TZID=America/Chicago:20240825T100000
DTEND;TZID=America/Chicago:20240825T233000
DTSTAMP:20260421T095941
CREATED:20240712T130428Z
LAST-MODIFIED:20240712T130428Z
UID:10002522-1724580000-1724628600@discoverwisconsin.com
SUMMARY:Central Wisconsin State Fair
DESCRIPTION:There’s no better way sendoff summer than spending a week at the Central Wisconsin State Fair\, August 20-25\, 2024 at Marshfield Fairgrounds Park – Rise & Shine! Bring the whole family out to see 4-H and open class exhibits\, midway carnival rides and games\, commercial exhibits and special programs\, fair food\, and beer gardens. Rock out in the grandstand to the sound stylings of up-and-coming artists and classic favorites. Visit centralwisconsinstatefair.com for the complete schedule of activities and entertainment.
URL:https://discoverwisconsin.com/event/central-wisconsin-state-fair/2024-08-25/
LOCATION:Central Wisconsin State Fairground\, 513 E 17th St\, Marshfield\, WI\, 54449\, United States
ATTACH;FMTTYPE=image/png:https://discoverwisconsin.com/wp-content/uploads/2024/07/Screenshot-2024-07-12-at-8.03.34 AM.png
END:VEVENT
BEGIN:VEVENT
DTSTART;TZID=America/Chicago:20240824T100000
DTEND;TZID=America/Chicago:20240824T233000
DTSTAMP:20260421T095941
CREATED:20240712T130428Z
LAST-MODIFIED:20240712T130428Z
UID:10002521-1724493600-1724542200@discoverwisconsin.com
SUMMARY:Central Wisconsin State Fair
DESCRIPTION:There’s no better way sendoff summer than spending a week at the Central Wisconsin State Fair\, August 20-25\, 2024 at Marshfield Fairgrounds Park – Rise & Shine! Bring the whole family out to see 4-H and open class exhibits\, midway carnival rides and games\, commercial exhibits and special programs\, fair food\, and beer gardens. Rock out in the grandstand to the sound stylings of up-and-coming artists and classic favorites. Visit centralwisconsinstatefair.com for the complete schedule of activities and entertainment.
URL:https://discoverwisconsin.com/event/central-wisconsin-state-fair/2024-08-24/
LOCATION:Central Wisconsin State Fairground\, 513 E 17th St\, Marshfield\, WI\, 54449\, United States
ATTACH;FMTTYPE=image/png:https://discoverwisconsin.com/wp-content/uploads/2024/07/Screenshot-2024-07-12-at-8.03.34 AM.png
END:VEVENT
BEGIN:VEVENT
DTSTART;TZID=America/Chicago:20240823T100000
DTEND;TZID=America/Chicago:20240823T233000
DTSTAMP:20260421T095941
CREATED:20240712T130428Z
LAST-MODIFIED:20240712T130428Z
UID:10002520-1724407200-1724455800@discoverwisconsin.com
SUMMARY:Central Wisconsin State Fair
DESCRIPTION:There’s no better way sendoff summer than spending a week at the Central Wisconsin State Fair\, August 20-25\, 2024 at Marshfield Fairgrounds Park – Rise & Shine! Bring the whole family out to see 4-H and open class exhibits\, midway carnival rides and games\, commercial exhibits and special programs\, fair food\, and beer gardens. Rock out in the grandstand to the sound stylings of up-and-coming artists and classic favorites. Visit centralwisconsinstatefair.com for the complete schedule of activities and entertainment.
URL:https://discoverwisconsin.com/event/central-wisconsin-state-fair/2024-08-23/
LOCATION:Central Wisconsin State Fairground\, 513 E 17th St\, Marshfield\, WI\, 54449\, United States
ATTACH;FMTTYPE=image/png:https://discoverwisconsin.com/wp-content/uploads/2024/07/Screenshot-2024-07-12-at-8.03.34 AM.png
END:VEVENT
BEGIN:VEVENT
DTSTART;TZID=America/Chicago:20240822T100000
DTEND;TZID=America/Chicago:20240822T233000
DTSTAMP:20260421T095941
CREATED:20240712T130428Z
LAST-MODIFIED:20240712T130428Z
UID:10002519-1724320800-1724369400@discoverwisconsin.com
SUMMARY:Central Wisconsin State Fair
DESCRIPTION:There’s no better way sendoff summer than spending a week at the Central Wisconsin State Fair\, August 20-25\, 2024 at Marshfield Fairgrounds Park – Rise & Shine! Bring the whole family out to see 4-H and open class exhibits\, midway carnival rides and games\, commercial exhibits and special programs\, fair food\, and beer gardens. Rock out in the grandstand to the sound stylings of up-and-coming artists and classic favorites. Visit centralwisconsinstatefair.com for the complete schedule of activities and entertainment.
URL:https://discoverwisconsin.com/event/central-wisconsin-state-fair/2024-08-22/
LOCATION:Central Wisconsin State Fairground\, 513 E 17th St\, Marshfield\, WI\, 54449\, United States
ATTACH;FMTTYPE=image/png:https://discoverwisconsin.com/wp-content/uploads/2024/07/Screenshot-2024-07-12-at-8.03.34 AM.png
END:VEVENT
BEGIN:VEVENT
DTSTART;TZID=America/Chicago:20240821T100000
DTEND;TZID=America/Chicago:20240821T233000
DTSTAMP:20260421T095941
CREATED:20240712T130428Z
LAST-MODIFIED:20240712T130428Z
UID:10002518-1724234400-1724283000@discoverwisconsin.com
SUMMARY:Central Wisconsin State Fair
DESCRIPTION:There’s no better way sendoff summer than spending a week at the Central Wisconsin State Fair\, August 20-25\, 2024 at Marshfield Fairgrounds Park – Rise & Shine! Bring the whole family out to see 4-H and open class exhibits\, midway carnival rides and games\, commercial exhibits and special programs\, fair food\, and beer gardens. Rock out in the grandstand to the sound stylings of up-and-coming artists and classic favorites. Visit centralwisconsinstatefair.com for the complete schedule of activities and entertainment.
URL:https://discoverwisconsin.com/event/central-wisconsin-state-fair/2024-08-21/
LOCATION:Central Wisconsin State Fairground\, 513 E 17th St\, Marshfield\, WI\, 54449\, United States
ATTACH;FMTTYPE=image/png:https://discoverwisconsin.com/wp-content/uploads/2024/07/Screenshot-2024-07-12-at-8.03.34 AM.png
END:VEVENT
BEGIN:VEVENT
DTSTART;TZID=America/Chicago:20240820T100000
DTEND;TZID=America/Chicago:20240820T233000
DTSTAMP:20260421T095941
CREATED:20240712T130428Z
LAST-MODIFIED:20240712T130428Z
UID:10002517-1724148000-1724196600@discoverwisconsin.com
SUMMARY:Central Wisconsin State Fair
DESCRIPTION:There’s no better way sendoff summer than spending a week at the Central Wisconsin State Fair\, August 20-25\, 2024 at Marshfield Fairgrounds Park – Rise & Shine! Bring the whole family out to see 4-H and open class exhibits\, midway carnival rides and games\, commercial exhibits and special programs\, fair food\, and beer gardens. Rock out in the grandstand to the sound stylings of up-and-coming artists and classic favorites. Visit centralwisconsinstatefair.com for the complete schedule of activities and entertainment.
URL:https://discoverwisconsin.com/event/central-wisconsin-state-fair/2024-08-20/
LOCATION:Central Wisconsin State Fairground\, 513 E 17th St\, Marshfield\, WI\, 54449\, United States
ATTACH;FMTTYPE=image/png:https://discoverwisconsin.com/wp-content/uploads/2024/07/Screenshot-2024-07-12-at-8.03.34 AM.png
END:VEVENT
END:VCALENDAR