BEGIN:VCALENDAR
VERSION:2.0
PRODID:-//Discover Wisconsin - ECPv6.15.17.1//NONSGML v1.0//EN
CALSCALE:GREGORIAN
METHOD:PUBLISH
X-ORIGINAL-URL:https://discoverwisconsin.com
X-WR-CALDESC:Events for Discover Wisconsin
REFRESH-INTERVAL;VALUE=DURATION:PT1H
X-Robots-Tag:noindex
X-PUBLISHED-TTL:PT1H
BEGIN:VTIMEZONE
TZID:America/Chicago
BEGIN:DAYLIGHT
TZOFFSETFROM:-0600
TZOFFSETTO:-0500
TZNAME:CDT
DTSTART:20230312T080000
END:DAYLIGHT
BEGIN:STANDARD
TZOFFSETFROM:-0500
TZOFFSETTO:-0600
TZNAME:CST
DTSTART:20231105T070000
END:STANDARD
BEGIN:DAYLIGHT
TZOFFSETFROM:-0600
TZOFFSETTO:-0500
TZNAME:CDT
DTSTART:20240310T080000
END:DAYLIGHT
BEGIN:STANDARD
TZOFFSETFROM:-0500
TZOFFSETTO:-0600
TZNAME:CST
DTSTART:20241103T070000
END:STANDARD
BEGIN:DAYLIGHT
TZOFFSETFROM:-0600
TZOFFSETTO:-0500
TZNAME:CDT
DTSTART:20250309T080000
END:DAYLIGHT
BEGIN:STANDARD
TZOFFSETFROM:-0500
TZOFFSETTO:-0600
TZNAME:CST
DTSTART:20251102T070000
END:STANDARD
BEGIN:DAYLIGHT
TZOFFSETFROM:-0600
TZOFFSETTO:-0500
TZNAME:CDT
DTSTART:20260308T080000
END:DAYLIGHT
BEGIN:STANDARD
TZOFFSETFROM:-0500
TZOFFSETTO:-0600
TZNAME:CST
DTSTART:20261101T070000
END:STANDARD
END:VTIMEZONE
BEGIN:VEVENT
DTSTART;TZID=America/Chicago:20250816T090000
DTEND;TZID=America/Chicago:20250816T110000
DTSTAMP:20260424T091632
CREATED:20250501T145254Z
LAST-MODIFIED:20250501T145254Z
UID:10003447-1755334800-1755342000@discoverwisconsin.com
SUMMARY:Beloit Dirty Dash
DESCRIPTION:Get ready for the Dirty Dash\, a muddy\, messy\, and incredibly fun event that will challenge your limits while having a blast! Whether you’re running solo or with a team\, this exciting obstacle course features mud\, water\, and plenty of fun challenges that will leave you covered in dirt but smiling from ear to ear.
URL:https://discoverwisconsin.com/event/beloit-dirty-dash-2/
LOCATION:Big Hill Park\, 1201 Big Hill Ct.\, Beloit\, WI\, 53511\, United States
ATTACH;FMTTYPE=image/jpeg:https://discoverwisconsin.com/wp-content/uploads/2025/05/Beloit-Dirty-Dash.jpg
END:VEVENT
BEGIN:VEVENT
DTSTART;VALUE=DATE:20250126
DTEND;VALUE=DATE:20250127
DTSTAMP:20260424T091632
CREATED:20250110T190517Z
LAST-MODIFIED:20250110T190542Z
UID:10002679-1737849600-1737935999@discoverwisconsin.com
SUMMARY:Beloit Winterfest
DESCRIPTION:The winter fun continues after the holiday season with the annual Beloit Winterfest! This event transforms the city into a winter wonderland\, featuring a weekend of family-friendly activities. The City of Beloit Parks and Recreation Division collaborates with local businesses and organizations to host a variety of winter-themed events including ice skating\, bingo\, craft-making\, horse-drawn carriage rides\, and more throughout the weekend!
URL:https://discoverwisconsin.com/event/beloit-winterfest/2025-01-26/
LOCATION:Beloit\, Beloit\, WI\, 53511\, United States
ATTACH;FMTTYPE=image/jpeg:https://discoverwisconsin.com/wp-content/uploads/2025/01/Beloit-Winterfest.jpg
END:VEVENT
BEGIN:VEVENT
DTSTART;VALUE=DATE:20250125
DTEND;VALUE=DATE:20250126
DTSTAMP:20260424T091632
CREATED:20250110T190517Z
LAST-MODIFIED:20250110T190542Z
UID:10002678-1737763200-1737849599@discoverwisconsin.com
SUMMARY:Beloit Winterfest
DESCRIPTION:The winter fun continues after the holiday season with the annual Beloit Winterfest! This event transforms the city into a winter wonderland\, featuring a weekend of family-friendly activities. The City of Beloit Parks and Recreation Division collaborates with local businesses and organizations to host a variety of winter-themed events including ice skating\, bingo\, craft-making\, horse-drawn carriage rides\, and more throughout the weekend!
URL:https://discoverwisconsin.com/event/beloit-winterfest/2025-01-25/
LOCATION:Beloit\, Beloit\, WI\, 53511\, United States
ATTACH;FMTTYPE=image/jpeg:https://discoverwisconsin.com/wp-content/uploads/2025/01/Beloit-Winterfest.jpg
END:VEVENT
BEGIN:VEVENT
DTSTART;VALUE=DATE:20250124
DTEND;VALUE=DATE:20250125
DTSTAMP:20260424T091632
CREATED:20250110T190517Z
LAST-MODIFIED:20250110T190542Z
UID:10002677-1737676800-1737763199@discoverwisconsin.com
SUMMARY:Beloit Winterfest
DESCRIPTION:The winter fun continues after the holiday season with the annual Beloit Winterfest! This event transforms the city into a winter wonderland\, featuring a weekend of family-friendly activities. The City of Beloit Parks and Recreation Division collaborates with local businesses and organizations to host a variety of winter-themed events including ice skating\, bingo\, craft-making\, horse-drawn carriage rides\, and more throughout the weekend!
URL:https://discoverwisconsin.com/event/beloit-winterfest/2025-01-24/
LOCATION:Beloit\, Beloit\, WI\, 53511\, United States
ATTACH;FMTTYPE=image/jpeg:https://discoverwisconsin.com/wp-content/uploads/2025/01/Beloit-Winterfest.jpg
END:VEVENT
BEGIN:VEVENT
DTSTART;TZID=America/Chicago:20240817T090000
DTEND;TZID=America/Chicago:20240817T120000
DTSTAMP:20260424T091632
CREATED:20240619T131807Z
LAST-MODIFIED:20240619T131807Z
UID:10002509-1723885200-1723896000@discoverwisconsin.com
SUMMARY:Beloit Dirty Dash
DESCRIPTION:The 9th annual Beloit Dirty Dash returns to Big Hill Park in Beloit for kids ages 4-18. The event is a family mud run/obstacle course. All participants must register.
URL:https://discoverwisconsin.com/event/beloit-dirty-dash/
LOCATION:Big Hill Park\, 1201 Big Hill Ct.\, Beloit\, WI\, 53511\, United States
ATTACH;FMTTYPE=image/jpeg:https://discoverwisconsin.com/wp-content/uploads/2024/06/Beloit-Dirty-Dash.jpeg
END:VEVENT
END:VCALENDAR