BEGIN:VCALENDAR
VERSION:2.0
PRODID:-//Discover Wisconsin - ECPv6.15.17.1//NONSGML v1.0//EN
CALSCALE:GREGORIAN
METHOD:PUBLISH
X-WR-CALNAME:Discover Wisconsin
X-ORIGINAL-URL:https://discoverwisconsin.com
X-WR-CALDESC:Events for Discover Wisconsin
REFRESH-INTERVAL;VALUE=DURATION:PT1H
X-Robots-Tag:noindex
X-PUBLISHED-TTL:PT1H
BEGIN:VTIMEZONE
TZID:America/Chicago
BEGIN:DAYLIGHT
TZOFFSETFROM:-0600
TZOFFSETTO:-0500
TZNAME:CDT
DTSTART:20240310T080000
END:DAYLIGHT
BEGIN:STANDARD
TZOFFSETFROM:-0500
TZOFFSETTO:-0600
TZNAME:CST
DTSTART:20241103T070000
END:STANDARD
BEGIN:DAYLIGHT
TZOFFSETFROM:-0600
TZOFFSETTO:-0500
TZNAME:CDT
DTSTART:20250309T080000
END:DAYLIGHT
BEGIN:STANDARD
TZOFFSETFROM:-0500
TZOFFSETTO:-0600
TZNAME:CST
DTSTART:20251102T070000
END:STANDARD
BEGIN:DAYLIGHT
TZOFFSETFROM:-0600
TZOFFSETTO:-0500
TZNAME:CDT
DTSTART:20260308T080000
END:DAYLIGHT
BEGIN:STANDARD
TZOFFSETFROM:-0500
TZOFFSETTO:-0600
TZNAME:CST
DTSTART:20261101T070000
END:STANDARD
END:VTIMEZONE
BEGIN:VEVENT
DTSTART;TZID=America/Chicago:20250920T110000
DTEND;TZID=America/Chicago:20250920T170000
DTSTAMP:20260423T023351
CREATED:20250529T164848Z
LAST-MODIFIED:20250529T164848Z
UID:10003464-1758366000-1758387600@discoverwisconsin.com
SUMMARY:River Fest
DESCRIPTION:River Fest brings together Sheboygan residents and visitors alike for one day of live music\, local food\, vendor booths\, and family fun!
URL:https://discoverwisconsin.com/event/river-fest/
LOCATION:Sheboygan’s Riverfront\, 705 Riverfront Drive\, Sheboygan\, WI\, 53081\, United States
ATTACH;FMTTYPE=image/jpeg:https://discoverwisconsin.com/wp-content/uploads/2025/05/River-Fest.jpg
END:VEVENT
BEGIN:VEVENT
DTSTART;TZID=America/Chicago:20250812T170000
DTEND;TZID=America/Chicago:20250812T200000
DTSTAMP:20260423T023351
CREATED:20250529T164557Z
LAST-MODIFIED:20250529T164557Z
UID:10003463-1755018000-1755028800@discoverwisconsin.com
SUMMARY:8th Streatery
DESCRIPTION:8th Streatery is a weekly outdoor festival featuring a multi-restaurant\, in-street dining experience that brings the community together in the heart of downtown Sheboygan. Now in its fifth year\, this beloved festival is a celebration of local businesses and community spirit\, offering an opportunity for residents and visitors to enjoy the city’s finest cuisines in a lively and social atmosphere.
URL:https://discoverwisconsin.com/event/8th-streatery/2025-08-12/
LOCATION:Downtown Sheboygan\, S 8th St & Pennsylvania Ave\, Sheboygan\, WI\, 53081\, United States
ATTACH;FMTTYPE=image/jpeg:https://discoverwisconsin.com/wp-content/uploads/2025/05/8th-Streatery-scaled.jpg
END:VEVENT
BEGIN:VEVENT
DTSTART;TZID=America/Chicago:20250805T170000
DTEND;TZID=America/Chicago:20250805T200000
DTSTAMP:20260423T023351
CREATED:20250529T164557Z
LAST-MODIFIED:20250529T164557Z
UID:10003462-1754413200-1754424000@discoverwisconsin.com
SUMMARY:8th Streatery
DESCRIPTION:8th Streatery is a weekly outdoor festival featuring a multi-restaurant\, in-street dining experience that brings the community together in the heart of downtown Sheboygan. Now in its fifth year\, this beloved festival is a celebration of local businesses and community spirit\, offering an opportunity for residents and visitors to enjoy the city’s finest cuisines in a lively and social atmosphere.
URL:https://discoverwisconsin.com/event/8th-streatery/2025-08-05/
LOCATION:Downtown Sheboygan\, S 8th St & Pennsylvania Ave\, Sheboygan\, WI\, 53081\, United States
ATTACH;FMTTYPE=image/jpeg:https://discoverwisconsin.com/wp-content/uploads/2025/05/8th-Streatery-scaled.jpg
END:VEVENT
BEGIN:VEVENT
DTSTART;TZID=America/Chicago:20250729T170000
DTEND;TZID=America/Chicago:20250729T200000
DTSTAMP:20260423T023351
CREATED:20250529T164557Z
LAST-MODIFIED:20250529T164557Z
UID:10003461-1753808400-1753819200@discoverwisconsin.com
SUMMARY:8th Streatery
DESCRIPTION:8th Streatery is a weekly outdoor festival featuring a multi-restaurant\, in-street dining experience that brings the community together in the heart of downtown Sheboygan. Now in its fifth year\, this beloved festival is a celebration of local businesses and community spirit\, offering an opportunity for residents and visitors to enjoy the city’s finest cuisines in a lively and social atmosphere.
URL:https://discoverwisconsin.com/event/8th-streatery/2025-07-29/
LOCATION:Downtown Sheboygan\, S 8th St & Pennsylvania Ave\, Sheboygan\, WI\, 53081\, United States
ATTACH;FMTTYPE=image/jpeg:https://discoverwisconsin.com/wp-content/uploads/2025/05/8th-Streatery-scaled.jpg
END:VEVENT
BEGIN:VEVENT
DTSTART;TZID=America/Chicago:20250722T170000
DTEND;TZID=America/Chicago:20250722T200000
DTSTAMP:20260423T023351
CREATED:20250529T164557Z
LAST-MODIFIED:20250529T164557Z
UID:10003460-1753203600-1753214400@discoverwisconsin.com
SUMMARY:8th Streatery
DESCRIPTION:8th Streatery is a weekly outdoor festival featuring a multi-restaurant\, in-street dining experience that brings the community together in the heart of downtown Sheboygan. Now in its fifth year\, this beloved festival is a celebration of local businesses and community spirit\, offering an opportunity for residents and visitors to enjoy the city’s finest cuisines in a lively and social atmosphere.
URL:https://discoverwisconsin.com/event/8th-streatery/2025-07-22/
LOCATION:Downtown Sheboygan\, S 8th St & Pennsylvania Ave\, Sheboygan\, WI\, 53081\, United States
ATTACH;FMTTYPE=image/jpeg:https://discoverwisconsin.com/wp-content/uploads/2025/05/8th-Streatery-scaled.jpg
END:VEVENT
BEGIN:VEVENT
DTSTART;TZID=America/Chicago:20250715T170000
DTEND;TZID=America/Chicago:20250715T200000
DTSTAMP:20260423T023351
CREATED:20250529T164557Z
LAST-MODIFIED:20250529T164557Z
UID:10003459-1752598800-1752609600@discoverwisconsin.com
SUMMARY:8th Streatery
DESCRIPTION:8th Streatery is a weekly outdoor festival featuring a multi-restaurant\, in-street dining experience that brings the community together in the heart of downtown Sheboygan. Now in its fifth year\, this beloved festival is a celebration of local businesses and community spirit\, offering an opportunity for residents and visitors to enjoy the city’s finest cuisines in a lively and social atmosphere.
URL:https://discoverwisconsin.com/event/8th-streatery/2025-07-15/
LOCATION:Downtown Sheboygan\, S 8th St & Pennsylvania Ave\, Sheboygan\, WI\, 53081\, United States
ATTACH;FMTTYPE=image/jpeg:https://discoverwisconsin.com/wp-content/uploads/2025/05/8th-Streatery-scaled.jpg
END:VEVENT
BEGIN:VEVENT
DTSTART;TZID=America/Chicago:20250708T170000
DTEND;TZID=America/Chicago:20250708T200000
DTSTAMP:20260423T023351
CREATED:20250529T164557Z
LAST-MODIFIED:20250529T164557Z
UID:10003458-1751994000-1752004800@discoverwisconsin.com
SUMMARY:8th Streatery
DESCRIPTION:8th Streatery is a weekly outdoor festival featuring a multi-restaurant\, in-street dining experience that brings the community together in the heart of downtown Sheboygan. Now in its fifth year\, this beloved festival is a celebration of local businesses and community spirit\, offering an opportunity for residents and visitors to enjoy the city’s finest cuisines in a lively and social atmosphere.
URL:https://discoverwisconsin.com/event/8th-streatery/2025-07-08/
LOCATION:Downtown Sheboygan\, S 8th St & Pennsylvania Ave\, Sheboygan\, WI\, 53081\, United States
ATTACH;FMTTYPE=image/jpeg:https://discoverwisconsin.com/wp-content/uploads/2025/05/8th-Streatery-scaled.jpg
END:VEVENT
BEGIN:VEVENT
DTSTART;TZID=America/Chicago:20250701T170000
DTEND;TZID=America/Chicago:20250701T200000
DTSTAMP:20260423T023351
CREATED:20250529T164557Z
LAST-MODIFIED:20250529T164557Z
UID:10003457-1751389200-1751400000@discoverwisconsin.com
SUMMARY:8th Streatery
DESCRIPTION:8th Streatery is a weekly outdoor festival featuring a multi-restaurant\, in-street dining experience that brings the community together in the heart of downtown Sheboygan. Now in its fifth year\, this beloved festival is a celebration of local businesses and community spirit\, offering an opportunity for residents and visitors to enjoy the city’s finest cuisines in a lively and social atmosphere.
URL:https://discoverwisconsin.com/event/8th-streatery/2025-07-01/
LOCATION:Downtown Sheboygan\, S 8th St & Pennsylvania Ave\, Sheboygan\, WI\, 53081\, United States
ATTACH;FMTTYPE=image/jpeg:https://discoverwisconsin.com/wp-content/uploads/2025/05/8th-Streatery-scaled.jpg
END:VEVENT
BEGIN:VEVENT
DTSTART;TZID=America/Chicago:20250624T170000
DTEND;TZID=America/Chicago:20250624T200000
DTSTAMP:20260423T023351
CREATED:20250529T164557Z
LAST-MODIFIED:20250529T164557Z
UID:10003456-1750784400-1750795200@discoverwisconsin.com
SUMMARY:8th Streatery
DESCRIPTION:8th Streatery is a weekly outdoor festival featuring a multi-restaurant\, in-street dining experience that brings the community together in the heart of downtown Sheboygan. Now in its fifth year\, this beloved festival is a celebration of local businesses and community spirit\, offering an opportunity for residents and visitors to enjoy the city’s finest cuisines in a lively and social atmosphere.
URL:https://discoverwisconsin.com/event/8th-streatery/2025-06-24/
LOCATION:Downtown Sheboygan\, S 8th St & Pennsylvania Ave\, Sheboygan\, WI\, 53081\, United States
ATTACH;FMTTYPE=image/jpeg:https://discoverwisconsin.com/wp-content/uploads/2025/05/8th-Streatery-scaled.jpg
END:VEVENT
BEGIN:VEVENT
DTSTART;TZID=America/Chicago:20250617T170000
DTEND;TZID=America/Chicago:20250617T200000
DTSTAMP:20260423T023351
CREATED:20250529T164557Z
LAST-MODIFIED:20250529T164557Z
UID:10003455-1750179600-1750190400@discoverwisconsin.com
SUMMARY:8th Streatery
DESCRIPTION:8th Streatery is a weekly outdoor festival featuring a multi-restaurant\, in-street dining experience that brings the community together in the heart of downtown Sheboygan. Now in its fifth year\, this beloved festival is a celebration of local businesses and community spirit\, offering an opportunity for residents and visitors to enjoy the city’s finest cuisines in a lively and social atmosphere.
URL:https://discoverwisconsin.com/event/8th-streatery/2025-06-17/
LOCATION:Downtown Sheboygan\, S 8th St & Pennsylvania Ave\, Sheboygan\, WI\, 53081\, United States
ATTACH;FMTTYPE=image/jpeg:https://discoverwisconsin.com/wp-content/uploads/2025/05/8th-Streatery-scaled.jpg
END:VEVENT
BEGIN:VEVENT
DTSTART;TZID=America/Chicago:20250610T170000
DTEND;TZID=America/Chicago:20250610T200000
DTSTAMP:20260423T023351
CREATED:20250529T164557Z
LAST-MODIFIED:20250529T164557Z
UID:10003454-1749574800-1749585600@discoverwisconsin.com
SUMMARY:8th Streatery
DESCRIPTION:8th Streatery is a weekly outdoor festival featuring a multi-restaurant\, in-street dining experience that brings the community together in the heart of downtown Sheboygan. Now in its fifth year\, this beloved festival is a celebration of local businesses and community spirit\, offering an opportunity for residents and visitors to enjoy the city’s finest cuisines in a lively and social atmosphere.
URL:https://discoverwisconsin.com/event/8th-streatery/2025-06-10/
LOCATION:Downtown Sheboygan\, S 8th St & Pennsylvania Ave\, Sheboygan\, WI\, 53081\, United States
ATTACH;FMTTYPE=image/jpeg:https://discoverwisconsin.com/wp-content/uploads/2025/05/8th-Streatery-scaled.jpg
END:VEVENT
END:VCALENDAR