BEGIN:VCALENDAR
VERSION:2.0
PRODID:-//Discover Wisconsin - ECPv6.15.17.1//NONSGML v1.0//EN
CALSCALE:GREGORIAN
METHOD:PUBLISH
X-ORIGINAL-URL:https://discoverwisconsin.com
X-WR-CALDESC:Events for Discover Wisconsin
REFRESH-INTERVAL;VALUE=DURATION:PT1H
X-Robots-Tag:noindex
X-PUBLISHED-TTL:PT1H
BEGIN:VTIMEZONE
TZID:America/Chicago
BEGIN:DAYLIGHT
TZOFFSETFROM:-0600
TZOFFSETTO:-0500
TZNAME:CDT
DTSTART:20230312T080000
END:DAYLIGHT
BEGIN:STANDARD
TZOFFSETFROM:-0500
TZOFFSETTO:-0600
TZNAME:CST
DTSTART:20231105T070000
END:STANDARD
BEGIN:DAYLIGHT
TZOFFSETFROM:-0600
TZOFFSETTO:-0500
TZNAME:CDT
DTSTART:20240310T080000
END:DAYLIGHT
BEGIN:STANDARD
TZOFFSETFROM:-0500
TZOFFSETTO:-0600
TZNAME:CST
DTSTART:20241103T070000
END:STANDARD
BEGIN:DAYLIGHT
TZOFFSETFROM:-0600
TZOFFSETTO:-0500
TZNAME:CDT
DTSTART:20250309T080000
END:DAYLIGHT
BEGIN:STANDARD
TZOFFSETFROM:-0500
TZOFFSETTO:-0600
TZNAME:CST
DTSTART:20251102T070000
END:STANDARD
END:VTIMEZONE
BEGIN:VEVENT
DTSTART;TZID=America/Chicago:20240914T060000
DTEND;TZID=America/Chicago:20240914T180000
DTSTAMP:20260425T105018
CREATED:20240301T174347Z
LAST-MODIFIED:20240301T174347Z
UID:10000389-1726293600-1726336800@discoverwisconsin.com
SUMMARY:Chequamegon MTB Festival
DESCRIPTION:One of the most revered off-road mountain bike (MTB) festivals in the country\, the Chequamegon MTB Festival attracts some of the best off-road enthusiasts to the big woods of northwestern Wisconsin. There’s fun for the whole family\nthree race options (including Little Loggers) and a weekend of live music\, craft beer\, and savory truck eats.
URL:https://discoverwisconsin.com/event/chequamegon-mtb-festival/
LOCATION:American Birkebeiner Trailhead\, 42225 Telemark Road\, Cable\, WI\, United States
ATTACH;FMTTYPE=image/jpeg:https://discoverwisconsin.com/wp-content/uploads/2024/03/94023256-b35b-410c-a883-9de0da5875dd-add_your_photo_here-events_hayward_chequamegon-MTB-Festival.jpeg
END:VEVENT
END:VCALENDAR